BEGIN:VCALENDAR
VERSION:2.0
PRODID:-//Depot Dortmund//NONSGML kigkonsult.se iCalcreator 2.30.10//
CALSCALE:GREGORIAN
METHOD:PUBLISH
UID:d6c1e0cc-33bb-4c49-a498-def836bed111
X-WR-CALNAME:iCagenda
X-WR-CALDESC:Event Management Extension for Joomla!
X-WR-RELCALID:3E26604A-50F4-4449-8B3E-E4F4932D05B5
X-WR-TIMEZONE:Europe/Berlin
BEGIN:VTIMEZONE
TZID:Europe/Berlin
BEGIN:STANDARD
TZNAME:CET
DTSTART:20251026T030000
TZOFFSETFROM:+0200
TZOFFSETTO:+0100
RDATE:20261025T030000
END:STANDARD
BEGIN:DAYLIGHT
TZNAME:CEST
DTSTART:20260329T020000
TZOFFSETFROM:+0100
TZOFFSETTO:+0200
RDATE:20270328T020000
END:DAYLIGHT
END:VTIMEZONE
BEGIN:VEVENT
UID:663f30d3-b118-4549-8181-437fb72b25b8
DTSTAMP:20260424T081137Z
CATEGORIES:Konzert
CLASS:PUBLIC
DESCRIPTION;ALTREP="CID:<FFFF__=0ABBE548DFE235B58f9e8a93d@coffeebean.com>":
 Seit 10 Jahren wird die Veranstaltung Songs &amp\; Cakes regelmäßig von de
 n Betreiber*innen des ehemaligen REKORDERS in Dortmund durchgeführt. Das K
 onzept ist so einfach\, wie es schön ist: Bei Acoustic-Livemusik\, Kaffee\
 , Kuchen und kühlen Drinks findet das Wochenende einen sanften Ausklang un
 d bietet noch einmal die Möglichkeit\, entspannt durchzuatmen. Im Depot is
 t die REKORDER Crew mit dem Format schon länger Stammgast und begeistert a
 uch dieses Mal wieder mit musikalischem Fingerspitzengefühl: Sorin verbind
 et Indie-Folk mit Elementen aus Alternative und Americana und schafft dabe
 i einen Sound\, der zugleich intim\, weit und atmosphärisch wirkt. In sein
 en Songs verhandelt er ungeklärte Gefühle\, innere Reibung und die Sehnsuc
 ht nach Harmonie. Bereits vor der Veröffentlichung seines Debütalbums 2024
  spielte er als Support für internationale Acts wie Charlie Cunningham\, K
 hruangbin\, Maps &amp\; Atlases und Kat Frankie. Sein Album while the tide
 s turn erhielt Airplay bei FluxFM\, Fritz\, Radio Eins und Deutschlandfunk
  Kultur\; zudem war seine Musik bereits in internationalen TV-Produktionen
  zu hören. Derzeit arbeitet Sorin an seiner zweiten EP. Erste neue Singles
  erscheinen ab April 2026.\n\nDer Eintritt ist frei\, Kuchen und Getränke 
 (auch in veganen Optionen) gibt’s gegen Spende.\n&nbsp\;\n\nFoto: Alexande
 r Steffens\n&nbsp\;\nIn Kooperation mit:&nbsp\;\n\ngefördert von:&nbsp\;
DTSTART:20260426T130000Z
DTEND:20260426T130000Z
GEO:00;0
LOCATION:TREIBHAUS
ORGANIZER:
SEQUENCE:1
SUMMARY:Songs & Cakes
TRANSP:OPAQUE
URL:https://www.depotdortmund.de/592-songs-cakes-4/2026-04-26-15-00.html
END:VEVENT
END:VCALENDAR
