BEGIN:VCALENDAR
VERSION:2.0
PRODID:-//Depot Dortmund//NONSGML kigkonsult.se iCalcreator 2.30.10//
CALSCALE:GREGORIAN
METHOD:PUBLISH
UID:c1f7cb6c-0814-4ec8-b7e1-23e4312ef26d
X-WR-CALNAME:iCagenda
X-WR-CALDESC:Event Management Extension for Joomla!
X-WR-RELCALID:3E26604A-50F4-4449-8B3E-E4F4932D05B5
X-WR-TIMEZONE:Europe/Berlin
BEGIN:VTIMEZONE
TZID:Europe/Berlin
BEGIN:STANDARD
TZNAME:CET
DTSTART:20251026T030000
TZOFFSETFROM:+0200
TZOFFSETTO:+0100
RDATE:20261025T030000
END:STANDARD
BEGIN:DAYLIGHT
TZNAME:CEST
DTSTART:20250330T020000
TZOFFSETFROM:+0100
TZOFFSETTO:+0200
RDATE:20260329T020000
RDATE:20270328T020000
END:DAYLIGHT
END:VTIMEZONE
BEGIN:VEVENT
UID:d53d3e94-9d4e-4ade-ab46-a2a33e39cf8c
DTSTAMP:20260421T164746Z
CATEGORIES:Märkte & Festivals
CLASS:PUBLIC
DESCRIPTION;ALTREP="CID:<FFFF__=0ABBE548DFE235B58f9e8a93d@coffeebean.com>":
 Am 22. März 2026 lädt Pinguin Pido wieder zum großen Kindertrödel mit Kult
 ur- und Kreativprogramm ins Depot!\n&nbsp\;\nOb Stofftier\, Skihose oder S
 chleichfigur: Auf Pidos Kinderkram in der Mittelhalle\, gesponsert von der
  DEW21\, finden große Schätze und kleine Trödelfans zusammen. Verkauft wir
 d an den rein privaten Flohmarktständen alles\, was das Herz begehrt und d
 en Alltag für Kids und Eltern noch bunter macht. Dazu gibt es wie immer ei
 ne Reihe von Bastelstationen\, an denen Sockenhasen gebastelt und allerlei
  Wasserexperimente getestet werden können.&nbsp\;Schon fast traditionell f
 liegt durch die Luft\, wer sich auf die Hüpfburg am Ende der Halle traut. 
 Freut euch auf einen bunten Mix aus Kreativspaß und tollen Gewinnen!\nPing
 uin Pido und die Kinderkram-Crew freuen sich auf einen wundervollen Famili
 ensonntag im Depot\, wo drinnen wetterunabhängig nach Herzenslust getrödel
 t\, gebastelt und gespielt werden kann!\n&nbsp\;\nGesponsert von:\n\n
DTSTART:20260322T100000Z
DTEND:20260322T100000Z
GEO:00;0
LOCATION:Halle
ORGANIZER:
SEQUENCE:1
SUMMARY:Pidos Kinderkram
TRANSP:OPAQUE
URL:https://www.depotdortmund.de/585-pidos-kinderkram/2026-03-22-11-00.html
END:VEVENT
END:VCALENDAR
