BEGIN:VCALENDAR
VERSION:2.0
PRODID:-//Depot Dortmund//NONSGML kigkonsult.se iCalcreator 2.30.10//
CALSCALE:GREGORIAN
METHOD:PUBLISH
UID:3e95eba3-5f1a-4bca-a95c-e971686512dc
X-WR-CALNAME:iCagenda
X-WR-CALDESC:Event Management Extension for Joomla!
X-WR-RELCALID:3E26604A-50F4-4449-8B3E-E4F4932D05B5
X-WR-TIMEZONE:Europe/Berlin
BEGIN:VTIMEZONE
TZID:Europe/Berlin
BEGIN:STANDARD
TZNAME:CET
DTSTART:20251026T030000
TZOFFSETFROM:+0200
TZOFFSETTO:+0100
RDATE:20261025T030000
END:STANDARD
BEGIN:DAYLIGHT
TZNAME:CEST
DTSTART:20250330T020000
TZOFFSETFROM:+0100
TZOFFSETTO:+0200
RDATE:20260329T020000
RDATE:20270328T020000
END:DAYLIGHT
END:VTIMEZONE
BEGIN:VEVENT
UID:4ec222c2-d15b-4364-8557-5ae6760712a3
DTSTAMP:20260422T215412Z
CATEGORIES:Märkte & Festivals
CLASS:PUBLIC
DESCRIPTION;ALTREP="CID:<FFFF__=0ABBE548DFE235B58f9e8a93d@coffeebean.com>":
 Die Nachtflohmarkt-Crew lädt im März zu einer Runde Trödel\, Musik und Kul
 turprogramm. Wie immer warten in der Mittelhalle zahlreiche private Stände
  mit Vintage-Schätzen und Dachbodenfunden. Dazu gibt es Livemusik\, Geträn
 ke und kulinarische Kleinigkeiten\, die einen abendlichen Flohmarktbummel 
 noch schöner machen.\n&nbsp\;\nBITTE BEACHTEN: Die Bewerbungsphase für ein
 en Stand ist beendet. Um den Bewerbungsstart für den Nachtflohmarkt am 07.
 11.26 nicht zu verpassen folgt uns auf Facebook oder Instagram und abonnie
 rt unseren Newsletter.\n&nbsp\;\nAUF DER BÜHNE: &gt\;&gt\;ALIENS OF LIEDER
 MACHER&lt\;&lt\;\nAls ALIENS OF LIEDERMACHER befinden sich Jörg Böhm und P
 hil Dous auf einer einzigartigen musikalischen Reise\, die irgendwo zwisch
 en Akustikklampfe und deutschsprachigem Elektro-Alternativ Grunge angesied
 elt ist. Sie bieten eine abwechslungsreiche Mischung aus Liedermacherkultu
 r\, Grunge\, Punk und Retro Future Elementen. Am 22.11. erfolgte mit “Scha
 mane“ ein zweites Release.\nFoto: privat\n&nbsp\;\nAN DEN PLATTENTELLERN: 
 &gt\;&gt\;PSYCHOTRONIC DJ-TEAM&lt\;&lt\;&nbsp\;&gt\;&gt\;DJ MARTINI&lt\;&l
 t\;\n\n\nEigentlich sollte das Psychotronische Bildungswerk den Soundtrack
  zum Nachtflohmarkt beisteuern. Angekündigt waren wildes Easy Listening\, 
 obskure Werbesingles\, sonderbarer Post Punk und groovige Funkbeats. Aus g
 esundheitlichen Gründen muss das Bildungswerk leider passen. DJ Martini sp
 ringt ein – und wird sich größte Mühe geben\, dem psychotronischen Anspruc
 h gerecht zu werden.\n&nbsp\;Foto: privat\n&nbsp\;\nDas Rahmenprogramm wir
 d unterstützt von EKAMINA - Abende am Elektrischen Kamin.\n\nDer Nachtfloh
 markt wird gesponsert von:\n
DTSTART:20260321T160000Z
DTEND:20260321T160000Z
GEO:00;0
LOCATION:Halle
ORGANIZER:
SEQUENCE:1
SUMMARY:Nachtflohmarkt
TRANSP:OPAQUE
URL:https://www.depotdortmund.de/584-nachtflohmarkt-18/2026-03-21-17-00.htm
 l
END:VEVENT
END:VCALENDAR
