BEGIN:VCALENDAR
VERSION:2.0
PRODID:-//Depot Dortmund//NONSGML kigkonsult.se iCalcreator 2.30.10//
CALSCALE:GREGORIAN
METHOD:PUBLISH
UID:21eb5ba9-4325-4973-a36c-054915916964
X-WR-CALNAME:iCagenda
X-WR-CALDESC:Event Management Extension for Joomla!
X-WR-RELCALID:3E26604A-50F4-4449-8B3E-E4F4932D05B5
X-WR-TIMEZONE:Europe/Berlin
BEGIN:VTIMEZONE
TZID:Europe/Berlin
BEGIN:STANDARD
TZNAME:CET
DTSTART:20251026T030000
TZOFFSETFROM:+0200
TZOFFSETTO:+0100
RDATE:20261025T030000
END:STANDARD
BEGIN:DAYLIGHT
TZNAME:CEST
DTSTART:20250330T020000
TZOFFSETFROM:+0100
TZOFFSETTO:+0200
RDATE:20260329T020000
RDATE:20270328T020000
END:DAYLIGHT
END:VTIMEZONE
BEGIN:VEVENT
UID:bb9db076-a5cf-44df-9588-dea293dad052
DTSTAMP:20260422T215651Z
CATEGORIES:Märkte & Festivals
CLASS:PUBLIC
DESCRIPTION;ALTREP="CID:<FFFF__=0ABBE548DFE235B58f9e8a93d@coffeebean.com>":
 Die Nachtflohmarkt-Crew lädt im Februar zu einer Runde Trödel\, Musik und 
 Kulturprogramm. Wie immer warten in der Mittelhalle zahlreiche private Stä
 nde mit Vintage-Schätzen und Dachbodenfunden. Dazu gibt es Livemusik\, Get
 ränke und kulinarische Kleinigkeiten\, die einen abendlichen Flohmarktbumm
 el noch schöner machen.\n&nbsp\;\nBITTE BEACHTEN: Die Bewerbungsphase für 
 einen Stand ist beendet. Um den&nbsp\;Bewerbungsstart für den Nachtflohmar
 kt am 07.11.26 nicht zu verpassen folgt uns auf Facebook oder Instagram un
 d abonniert unseren Newsletter.\n&nbsp\;\nAUF DER BÜHNE: &gt\;&gt\;JAANA R
 EDFLOWER AKUSTIK ROCK DUO &lt\;&lt\;\nDas Jaana Redflower Akustik Rock Duo
  kommt aus dem Ruhrpott und spielt eine bunte Mischung aus Retro Hard Rock
 \, Blues\, Soul und Alternative Rock\, mit ein paar eingestreuten Coverson
 gs\, z.B. von Janis Joplin und Jefferson Airplane. Ihr Erkennungsmerkmal: 
 die Rockröhre mit roter Blume am Hut.\nFoto:&nbsp\;Adrian Klawitter\n&nbsp
 \;\nAN DEN PLATTENTELLERN: &gt\;&gt\;TIMMI TWISTER DJ-SET&lt\;&lt\;\nTIMMI
  &amp\; MARTINI sind die ungekrönten Könige der musikalischen Mottoabende.
  In ihren Plattenkisten lagern Vinyl-Schätze zu Themen wie „Blau“ oder „We
 ltraum“ oder „Essen und Trinken“ oder „Der Mythos Johnny in der Musik“. Am
  Valentinstag legen sie selbstredend nur Platten auf den Teller\, die von 
 Blumen\, Lust und Liebe handeln. Genreübergreifend international.\nFoto: p
 rivat\n&nbsp\;\nDas Rahmenprogramm wird unterstützt von EKAMINA - Abende a
 m Elektrischen Kamin.\n\nDer Nachtflohmarkt wird gesponsert von:\n
DTSTART:20260214T160000Z
DTEND:20260214T160000Z
GEO:00;0
LOCATION:Halle
ORGANIZER:
SEQUENCE:1
SUMMARY:Nachtflohmarkt
TRANSP:OPAQUE
URL:https://www.depotdortmund.de/582-nachtflohmarkt-17/2026-02-14-17-00.htm
 l
END:VEVENT
END:VCALENDAR
