BEGIN:VCALENDAR
VERSION:2.0
PRODID:-//Depot Dortmund//NONSGML kigkonsult.se iCalcreator 2.30.10//
CALSCALE:GREGORIAN
METHOD:PUBLISH
UID:551142d8-1fd9-4bcb-8b09-4fda24ceb37b
X-WR-CALNAME:iCagenda
X-WR-CALDESC:Event Management Extension for Joomla!
X-WR-RELCALID:3E26604A-50F4-4449-8B3E-E4F4932D05B5
X-WR-TIMEZONE:Europe/Berlin
BEGIN:VTIMEZONE
TZID:Europe/Berlin
BEGIN:STANDARD
TZNAME:CET
DTSTART:20251026T030000
TZOFFSETFROM:+0200
TZOFFSETTO:+0100
RDATE:20261025T030000
END:STANDARD
BEGIN:DAYLIGHT
TZNAME:CEST
DTSTART:20250330T020000
TZOFFSETFROM:+0100
TZOFFSETTO:+0200
RDATE:20260329T020000
RDATE:20270328T020000
END:DAYLIGHT
END:VTIMEZONE
BEGIN:VEVENT
UID:7f66992e-46da-4b4d-a6b2-6489b83a2288
DTSTAMP:20260422T233557Z
CATEGORIES:Ausstellung
CLASS:PUBLIC
DESCRIPTION;ALTREP="CID:<FFFF__=0ABBE548DFE235B58f9e8a93d@coffeebean.com>":
 Vom 18. Dezember 2025 bis zum 18. Januar 2026 werden in der Gemeinschaftsa
 usstellung „Grafik aus Dortmund 2025“ 36 Positionen Dortmunder Künstler*in
 nen präsentiert. Die gezeigten Werke und Künstler*innen wurden von der Jur
 y des diesjährigen Grafik-Wettbewerbs zur Teilnahme an der Ausstellung aus
 gewählt. Besucher*innen erwartet dabei eine abwechslungsreiche und inspiri
 erende Schau\, bei der jede*r der ausgewählten Künstler*innen eine Wandflä
 che von 2m x 2m individuell gestaltet.\nBegleitend zur Ausstellung erschei
 nt zum zweiten Mal die Grafik aus Dortmund-Grußkarten-Edition\, die im Rah
 men der Vernissage und Finissage im Depot zum Kauf angeboten wird. Sechs K
 ünstler*innen wurden in einer zweiten Juryrunde für die Gestaltung der Gru
 ßkarten-Edition ausgewählt und sind ebenfalls mit einer Wandfläche in der 
 Ausstellung im Depot vertreten.\nDer seit 1977 bestehende Wettbewerb „Graf
 ik aus Dortmund“ wird vom Kulturbüro Dortmund in Kooperation mit der Spark
 asse Dortmund als Förderin organisiert und vom Dortmunder Kunstverein unte
 rstützt.\nExklusive Grußkarten-Edition\nDie exklusive Grafik aus Dortmund 
 Grußkarten-Edition besteht aus sechs Grußkarten\, die im Offsetdruck mit S
 iebdruckveredelungen produziert und zusammen mit passenden Umschlägen in e
 iner edlen Kartonage verpackt werden. Sechs von der Jury ausgewählte Künst
 ler*innen gestalten die Karten jährlich – entweder mit ihrem Ausstellungsw
 erk oder mit einem eigens für die Grußkarten gestalteten Entwurf in Anlehn
 ung an die ausgestellten Werke.\nWeitere Informationen zum Gesamtprojekt u
 nter Grafik aus Dortmund: Home\n&nbsp\;\nGewinner*innen des Wettbewerbs\nG
 rußkarten-Edition\nGrafik aus Dortmund-Grußkarten-Edition 2025\nThomas Aut
 ering\, Lucas Boelter\, Era Freidzon\, Max Gladisch\,Silvia Liebig\, Fatma
  Özay\nGrafik aus Dortmund-Ausstellung 2025\nThomas Autering\, Marika Berg
 mann\, Susanne Beringer\, Lucas Boelter\, Marc Bühren\, Dr. Rudolf Preuss\
 , Michaela Düllberg\, Petra Eick\,Elwira Anastazja Fieducik\,\nEra Freidzo
 n\, Max Gladisch\, Sabine Gorski\, Aurélien Guillery\, Karoline Jakubik\,
 \nClaudia Karweick\, Sönke Kirsch\, Claudia König\, Eveline Kulik\, Sabine
  Leven\, Silvia Liebig\, Babette Martini\, Sabine Mattstedt\, Sabrina Merd
 zanovic\, Melanie Milo\, Steffen Mischke\, Irina Mitaenko\, Hendrik Müller
 \, Jutta Niggemann\, Willi Otremba\, Fatma Özay\, Eleonora Reimer\, Bettin
 a Rinne\, Denise Ritter\, Angelina Rolla\, Thomas Schroeter\, Bärbel Thier
 -Jaspert\n&nbsp\;\nPartner*innen der Ausstellung\nSparkasse Dortmund\, Dor
 tmunder Kunstverein\, Druckerei Klenke
DTSTART:20260118T140000Z
DTEND:20260118T140000Z
GEO:00;0
LOCATION:Halle
ORGANIZER;CN=:kgellermann@stadtdo.de
SEQUENCE:1
SUMMARY:Finissage Grafik aus Dortmund 2025
TRANSP:OPAQUE
URL:https://www.depotdortmund.de/578-grafik-aus-dortmund-2027/2026-01-18-15
 -00.html
END:VEVENT
END:VCALENDAR
