BEGIN:VCALENDAR
VERSION:2.0
PRODID:-//Depot Dortmund//NONSGML kigkonsult.se iCalcreator 2.30.10//
CALSCALE:GREGORIAN
METHOD:PUBLISH
UID:088aeba5-9c83-4e1c-8cbc-11d2dff1cfe4
X-WR-CALNAME:iCagenda
X-WR-CALDESC:Event Management Extension for Joomla!
X-WR-RELCALID:3E26604A-50F4-4449-8B3E-E4F4932D05B5
X-WR-TIMEZONE:Europe/Berlin
BEGIN:VTIMEZONE
TZID:Europe/Berlin
BEGIN:STANDARD
TZNAME:CET
DTSTART:20251026T030000
TZOFFSETFROM:+0200
TZOFFSETTO:+0100
RDATE:20261025T030000
END:STANDARD
BEGIN:DAYLIGHT
TZNAME:CEST
DTSTART:20250330T020000
TZOFFSETFROM:+0100
TZOFFSETTO:+0200
RDATE:20260329T020000
RDATE:20270328T020000
END:DAYLIGHT
END:VTIMEZONE
BEGIN:VEVENT
UID:82981a7e-21a7-483a-9a71-42e8a0984980
DTSTAMP:20260423T021051Z
CATEGORIES:Kino
CLASS:PUBLIC
DESCRIPTION;ALTREP="CID:<FFFF__=0ABBE548DFE235B58f9e8a93d@coffeebean.com>":
 Anlässlich des 30. Jubiläums des Depot e.V. zeigt das SweetSixteen Kino an
  jedem zweiten Freitag im Monat einen Film aus dem Gründungsjahr 1995.\nVo
 r nunmehr 30 Jahren hat sich der Depot e.V. als Verein gegründet. Entsprun
 gen aus der Suche nach geeigneten Räumen und Möglichkeiten künstlerisch\, 
 kreativ zu arbeiten ist man damals auf das verlassene Starßenbahndepot in 
 der Immermannstraße gestoßen. Getrieben von unbändiger Leidenschaft und Ta
 tendrang hat sich schnell ein großer Kreis von Nutzenden und Unterstützend
 en gefunden. In viel Eigenleistung sind Werkstätten\, Ateliers und Veranst
 altungsräume entstanden. Im Jahr 2001 konnte dann nach einer längeren Umba
 uphase das Depot wie ihr es heute kennt eröffnet werden. Inzwischen sind m
 ehr als 40 Nutzende aus unterschiedlichen Bereichen der Kunst- und Kulturw
 irtschaft im Depot ansässig und tätig.\nDas sweetSixteen Kino ist zwar etw
 as später dazugestoßen\, hat das Depot Jubiläum aber als Anlass genommen e
 inen Blick zurück in die Filmgeschichte zu werfen. Welche Filme wurden 199
 5 in den Programmkinos gezeigt\, welche sind vielleicht zum Klassiker\, zu
 m Kultfilm geworden und welche haben uns ganz besonders gut gefallen. Dara
 us entstanden ist eine kleine Filmreihe mit\, wie wir finden\, ganz besond
 ers schönen\, wichtigen und prägenden Filmen aus dem Jahr 1995.\nJeweils a
 m zweiten Freitag um 19:00 Uhr laden wir euch herzlich dazu ein mit uns di
 ese Reise in die Vergangenheit zu vollziehen und schon lange nicht mehr (o
 der vielleicht noch nie) gesehene Lieblingsfilme zu schauen.\n&nbsp\;\nDas
  Programm\nFreitag\, 10.10.2025\, 19:00 Uhr\nClerks – Die Ladenhüter&nbsp\
 ;OmU(Komödie\, US 1994\, 92 Min.\, FSK: ohne Angabe\, Regie: Kevin Smith)
 \nKevin Smiths kultiges Spielfilmdebüt wurde mit minimalem Budget\, viel I
 mprovisation und Herzblut gedreht – und avancierte schnell zum Klassiker d
 er Independent-Szene. Die schwarz-weiße Komödie begleitet einen chaotische
 n Arbeitstag von Dante Hicks\, der eigentlich frei haben sollte\, nun aber
  im kleinen Quick-Stop Laden aushilft. Zwischen skurrilen Kund*innen\, sei
 nem besten Freund Randal aus dem Videoladen nebenan und turbulenten Bezieh
 ungsgesprächen gerät sein Tag völlig aus dem Ruder. Mit Humor\, schlagfert
 igen Dialogen und rauem Charme wurde Clerks zu einem Phänomen der 90er-Jah
 re und zum Startpunkt für Kevin Smiths Karriere.\n&nbsp\;\nFreitag\, 14.11
 .2025\, 19:00 Uhr\nDead Man(Drama/Western\, US/JA/DE 1995\, 116 Min.\, FSK
 : ab 16 Jahre\, Regie: Jim Jarmusch)\nJim Jarmuschs außergewöhnlicher Schw
 arzweiß-Western begleitet den schüchternen Buchhalter William Blake (Johnn
 y Depp)\, der nach einem tödlichen Zwischenfall auf der Flucht durch den W
 ilden Westen ist. An seiner Seite: der geheimnisvolle Nobody (Gary Farmer)
 \, der ihn für eine Reinkarnation des Dichters William Blake hält. Dead Ma
 n ist kein klassischer Western\, sondern ein meditatives\, düsteres Roadmo
 vie über Leben\, Tod und kulturelle Brüche – getragen von Neil Youngs hypn
 otischem Gitarrensoundtrack.\n&nbsp\;\nFreitag\, 19.12.2025\, 19:00 Uhr\nS
 moke – Raucher unter sich(Tragikomödie\, DE/US 1995\, 110 Min\, FSK: ab 12
  Jahre\, Regie: Paul Auster/ Wayne Wang)\nSmoke ist eine melancholische Li
 ebeserklärung an das Alltägliche. Im Mittelpunkt steht Auggie (Harvey Keit
 el)\, Besitzer eines Tabakladens in Brooklyn\, der jeden Morgen um Punkt a
 cht die Kreuzung vor seinem Laden fotografiert. Sein Laden wird zum Treffp
 unkt für skurrile\, verletzliche\, liebenswerte Figuren – darunter der Sch
 riftsteller Paul (William Hurt)\, der seit dem Tod seiner Frau nicht mehr 
 schreiben kann\, und der junge Rashid (Harold Parrineau Jr.)\, der sein Le
 ben neu sortieren will. Smoke verwebt ihre Geschichten zu einem leisen\, w
 armen Porträt über Zufälle\, Begegnungen und die kleinen Momente\, die uns
 er Leben prägen.\n&nbsp\;\nTipp: Zu jeder der Vorstellungen verlosen wir i
 nsgesamt 30 Tickets auf Instagram!\n
DTSTART:20251114T180000Z
DTEND:20251114T180000Z
GEO:00;0
LOCATION:sweetSixteen Kino
ORGANIZER:
SEQUENCE:1
SUMMARY:Zurück auf der Leinwand: Filme aus dem Gründungsjahr '95
TRANSP:OPAQUE
URL:https://www.depotdortmund.de/570-zurueck-auf-der-leinwand-filme-aus-dem
 -gruendungsjahr-96/2025-11-14-19-00.html
END:VEVENT
END:VCALENDAR
