BEGIN:VCALENDAR
VERSION:2.0
PRODID:-//Depot Dortmund//NONSGML kigkonsult.se iCalcreator 2.30.10//
CALSCALE:GREGORIAN
METHOD:PUBLISH
UID:9297dfe4-8775-4f88-827f-cd415fcd8446
X-WR-CALNAME:iCagenda
X-WR-CALDESC:Event Management Extension for Joomla!
X-WR-RELCALID:3E26604A-50F4-4449-8B3E-E4F4932D05B5
X-WR-TIMEZONE:Europe/Berlin
BEGIN:VTIMEZONE
TZID:Europe/Berlin
BEGIN:STANDARD
TZNAME:CET
DTSTART:20251026T030000
TZOFFSETFROM:+0200
TZOFFSETTO:+0100
RDATE:20261025T030000
END:STANDARD
BEGIN:DAYLIGHT
TZNAME:CEST
DTSTART:20250330T020000
TZOFFSETFROM:+0100
TZOFFSETTO:+0200
RDATE:20260329T020000
RDATE:20270328T020000
END:DAYLIGHT
END:VTIMEZONE
BEGIN:VEVENT
UID:5a5e8185-a4b4-400f-815f-6763dce3b22f
DTSTAMP:20260420T030607Z
CATEGORIES:Vortrag
CLASS:PUBLIC
DESCRIPTION;ALTREP="CID:<FFFF__=0ABBE548DFE235B58f9e8a93d@coffeebean.com>":
 Der Dokumentarfilm The Stringer (2025) wirft neue Fragen zur Urheberschaft
  des weltbekannten Fotos The Terror of War auf\, das seit 1972 als Symbol 
 des Vietnamkriegs gilt. Während das Bild bislang dem AP-Fotografen Nick Út
  zugeschrieben wurde\, deuten aktuelle Recherchen auf eine komplexere Ents
 tehungsgeschichte hin.\nDer Foto-Historiker Michael Ebert\, der seit Jahre
 n zu diesem Foto forscht und auch an den Untersuchungen der Nachrichtenage
 ntur AP beteiligt war\, ordnet in seinem Vortrag die neuesten Erkenntnisse
  ein und beleuchtet die Hintergründe eines der einflussreichsten Bilder de
 s 20. Jahrhunderts.\n&nbsp\;\nWeiteres Rahmenprogramm:\nDO 06.11.2025\, 17
 :00 Uhr | sweetSixteen Kino im Depot“Democracy Dies in Daylight”– Rafael H
 eygster über sein dokumentarisches Fotoprojekt\n&nbsp\;\nFührungen\nIm Rah
 men von zehn öffentlichen Führungen gibt es die Gelegenheit\, noch tiefer 
 in die Welt der Pressefotografie einzutauchen. Fotografen Jan Schmitz und 
 Peter Lutz begleiten die Besucher*innen mit fotografischem Know-how und sp
 annenden Hintergrundinformationen durch die Ausstellung.&nbsp\;Die Dauer d
 er Führungen beträgt jeweils ca. eine Stunde\, die Tickets erhalten Sie üb
 er unseren Onlineshop. Bitte beachten Sie\, dass Tickets für die Führungen
  nur in Verbindung mit einem Eintrittsticket für die Ausstellung am selben
  Tag Gültigkeit haben.&nbsp\;\n&nbsp\;\nMehr Infos zur World Press Photo A
 usstellung im Depot\n&nbsp\;\n&nbsp\;
DTSTART:20251109T100000Z
DTEND:20251109T100000Z
GEO:00;0
LOCATION:sweetSixteen Kino
ORGANIZER:
SEQUENCE:1
SUMMARY:„NEIN\, ES WAREN NICHT DIE AMERIKANER! - DIE UNENDLICHE GESCHICHTE 
 ÜBER EIN FOTO\, DAS JEDER KENNT.“
TRANSP:OPAQUE
URL:https://www.depotdortmund.de/567-die-unendliche-geschichte-ueber-ein-fo
 to-das-jeder-kennt/2025-11-09-11-00.html
END:VEVENT
END:VCALENDAR
