BEGIN:VCALENDAR
VERSION:2.0
PRODID:-//Depot Dortmund//NONSGML kigkonsult.se iCalcreator 2.30.10//
CALSCALE:GREGORIAN
METHOD:PUBLISH
UID:aafcfbf0-96bf-4cbb-8e91-12782d46d8ae
X-WR-CALNAME:iCagenda
X-WR-CALDESC:Event Management Extension for Joomla!
X-WR-RELCALID:3E26604A-50F4-4449-8B3E-E4F4932D05B5
X-WR-TIMEZONE:Europe/Berlin
BEGIN:VTIMEZONE
TZID:Europe/Berlin
BEGIN:STANDARD
TZNAME:CET
DTSTART:20251026T030000
TZOFFSETFROM:+0200
TZOFFSETTO:+0100
RDATE:20261025T030000
END:STANDARD
BEGIN:DAYLIGHT
TZNAME:CEST
DTSTART:20250330T020000
TZOFFSETFROM:+0100
TZOFFSETTO:+0200
RDATE:20260329T020000
RDATE:20270328T020000
END:DAYLIGHT
END:VTIMEZONE
BEGIN:VEVENT
UID:abd8a63b-a3cb-4809-ad01-cf8c5979b4ca
DTSTAMP:20260420T050311Z
CATEGORIES:Vortrag
CLASS:PUBLIC
DESCRIPTION;ALTREP="CID:<FFFF__=0ABBE548DFE235B58f9e8a93d@coffeebean.com>":
 Mit “Democracy Dies in Daylight” dokumentiert der Fotograf Rafael Heygster
  die kalkulierte Selbstinszenierung der AfD auf öffentlichen Veranstaltung
 en. Seine Bilder zeigen\, wie sich die Partei mit dominanter Rhetorik\, Pr
 ovokation und Machtdemonstrationen in Szene setzt und dabei gesellschaftli
 che Spaltung normalisiert. Für diese Langzeitbeobachtung wurde Heygster 20
 25 mit einem World Press Photo Award in der Kategorie Stories in der Regio
 n Europa ausgezeichnet.\nIm Gespräch gibt er Einblicke in seine fotografis
 che Praxis und eröffnet einen kritischen Blick auf die Mechanismen rechtse
 xtremer Selbstdarstellung.\n&nbsp\;\nWeiteres Rahmenprogramm:\nSO 09.11.20
 25 11:00 Uhr | sweetSixteen Kino im Depot„Nein\, es waren nicht die Amerik
 aner! - Die unendliche Geschichte über ein Foto\, das jeder kennt.“ - Vort
 rag &amp\; Gespräch mit Foto-Historiker Michael Ebert\n&nbsp\;\nFührungen
 \nIm Rahmen von zehn öffentlichen Führungen gibt es die Gelegenheit\, noch
  tiefer in die Welt der Pressefotografie einzutauchen. Fotografen Jan Schm
 itz und Peter Lutz begleiten die Besucher*innen mit fotografischem Know-ho
 w und spannenden Hintergrundinformationen durch die Ausstellung.&nbsp\;Die
  Dauer der Führungen beträgt jeweils ca. eine Stunde\, die Tickets erhalte
 n Sie über unseren Onlineshop. Bitte beachten Sie\, dass Tickets für die F
 ührungen nur in Verbindung mit einem Eintrittsticket für die Ausstellung a
 m selben Tag Gültigkeit haben.&nbsp\;\n&nbsp\;\nMehr Infos zur World Press
  Photo Ausstellung im Depot
DTSTART:20251106T160000Z
DTEND:20251106T160000Z
GEO:00;0
LOCATION:sweetSixteen Kino
ORGANIZER:
SEQUENCE:1
SUMMARY:“Democracy Dies in Daylight”– Rafael Heygster über sein dokumentari
 sches Fotoprojekt
TRANSP:OPAQUE
URL:https://www.depotdortmund.de/566-democracy-dies-in-daylight-rafael-heyg
 ster-ueber-sein-dokumentarisches-fotoprojekt/2025-11-06-17-00.html
END:VEVENT
END:VCALENDAR
