BEGIN:VCALENDAR
VERSION:2.0
PRODID:-//Depot Dortmund//NONSGML kigkonsult.se iCalcreator 2.30.10//
CALSCALE:GREGORIAN
METHOD:PUBLISH
UID:5db5b592-72af-4085-8e03-f7da62a1e485
X-WR-CALNAME:iCagenda
X-WR-CALDESC:Event Management Extension for Joomla!
X-WR-RELCALID:3E26604A-50F4-4449-8B3E-E4F4932D05B5
X-WR-TIMEZONE:Europe/Berlin
BEGIN:VTIMEZONE
TZID:Europe/Berlin
BEGIN:STANDARD
TZNAME:CET
DTSTART:20251026T030000
TZOFFSETFROM:+0200
TZOFFSETTO:+0100
RDATE:20261025T030000
END:STANDARD
BEGIN:DAYLIGHT
TZNAME:CEST
DTSTART:20250330T020000
TZOFFSETFROM:+0100
TZOFFSETTO:+0200
RDATE:20260329T020000
RDATE:20270328T020000
END:DAYLIGHT
END:VTIMEZONE
BEGIN:VEVENT
UID:f8fb3e75-b5f2-49cb-b40b-3482920c4114
DTSTAMP:20260423T005751Z
CATEGORIES:Märkte & Festivals
CLASS:PUBLIC
DESCRIPTION;ALTREP="CID:<FFFF__=0ABBE548DFE235B58f9e8a93d@coffeebean.com>":
 Die beliebte Reihe 'Kunst &amp\; Punsch' verwandelt in diesem Jahr nicht d
 ie Galerie\, sondern das Fotostudio und das Großraumatelier im Depot in ei
 nen kleinen\, feinen Wintermarkt für Kunst. Die Künstler*innen des Hauses 
 laden herzlich zum Stöbern und Entdecken ein. Gezeigt werden Bilder im kle
 inen Format\, Zeichnungen\, Objekte\, Postkarten und vieles mehr. Das alle
 s zu fairen Preisen – hier findet sich bestimmt das ein oder andere nicht 
 alltägliche Geschenk!\nIm Fotostudio präsentieren&nbsp\;Barbara Wozniak\,&
 nbsp\;Bärbel Thier-Jaspert\,&nbsp\;Christian Psyk\,&nbsp\;Heike Kollakowsk
 i\,&nbsp\;Karoline Hoffmann Pudelko\, Michael Jaspert\, Mona Dierkes\,&nbs
 p\;Susanne Beringer und&nbsp\; Susanne Schütz ihre Arbeiten. Ins Großrauma
 telier locken zusätzlich die Arbeiten von Heide Kemper\, Monika Ihl\, Suse
  Solbach sowie die Werke der beiden Gastkünstlerinnen Sabine Klemp und Jut
 ta Arendes.&nbsp\;\nBitte beachten: Kunst und Punsch kann nur in Kombinati
 on mit dem Design Gipfel besucht werden! Eintritt: 5 €\, ermäßigt 3 €\, Ki
 nder bis 14 Jahren frei\, das Mitbringen von Hunden ist nicht gestattet. W
 er vorab schon Neugierig geworden ist\, und nicht bis zum Design Gipfel wa
 rten kann\, der hat bereits am Freitag\, den 12. Dezember die Möglichkeit\
 , ab 18:00 Uhr zur Eröffnung der Pop-Up-Ausstellung zu kommen.&nbsp\;
DTSTART:20251213T113600Z
DTEND:20251214T173600Z
GEO:00;0
LOCATION:Fotostudio
ORGANIZER:
SEQUENCE:1
SUMMARY:Kunst & Punsch
TRANSP:OPAQUE
URL:https://www.depotdortmund.de/564-kunst-punsch-2.html
END:VEVENT
END:VCALENDAR
