BEGIN:VCALENDAR
VERSION:2.0
PRODID:-//Depot Dortmund//NONSGML kigkonsult.se iCalcreator 2.30.10//
CALSCALE:GREGORIAN
METHOD:PUBLISH
UID:dba138ae-3cea-49b4-bdb8-32fa5959904c
X-WR-CALNAME:iCagenda
X-WR-CALDESC:Event Management Extension for Joomla!
X-WR-RELCALID:3E26604A-50F4-4449-8B3E-E4F4932D05B5
X-WR-TIMEZONE:Europe/Berlin
BEGIN:VTIMEZONE
TZID:Europe/Berlin
BEGIN:STANDARD
TZNAME:CET
DTSTART:20251026T030000
TZOFFSETFROM:+0200
TZOFFSETTO:+0100
RDATE:20261025T030000
END:STANDARD
BEGIN:DAYLIGHT
TZNAME:CEST
DTSTART:20250330T020000
TZOFFSETFROM:+0100
TZOFFSETTO:+0200
RDATE:20260329T020000
RDATE:20270328T020000
END:DAYLIGHT
END:VTIMEZONE
BEGIN:VEVENT
UID:64ecb702-7f11-4d8c-a025-718319f4b867
DTSTAMP:20260423T005607Z
CATEGORIES:Märkte & Festivals
CLASS:PUBLIC
DESCRIPTION;ALTREP="CID:<FFFF__=0ABBE548DFE235B58f9e8a93d@coffeebean.com>":
 Der Design Gipfel bringt am 13. und 14. Dezember rund 70 junge Designer:in
 nen ins Depot Dortmund. Besucher:innen können einzigartige Unikate entdeck
 en – von Mode und Schmuck bis hin zu Wohnideen und Köstlichkeiten – und di
 e Menschen hinter den Produkten persönlich kennenlernen. Nachhaltig\, fair
  und individuell: eine inspirierende Alternative zum Weihnachtsmarkt.\n&nb
 sp\;\nParallel findet wieder Kunst &amp\; Punsch statt - der&nbsp\;kleine\
 , feine Wintermarkt für Kunst.&nbsp\;
DTSTART:20251213T133200Z
DTEND:20251214T133200Z
GEO:00;0
LOCATION:Halle
ORGANIZER;CN=:info@design-gipfel.de
SEQUENCE:1
SUMMARY:Design Gipfel
TRANSP:OPAQUE
URL:https://www.depotdortmund.de/563-design-gipfel-10.html
END:VEVENT
END:VCALENDAR
