BEGIN:VCALENDAR
VERSION:2.0
PRODID:-//Depot Dortmund//NONSGML kigkonsult.se iCalcreator 2.30.10//
CALSCALE:GREGORIAN
METHOD:PUBLISH
UID:4efb93ff-f61d-4f42-917d-203adc66aeab
X-WR-CALNAME:iCagenda
X-WR-CALDESC:Event Management Extension for Joomla!
X-WR-RELCALID:3E26604A-50F4-4449-8B3E-E4F4932D05B5
X-WR-TIMEZONE:Europe/Berlin
BEGIN:VTIMEZONE
TZID:Europe/Berlin
BEGIN:STANDARD
TZNAME:CET
DTSTART:20251026T030000
TZOFFSETFROM:+0200
TZOFFSETTO:+0100
RDATE:20261025T030000
END:STANDARD
BEGIN:DAYLIGHT
TZNAME:CEST
DTSTART:20250330T020000
TZOFFSETFROM:+0100
TZOFFSETTO:+0200
RDATE:20260329T020000
RDATE:20270328T020000
END:DAYLIGHT
END:VTIMEZONE
BEGIN:VEVENT
UID:28001cc4-f9e2-46f4-9064-adbff887e184
DTSTAMP:20260423T005801Z
CATEGORIES:Märkte & Festivals
CLASS:PUBLIC
DESCRIPTION;ALTREP="CID:<FFFF__=0ABBE548DFE235B58f9e8a93d@coffeebean.com>":
 Am 7. Dezember 2025 lädt Pinguin Pido wieder zum großen Kindertrödel mit K
 ultur- und Kreativprogramm ins Depot!\nBitte beachten: Die Bewerbungsphase
  für einen Stand ist beendet. Um den Bewerbungszeitraum des nächsten Kinde
 rkram nicht zu verpassen abonniert unseren Newsletter oder folgt uns auf F
 acebook und Instagram.\nVerkauft wird an den rein privaten Flohmarktstände
 n alles\, was das Herz begehrt und den Alltag für Kids und Eltern noch bun
 ter macht. Dazu gibt es wie immer eine Reihe von Bastelstationen\, an dene
 n sich die kleinen Besucher*innen kreativ austoben können.\nPinguin Pido u
 nd die Kinderkram-Crew freuen sich auf einen wundervollen Familiensonntag 
 im Depot\, wo drinnen wetterunabhängig nach Herzenslust getrödelt\, gebast
 elt und gespielt werden kann! Freut euch auf Pidos Hüpfburg zum Toben\, au
 f Kreativstationen und Glitzertattoos\, auf Papercraft und Sockenschneemän
 ner\, auf ein Selfie mit Pido und auf jede Menge Winter-Action.\n&nbsp\;\n
 &nbsp\;\nPidos Kinderkram wird gesponsert von:\n\n&nbsp\;
DTSTART:20251207T100000Z
DTEND:20251207T100000Z
GEO:00;0
LOCATION:Halle
ORGANIZER:
SEQUENCE:1
SUMMARY:Pidos Kinderkram 2025
TRANSP:OPAQUE
URL:https://www.depotdortmund.de/562-pidos-kinderkram-2025/2025-12-07-11-00
 .html
END:VEVENT
END:VCALENDAR
