BEGIN:VCALENDAR
VERSION:2.0
PRODID:-//Depot Dortmund//NONSGML kigkonsult.se iCalcreator 2.30.10//
CALSCALE:GREGORIAN
METHOD:PUBLISH
UID:5a46d56b-3232-4c81-b97b-ff23ff18fcef
X-WR-CALNAME:iCagenda
X-WR-CALDESC:Event Management Extension for Joomla!
X-WR-RELCALID:3E26604A-50F4-4449-8B3E-E4F4932D05B5
X-WR-TIMEZONE:Europe/Berlin
BEGIN:VTIMEZONE
TZID:Europe/Berlin
BEGIN:STANDARD
TZNAME:CET
DTSTART:20241027T030000
TZOFFSETFROM:+0200
TZOFFSETTO:+0100
RDATE:20251026T030000
RDATE:20261025T030000
END:STANDARD
BEGIN:DAYLIGHT
TZNAME:CEST
DTSTART:20250330T020000
TZOFFSETFROM:+0100
TZOFFSETTO:+0200
RDATE:20260329T020000
END:DAYLIGHT
END:VTIMEZONE
BEGIN:VEVENT
UID:832373a5-baa4-4d9a-a816-9950b7a9df51
DTSTAMP:20260423T055024Z
CATEGORIES:Ausstellung
CLASS:PUBLIC
DESCRIPTION;ALTREP="CID:<FFFF__=0ABBE548DFE235B58f9e8a93d@coffeebean.com>":
 Wie wird Wasser zum künstlerischen Motiv? Entdecke die Ausstellung „Fälle 
 von Wasser“ und tauche in spannende Perspektiven ein – im Dialog mit den K
 ünstler*innen!&nbsp\;\nDauer: ca. 45 Minuten&nbsp\;\nIm Rahmen von Open Ho
 use\n&nbsp\;\n&nbsp\;\n&nbsp\;\n\n    .carousel-inner {\n        height: 6
 0vh\;\n        background-color: #fff\;\n    }\n\n    .carousel-inner img 
 {\n        width: 100%\;\n        height: 100%\;\n        object-fit: cont
 ain\;\n        background-color: #fff\;\n    }\n\n    @media (min-width: 7
 68px) {\n        .carousel-inner {\n            height: 75vh\;\n        }
 \n    }\n\n    @media (min-width: 1200px) {\n        .carousel-inner {\n  
           height: 85vh\;\n        }\n    }\n\n\n\n\n\n\n\n\n\n\n\n\n\n\n\n
 \n\n\n\n\n\n\n\n   Zurück    Weiter \n\n\n&nbsp\;Marcel Appel\, Linda Ense
 roth und Talida Hölting arbeiten individuell und kollektiv in Berlin und F
 rankfurt am Main.\nMarcel Appel arbeitet multimedial. Vorgefundenes wird d
 urch Intervention verändert\, der künstlerische Prozess ist dabei wesentli
 ch: Das Prinzip der Überlagerung und Schichtung schlägt sich in einer inst
 allativen Konzeption der Arbeiten nieder.\nLinda Enseroth beschäftigt sich
  mit dem Sammeln\, Vervielfältigen und Arrangieren von Druckerzeugnissen u
 nd plastischen Industrieprodukten aller Art. Ihre oft seriellen Arbeiten b
 efragen Konzepte wie Originalität und Autor*innenschaft. Dabei interessier
 t sie in analoger wie digitaler Praxis die Eigenständigkeit künstlerischer
  Prozesse ausgehend von deren Materialität.\nTalida Hölting forscht künstl
 erisch zu ortsspezifischen Themen. Zur Verschränkung von Raumtheorie und K
 unst hält sie Vorträge\, führt Workshops durch und lehrt an der Goethe Uni
 versität in Frankfurt am Main. Raum wird sich dabei materiell\, phänomenol
 ogisch und konzeptuell angenähert. In ihrer künstlerischen Arbeit stehen d
 ie Verhältnisse von Kunst\, Raum und Körper im Vordergrund.\n&nbsp\;\n&nbs
 p\;\nGefördert von:\n
DTSTART:20250830T130000Z
DTEND:20250830T130000Z
GEO:00;0
LOCATION:Halle
ORGANIZER:
SEQUENCE:1
SUMMARY:Führung laborARTdepot - Fälle von Wasser
TRANSP:OPAQUE
URL:https://www.depotdortmund.de/560-laborartdepot-faelle-von-wasser-fuehru
 ng/2025-08-30-15-00.html
END:VEVENT
END:VCALENDAR
