BEGIN:VCALENDAR
VERSION:2.0
PRODID:-//Depot Dortmund//NONSGML kigkonsult.se iCalcreator 2.30.10//
CALSCALE:GREGORIAN
METHOD:PUBLISH
UID:6c7ce2aa-7e8c-41b9-a929-1d35de7a5149
X-WR-CALNAME:iCagenda
X-WR-CALDESC:Event Management Extension for Joomla!
X-WR-RELCALID:3E26604A-50F4-4449-8B3E-E4F4932D05B5
X-WR-TIMEZONE:Europe/Berlin
BEGIN:VTIMEZONE
TZID:Europe/Berlin
BEGIN:STANDARD
TZNAME:CET
DTSTART:20241027T030000
TZOFFSETFROM:+0200
TZOFFSETTO:+0100
RDATE:20251026T030000
RDATE:20261025T030000
END:STANDARD
BEGIN:DAYLIGHT
TZNAME:CEST
DTSTART:20250330T020000
TZOFFSETFROM:+0100
TZOFFSETTO:+0200
RDATE:20260329T020000
END:DAYLIGHT
END:VTIMEZONE
BEGIN:VEVENT
UID:1b48440c-e1a6-443a-b432-0026b882c87a
DTSTAMP:20260423T085030Z
CATEGORIES:Sonstiges
CLASS:PUBLIC
DESCRIPTION;ALTREP="CID:<FFFF__=0ABBE548DFE235B58f9e8a93d@coffeebean.com>":
 Der Photobook Dummy Award präsentiert seine Shortlist bestehend aus 50 int
 ernationalen Fotobüchern im Fotostudio des Depot e.V. Sei Teil der Jury un
 d stimme für Deinen Buch-Favoriten während des f² Fotofestivals ab.\nDer w
 eltweite Wettbewerb für die besten unveröffentlichten Photobook Dummys bie
 tet jährlich seit 2010 Fotograf:innen die Möglichkeit\, ihre Buchprojekte 
 einem internationalen Publikum vorzustellen. Dabei können die Teilnehmende
 n wertvolle Kontakte zu Verlagen\, Galerien und Festivals knüpfen. Damals 
 noch als Kassel Dummy Award bekannt\, ist seit 2023 das PhotoBookMuseum in
  Köln für den Dummy Award verantwortlich.\nJedes Jahr werden rund 50 Büche
 r für die Shortlist ausgewählt und weltweit auf Fotofestivals und in Ausst
 ellungen präsentiert. Neben einer Jurybewertung hat jeder Ausstellungsort 
 eine Stimme\, die entweder durch eine öffentliche Abstimmung oder die Ents
 cheidung der Kurator:innen bestimmt wird. Mit diesen Stimmen werden 5 Gewi
 nnerbücher aus der Shortlist ausgewählt.\nDas Buch\, das den PBM/MAS-Preis
  gewinnt\, wird von der führenden türkischen Fotobuchdruckerei und Buchbin
 derei MAS Matbaa in Zusammenarbeit mit dem PhotoBookMuseum produziert und 
 veröffentlicht. Die Kosten werden vollständig übernommen. Die anderen vier
  Gewinnerbücher erhalten einen Produktionszuschuss für den Druck ihrer Büc
 her bei MAS Matbaa.\n&nbsp\;\nWeitere Informationen:\nhttps://f2-fotofesti
 val.de/de/termine/161-photobook-dummy-award.html
DTSTART:20250612T170000Z
DTEND:20250615T160000Z
GEO:00;0
LOCATION:Fotostudio I Halle
ORGANIZER:
SEQUENCE:1
SUMMARY:Photobook Dummy Award
TRANSP:OPAQUE
URL:https://www.depotdortmund.de/549-photobook-dummy-award.html
END:VEVENT
END:VCALENDAR
