BEGIN:VCALENDAR
VERSION:2.0
PRODID:-//Depot Dortmund//NONSGML kigkonsult.se iCalcreator 2.30.10//
CALSCALE:GREGORIAN
METHOD:PUBLISH
UID:2b4ea926-8274-44c6-bdfd-1ca5009aaa33
X-WR-CALNAME:iCagenda
X-WR-CALDESC:Event Management Extension for Joomla!
X-WR-RELCALID:3E26604A-50F4-4449-8B3E-E4F4932D05B5
X-WR-TIMEZONE:Europe/Berlin
BEGIN:VTIMEZONE
TZID:Europe/Berlin
BEGIN:STANDARD
TZNAME:CET
DTSTART:20251026T030000
TZOFFSETFROM:+0200
TZOFFSETTO:+0100
RDATE:20261025T030000
END:STANDARD
BEGIN:DAYLIGHT
TZNAME:CEST
DTSTART:20250330T020000
TZOFFSETFROM:+0100
TZOFFSETTO:+0200
RDATE:20260329T020000
RDATE:20270328T020000
END:DAYLIGHT
END:VTIMEZONE
BEGIN:VEVENT
UID:ecef6ef2-bc4d-4091-90d1-0ab4cf129005
DTSTAMP:20260420T045642Z
CATEGORIES:Ausstellung
CLASS:PUBLIC
DESCRIPTION;ALTREP="CID:<FFFF__=0ABBE548DFE235B58f9e8a93d@coffeebean.com>":
 Jedes Jahr zeichnet die World Press Photo Foundation in einem internationa
 len Wettbewerb die besten Pressefotografien aus. In einer Wanderausstellun
 g werden die preisgekrönten Fotos rund um den Globus gezeigt und ziehen me
 hrere Millionen Besucher*innen an. Vom 31. Oktober bis zum 30. November 20
 25 zeigt der Kulturort Depot als Partner die Ausstellung in Dortmund.\nEga
 l ob Einzelbild oder Serie – die Aufnahmen bewegen\, gewähren Einblicke in
  gesellschaftliche wie persönliche Konflikte und bieten einen Rückblick au
 f wichtige nachrichtenbezogene Ereignisse des vergangenen Jahres.\nDas Hau
 ptziel der World Press Photo Foundation ist die internationale Unterstützu
 ng und Förderung professioneller Pressefotograf*innen.\nAm Wochenende ist 
 Kaffeezeit - in der Mittelhalle gibt es samstags und sonntags Kaffee und K
 uchen. (Solange der Vorrat reicht)&nbsp\;\n&nbsp\;\nHier können Sie Ticket
 s buchen:\n\n\n\n\n   \n\n        \n\n            JavaScript ist in Ihrem 
 Browser deaktiviert. Um unseren Ticketshop ohne JavaScript aufzurufen\, kl
 icken Sie bitte hier.\n\n        \n\n    \n\n\n&nbsp\;\n\nFührungen\n&nbsp
 \;\nIm Rahmen von zehn öffentlichen Führungen gibt es die Gelegenheit\, no
 ch tiefer in die Welt der Pressefotografie einzutauchen. Fotografen Jan Sc
 hmitz und Peter Lutz begleiten die Besucher*innen mit fotografischem Know-
 how und spannenden Hintergrundinformationen durch die Ausstellung.\nDie öf
 fentlichen Führungen finden an folgenden Terminen statt:&nbsp\;\nMITTWOCHS
 \, 05.11. / 12.11. / 19.11. / 26.11. jeweils um 18:00 Uhr&nbsp\;\nSAMSTAGS
 \, 08.11. / 15.11. / 22.11. / 29.11. jeweils um 14:00 Uhr&nbsp\;\nSONNTAGS
 \, 09.11. um 13:00 Uhr\, 30.11. um 14:00 Uhr\nDie Dauer der Führungen betr
 ägt jeweils ca. eine Stunde\, die Tickets erhalten Sie über unseren Online
 shop. Bitte beachten Sie\, dass Tickets für die Führungen nur in Verbindun
 g mit einem Eintrittsticket für die Ausstellung am selben Tag Gültigkeit h
 aben.&nbsp\;\n\n&nbsp\;\nGruppenführungen können extra gebucht werden:&nbs
 p\;\nEs besteht die Möglichkeit\, eigene Führungen für eine Gruppe (maxima
 l 20 Personen) zu buchen. Der Preis pro Führung beträgt 60\,00 € zzgl. des
  Eintrittspreises pro teilnehmender Person (8 € / 6 € erm.).&nbsp\;\nFür S
 chul- und Studierendengruppen beträgt der Führungspreis 60\,00 € zzgl. des
  speziell ermäßigten Eintrittspreises von 3\,00 € pro teilnehmender Person
 . Die begleitenden Lehrkräfte haben freien Eintritt. Schulführungen werden
  auch vor den regulären Öffnungszeiten ab 09:00 Uhr angeboten.&nbsp\;&nbsp
 \;\nFür die Buchung einer Gruppen- oder Schulführung wenden Sie sich bitte
  in einer E-Mail mit 2-3 Terminvorschlägen (innerhalb der Ausstellungsöffn
 ungszeiten) an kontakt@depotdortmund.de.\n&nbsp\;\nHinweis: Bitte warm anz
 iehen - Die Ausstellungshalle ist nicht beheizt! Das Mitbringen von Hunden
  ist nicht gestattet.\nDie World Press Photo Foundation empfiehlt den Besu
 ch der Ausstellung ab 14 Jahren.&nbsp\;\n&nbsp\;\n\n  ..images/icagenda/ev
 ents/depot/World Press Logos/WPP2024_Partners_logos_RGB.png {\n    display
 : flex\;\n    gap: 10px\; /* Abstand zwischen den Bildern */\n  }\n\n  ..i
 mages/icagenda/events/depot/World Press Logos/WPP2024_Partners_logos_RGB.p
 ng {\n    max-width: 434\; /* Standardgröße */\n    height: auto\;\n  }\n
 \n  @media (max-width: 434px) {\n    .images/icagenda/events/depot/World P
 ress Logos/WPP2024_Partners_logos_RGB.png {\n      max-width: 120px\; /* K
 leinere Größe auf mobilen Geräten */\n      height: auto\;\n    }\n  }\n\n
 \n
DTSTART:20251030T230000Z
DTEND:20251130T104500Z
GEO:00;0
LOCATION:Halle
ORGANIZER:
SEQUENCE:1
SUMMARY:World Press Photo 2025
TRANSP:OPAQUE
URL:https://www.depotdortmund.de/545-save-the-date-world-press-photo-2025.h
 tml
END:VEVENT
END:VCALENDAR
