BEGIN:VCALENDAR
VERSION:2.0
PRODID:-//Depot Dortmund//NONSGML kigkonsult.se iCalcreator 2.30.10//
CALSCALE:GREGORIAN
METHOD:PUBLISH
UID:0775b1a3-41b1-496b-8b41-dd064f39f102
X-WR-CALNAME:iCagenda
X-WR-CALDESC:Event Management Extension for Joomla!
X-WR-RELCALID:3E26604A-50F4-4449-8B3E-E4F4932D05B5
X-WR-TIMEZONE:Europe/Berlin
BEGIN:VTIMEZONE
TZID:Europe/Berlin
BEGIN:STANDARD
TZNAME:CET
DTSTART:20241027T030000
TZOFFSETFROM:+0200
TZOFFSETTO:+0100
RDATE:20251026T030000
RDATE:20261025T030000
END:STANDARD
BEGIN:DAYLIGHT
TZNAME:CEST
DTSTART:20250330T020000
TZOFFSETFROM:+0100
TZOFFSETTO:+0200
RDATE:20260329T020000
END:DAYLIGHT
END:VTIMEZONE
BEGIN:VEVENT
UID:2e128edf-31eb-479b-93f2-fd52d79a0446
DTSTAMP:20260423T070829Z
CATEGORIES:Ausstellung
CLASS:PUBLIC
DESCRIPTION;ALTREP="CID:<FFFF__=0ABBE548DFE235B58f9e8a93d@coffeebean.com>":
 Führung durch die Ausstellung NEW DYNAMICS Transforming Diversity mit Kura
 torin Teona Gogichaishvili.\nElektroakustische Performance der beiden Küns
 tlerinnen Anja Lautermann und Frauke Berg.\nLautermann und Berg entwickeln
  erstaunliche Ansätze für Klangtexturen. Mikrofonierte Objekte\, synthetis
 che und elektronische Klänge\, klassische Instrumente\, gesampelte Fragmen
 te und die menschliche Stimme erschaffen ihre eigene innere Mechanik. Gerä
 usche\, exzentrische Rhythmen\, Gesang und experimentelle Melodien bilden 
 den repetitiven\, hypnotischen Sound der beiden Musikerinnen. Die Performa
 nce ist wie ein gemeinsamer Tauchgang in eine fremde und doch bekannte Wel
 t…es gibt kein richtig oder falsch\, es gibt Kompromisse\, aber mitunter a
 uch unversöhnlich klingende Positionen\, Spannungen\, Dissonanzen\, Schich
 tungen - es geht um fließende Prozesse\, veränderliche Formen\, verschiede
 ne Perspektiven\, die alle zu Gehör gebracht werden wollen und Raum lassen
 \, für unzählige Deutungsmöglichkeiten und Assoziationen.\n\n&nbsp\;\nDie 
 Ausstellung wird im Rahmen des f² Fotofestivals 2025 eröffnet\, das vom 12
 . bis zum 15. Juni in Dortmund stattfindet und sich dem Thema #Chaos widme
 t. Über das Fotofestival hinaus ist sie noch bis zum 06. Juli zu sehen und
  bietet ein vielfältiges Rahmenprogramm.\n&nbsp\;\n&nbsp\;\nGefördert von:
 \n\n\n\n\n\n\nKooperationspartner:\n\n\n  /* Container für die Partner-Log
 os (Kulturbüro\, Ministerium\, Saal Digital) */\n  .partner-logos {\n    d
 isplay: flex\;\n    gap: 10px\; /* Abstand zwischen den Bildern */\n    fl
 ex-wrap: wrap\; /* optional\, falls mehrere Logos in mehreren Reihen */\n 
  }\n\n  /* Kachel-Container für Logos */\n  .logo-kachel {\n    width: 179
 px\; /* Größe wie die anderen Kacheln */\n    height: 179px\;\n    backgro
 und-color: white\;\n    display: flex\;\n    align-items: center\;\n    ju
 stify-content: center\;\n    box-shadow: 0 2px 5px rgba(0\,0\,0\,0.1)\; /*
  Optional: leichter Schatten */\n    padding: 10px\; /* Innenabstand */\n 
    box-sizing: border-box\;\n  }\n\n  /* Bilder der Partner-Logos in Kache
 ln */\n  .logo-kachel img {\n    max-width: 100%\;\n    max-height: 100%\;
 \n    object-fit: contain\; /* Logo wird proportional skaliert */\n  }\n\n
   /* Container für das FH Dortmund Logo in weißer Kachel */\n  .fh-logo-co
 ntainer {\n    width: 179px\; /* Größe wie die anderen Kacheln */\n    hei
 ght: 179px\;\n    background-color: white\;\n    display: flex\;\n    alig
 n-items: center\;\n    justify-content: center\;\n    box-shadow: 0 2px 5p
 x rgba(0\,0\,0\,0.1)\; /* Optional: leichter Schatten */\n    padding: 10p
 x\; /* Innenabstand */\n    box-sizing: border-box\;\n    margin-top: 10px
 \; /* Abstand nach oben\, falls gewünscht */\n  }\n\n  /* Das FH Logo anpa
 ssen\, damit es in die Kachel passt */\n  .fh-logo-container img {\n    ma
 x-width: 100%\;\n    max-height: 100%\;\n    object-fit: contain\; /* Logo
  wird proportional skaliert */\n  }\n\n\n\n{loadmoduleid 181}
DTSTART:20250706T130000Z
DTEND:20250706T130000Z
GEO:00;0
LOCATION:Halle
ORGANIZER:
SEQUENCE:1
SUMMARY:Finissage: NEW DYNAMICS Transforming Diversity
TRANSP:OPAQUE
URL:https://www.depotdortmund.de/544-new-dynamics-transforming-diversity-2/
 2025-07-06-15-00.html
END:VEVENT
END:VCALENDAR
