BEGIN:VCALENDAR
VERSION:2.0
PRODID:-//Depot Dortmund//NONSGML kigkonsult.se iCalcreator 2.30.10//
CALSCALE:GREGORIAN
METHOD:PUBLISH
UID:412949c1-00f9-4b90-8405-04906eb1e081
X-WR-CALNAME:iCagenda
X-WR-CALDESC:Event Management Extension for Joomla!
X-WR-RELCALID:3E26604A-50F4-4449-8B3E-E4F4932D05B5
X-WR-TIMEZONE:Europe/Berlin
BEGIN:VTIMEZONE
TZID:Europe/Berlin
BEGIN:STANDARD
TZNAME:CET
DTSTART:20241027T030000
TZOFFSETFROM:+0200
TZOFFSETTO:+0100
RDATE:20251026T030000
END:STANDARD
BEGIN:DAYLIGHT
TZNAME:CEST
DTSTART:20250330T020000
TZOFFSETFROM:+0100
TZOFFSETTO:+0200
RDATE:20260329T020000
END:DAYLIGHT
END:VTIMEZONE
BEGIN:VEVENT
UID:b291177e-9dff-40b7-a04f-f529eb477bbf
DTSTAMP:20260423T111034Z
CATEGORIES:Sonstiges
CLASS:PUBLIC
DESCRIPTION;ALTREP="CID:<FFFF__=0ABBE548DFE235B58f9e8a93d@coffeebean.com>":
 Die Nautilus Noir liegt im Hafen der englischen Industriemetropole Ironhav
 en vor Anker. Das U-Boot\, ein Wunderwerk der Technik\, wurde für Forschun
 gsreisen und luxuriösen Tourismus konzipiert. Doch als einer der Wissensch
 aftler spurlos verschwindet\, wird der Privatdetektiv Victor Blackwell an 
 Bord gerufen. Was zunächst\, wie ein harmloser Fall erscheint\, entwickelt
  sich schnell zu einem Albtraum: Die Dämonen seiner Vergangenheit verfolge
 n ihn bis in die Eingeweide der Nautilus Noir und lassen schon bald die Gr
 enzen zwischen Realität und Wahnsinn verschwimmen.\nDas Geheimnis der Naut
 ilus Noir wurde vom Cover bis zur letzten Seite von der Autorin und Künstl
 erin Susan Abyss geschaffen\, inklusive der 11 Illustrationen\, die die Ka
 pitel einleiten. Kleiner Spoiler: Im Depot kennt man ihre wahre Identität!
 \nKommt vorbei\, lauscht bei Getränken der Lesung und sichert Euch ein han
 dsigniertes Exemplar!\nMusikalische Begleitung: Siegfried Hiltmann am Saxo
 phon\n&nbsp\;
DTSTART:20250411T170000Z
DTEND:20250411T190000Z
GEO:00;0
LOCATION:Treibhaus / Halle
ORGANIZER;CN=:info@susanneschuetz.com
SEQUENCE:1
SUMMARY:Nautilus Noir
TRANSP:OPAQUE
URL:https://www.depotdortmund.de/534-nautilus-noir.html
END:VEVENT
END:VCALENDAR
