BEGIN:VCALENDAR
VERSION:2.0
PRODID:-//Depot Dortmund//NONSGML kigkonsult.se iCalcreator 2.30.10//
CALSCALE:GREGORIAN
METHOD:PUBLISH
UID:82bc4f9a-7eb9-4aff-a4f7-69798e2f27bb
X-WR-CALNAME:iCagenda
X-WR-CALDESC:Event Management Extension for Joomla!
X-WR-RELCALID:3E26604A-50F4-4449-8B3E-E4F4932D05B5
X-WR-TIMEZONE:Europe/Berlin
BEGIN:VTIMEZONE
TZID:Europe/Berlin
BEGIN:STANDARD
TZNAME:CET
DTSTART:20241027T030000
TZOFFSETFROM:+0200
TZOFFSETTO:+0100
RDATE:20251026T030000
RDATE:20261025T030000
END:STANDARD
BEGIN:DAYLIGHT
TZNAME:CEST
DTSTART:20250330T020000
TZOFFSETFROM:+0100
TZOFFSETTO:+0200
RDATE:20260329T020000
END:DAYLIGHT
END:VTIMEZONE
BEGIN:VEVENT
UID:4eede1c9-8320-4869-ab73-17ece03f77b6
DTSTAMP:20260423T111331Z
CATEGORIES:Sonstiges
CLASS:PUBLIC
DESCRIPTION;ALTREP="CID:<FFFF__=0ABBE548DFE235B58f9e8a93d@coffeebean.com>":
 Kaffee\, Kuchen\, Musik und kühle Drinks – wir würden sagen\, alles im Grü
 nen Bereich an diesem Sonntag! Die beliebte Akustik-Reihe aus dem Rekorder
  lädt zum Lauschen und Plauschen in das Teibhaus-Zelt in der der Mittelhal
 le.\nIm Rahmen von Der Grüne Bereich im Treibhaus.
DTSTART:20250427T130000Z
DTEND:20250427T130000Z
GEO:00;0
LOCATION:Halle
ORGANIZER:
SEQUENCE:1
SUMMARY:Songs & Cakes
TRANSP:OPAQUE
URL:https://www.depotdortmund.de/528-songs-cakes-2/2025-04-27-15-00.html
END:VEVENT
END:VCALENDAR
