BEGIN:VCALENDAR
VERSION:2.0
PRODID:-//Depot Dortmund//NONSGML kigkonsult.se iCalcreator 2.30.10//
CALSCALE:GREGORIAN
METHOD:PUBLISH
UID:856cca7c-d2b0-4ad6-a65b-8a8c2ccded63
X-WR-CALNAME:iCagenda
X-WR-CALDESC:Event Management Extension for Joomla!
X-WR-RELCALID:3E26604A-50F4-4449-8B3E-E4F4932D05B5
X-WR-TIMEZONE:Europe/Berlin
BEGIN:VTIMEZONE
TZID:Europe/Berlin
BEGIN:STANDARD
TZNAME:CET
DTSTART:20241027T030000
TZOFFSETFROM:+0200
TZOFFSETTO:+0100
RDATE:20251026T030000
END:STANDARD
BEGIN:DAYLIGHT
TZNAME:CEST
DTSTART:20250330T020000
TZOFFSETFROM:+0100
TZOFFSETTO:+0200
RDATE:20260329T020000
END:DAYLIGHT
END:VTIMEZONE
BEGIN:VEVENT
UID:edc864ec-044b-4f30-91bb-15284218fca6
DTSTAMP:20260423T111845Z
CATEGORIES:Sonstiges
CLASS:PUBLIC
DESCRIPTION;ALTREP="CID:<FFFF__=0ABBE548DFE235B58f9e8a93d@coffeebean.com>":
 \nDER GRÜNE BEREICH IM TREIBHAUS\n\n- Wir schaffen gemeinsam eine fantasti
 sche Landschaft. Nimm an zahlreichen Mitmachständen teil. Komm mit einer G
 ruppe oder einzeln. Alle sind herzlich willkommen. Es dreht sich rund um d
 ie Farbe Grün\, um Kunst und Natur. Wir Künstler:innen stellen viele Dinge
  für euch bereit\, möchten euch einladen.\n\n\n\n  /* Dropdown-Menü Stil *
 /\n  .dropdown {\n    position: relative\;\n    display: inline-block\;\n 
  }\n\n  .dropdown-content {\n    display: none\;\n    position: absolute\;
 \n    background-color: #ffffff\;\n    min-width: 160px\;\n    box-shadow:
  0px 8px 16px rgba(0\, 0\, 0\, 0.2)\;\n    z-index: 1\;\n  }\n\n  .dropdow
 n:hover .dropdown-content {\n    display: block\;\n  }\n\n  .dropdown-cont
 ent a {\n    color: black\;\n    padding: 12px 16px\;\n    text-decoration
 : none\;\n    display: block\;\n  }\n\n  .dropdown-content a:hover {\n    
 background-color: #f1f1f1\;\n  }\n\n  /* Button Stil */\n  .dropdown-butto
 n {\n    background-color: #000000\;\n    color: white\;\n    padding: 10p
 x 20px\;\n    font-size: 16px\;\n    border: none\;\n    cursor: pointer\;
 \n  }\n\n  .dropdown-button:hover {\n    background-color: #ffff00\;\n    
 color: black\;\n  }\n\n  .content-section {\n    display: none\;\n  }\n\n 
  .content-section.active {\n    display: block\;\n  }\n\n  .event-title {
 \n    font-size: 24px\;\n    font-weight: bold\;\n  }\n\n  .event-descript
 ion {\n    font-size: 1.3rem\;\n    padding: 10px 0\;\n  }\n\n  .event-des
 cription p {\n    font-size: 1.3rem\;\n    margin: 8px 0\;\n    line-heigh
 t: 1.6\;\n  }\n\n\nDE / EN\nDeutsch English\n\n\n\nAktivitäten:\n\nEs wird
  gemalt\, geschrieben\, gedichtet\, gespielt und mit Sounds experimentiert
 . Die Aktionen laufen an allen Tagen unter der Woche. Das Treibhaus bietet
  uns den Raum\, Dinge wachsen zu lassen. Es entsteht eine Ausstellung\, di
 e sich täglich verändert. Am Wochenende wird es eine Gameshow\, ein Konzer
 t und Kuchen geben. Mach mit bei diesem Experiment. Wir gestalten zusammen
  einen Wohlfühlort. Das Programm wird in Kooperation mit Einzelkünstler:in
 nen und mit Kollektiven aus dem nahen Umfeld angeboten. Auf Social Media k
 annst du dich über tagesaktuelle Highlights informieren. Wir freuen uns au
 f euch und die gemeinsame Zeit! \n1: Malen &amp\; Zeichnen:\nPostkartenges
 taltung und Papiermalerei: Tapes und Stifte verschiedener Art liegen für e
 uch bereit (DI 13:40 - 18:00 Uhr\, MI 11:40 - 13:30 Uhr\, 14:15 - 15:30 Uh
 r\, DO 14:30 - 17:30 Uhr\, SA 15:30 - 17:00 Uhr\, SO13:30 - 15:00 Uhr)\n2:
  Sounds &amp\; Experimente\nWindspiel &amp\; Klangwerke: Aus Ästen und Zwe
 igen werden individuelle Windspiele gebaut (DI 13:00 - 18:00 Uhr\, FR 11:0
 0 - 16:00 Uhr)\nDas Grüne &amp\; Hörspiel: Gemeinsam entsteht ein Klangbil
 d\, das am Samstagabend als hörspielartige Installation präsentiert wird (
 DO 13:00 - 18:00 Uhr)\n3: Sticken &amp\; Drucken\nPflanzenwelt &amp\; Selb
 stporträt: Zeichnungen\, Stickereien\, Porträts und Blumendrucke auf Stoff
 \, Decken und Kostümen - hier kann alles aus eurer Fantasie erwachsen (DI 
 13:40 - 18:00 Uhr\, FR 11:40 Uhr - 16:00 Uhr)\nPorträts &amp\; Rezepte: Co
 llagen aus Kochzeitschriften und Heften mit Rezepten zum Wohlfühlen werden
  Collagen bemalt\, beklebt\, bestickt (DO 13:40 Uhr - 17:00 Uhr\, SO 13:40
  Uhr - 15:00 Uhr)\n4: Post &amp\; Poesie\nGrüße &amp\; Geschichten to go: 
 Mit Stiften\, Papier und Schreibmaschine ausgestattet läuft DER GRÜNE BERE
 ICH zum Schreiben von Gedichten\, Prosa\, Postkarten und lyrischen Kurzfor
 men (DI 13:40 - 18:00 Uhr\, MI &amp\; FR 11:40 - 13:30 Uhr\, 14:15 - 15:30
  Uhr\, DO 14:30 - 17:30 Uhr\, SA 15:30 - 17:00 Uhr\, SO 13:30 - 15:00 Uhr)
 \n5: Collagen &amp\; Dinge\nWachsende Landschaft &amp\; gemeinsames Kunstw
 erk: In sechs Tagen wächst eine gemeinsame Installation grüner Objekte und
  Geschichten (DI\, DO 13:00 - 18:00 Uhr\, MI 11:00 - 16:00 Uhr\, SA 15:00 
 - 17:00 Uhr\, SO 13:00 - 15:00 Uhr)\nPostkarten &amp\; besondere Schätze: 
 Gestaltet Postkarten\, die in die wachsende Landschaft integriert oder an 
 eure Liebsten verschenkt werden (FR 12:00 - 16:00 Uhr)\n6: Show &amp\; Aus
 stellung\nWachsende Landschaft &amp\; Kunst-Spaziergang: Die grüne Landsch
 aft entsteht während der gesamten 6 Tage im Treibhaus und lädt neben dem a
 ktiven Mitgestalten zum Entspannen\, Flanieren und Erleben ein (MI 13:00 -
  16:00 Uhr\, DO 13:00 - 18:00 Uhr\, FR 11:00 - 16:00 Uhr\, SA 15:00 - 17:0
 0 Uhr\, SO 13:00 - 15:00 Uhr)\nBühne und Pop-Up: Performances\, Lesungen u
 nd Musik zum Wohlfühlen. Am Samstag mit Präsentation des entstandenen Hörs
 piels (MI 13:30 - 14:00 Uhr\, 15:30 - 16:00 Uhr\, SA 18:30 - 19:30 Uhr Fea
 turing Das Grüne &amp\; Hörspiel)\nGameshow: Alles ist möglich: Mitsing-Li
 eder\, Kostüme und die Möglichkeit\, in der Woche entstandene Kunstwerke z
 u gewinnen (SA 17:00 - 18:30 Uhr)\nSongs &amp\; Cakes: Bei Kaffee und Kuch
 en\, kühlen Drinks und Live-Musik kann das Wochenende entspannt ausklingen
 . Ursprünglich im Rekorder entstanden ist die Konzertreihe im Treibhaus zu
  Gast (SO 15:00 - 18:00 Uhr)\n7: Spiele &amp\; Bewegung\nGrößer &amp\; Kle
 iner: Eine besondere Art des Kegelns\, Tischtennis mit Riesenschlägern\, e
 in Minisuchspiel und ganz viele Fragen- und Kartenspiele (DI\, DO 13:00 - 
 18:00 Uhr\, MI\, FR 11:00 - 16:00 Uhr\, SA 15:00 - 17:00 Uhr\, SO 13:00 - 
 15:00 Uhr)\n8: Entspannung &amp\; Snacks\nTee &amp\; Smoothie: Solange der
  Vorrat reicht können sich Tees und Smoothies gemischt werden (FR 13:00 - 
 18:00 Uhr) - Nur\, solange der Vorrat reicht\nTee &amp\; Butterbrotkunst: 
 Von Wegen mit Essen spielt man nicht! Das Butterbrot als Kunstfläche steht
  hier im Zentrum der Aufmerksamkeit und wird am Ende gemeinsam gegessen (M
 I 11:00 - 16:00 Uhr\, DO 13:00 - 18:00 Uhr) - Nur\, solange der Vorrat rei
 cht\nPasta Werkstatt: Gemeinsam werden traditionell ligurische Corzetti ge
 staltet. Mit selbstgemachten Stempeln und selbstgemachter Farbe (SA 15:00 
 - 18:00 Uhr)\nSongs &amp\; Cakes: Bei Kaffee und Kuchen\, kühlen Drinks un
 d Live-Musik kann das Wochenende entspannt ausklingen. Ursprünglich im Rek
 order entstanden ist die Konzertreihe im Treibhaus zu Gast (SO 15:00 - 18:
 00 Uhr)\n\n\n\nGREEN AREA IN TREIBHAUS\n\nWe’d like to create a fantastic 
 landscape and would love to invite you to take part in this. These activit
 ies are open for single people and groups\, bigger and smaller. Everybody 
 is welcome - tender to all genders\, languages\, and ages. Our topic is th
 e color green - all about art and nature. There will be lots of different 
 things and materials in the Green Area for you to be creative with. We are
  inviting you to participate in having fun while experimenting with sounds
 \, painting\, writing texts or poems\, leaving notes\, playing with the po
 ssibilities of the space. All this will happen every day of the announced 
 week. The Treibhaus is accommodating us and offers us space to grow in. At
  the weekend we will host a gameshow and we’d like to invite you to “songs
  and cakes”. Take part in this experiment\, creating together a temporary 
 feel-good place\, which is created by the people of the neighborhood. We a
 re cooperating with single artists and with social\, cultural or artistic 
 collectives. On social media you can watch out for special highlights. We 
 are looking forward to spend time with you!\nActivities:\n1: painting &amp
 \; drawing:\nPostcard design and paper painting: tapes and pens of various
  kinds are available for you (TUE 13:40 - 18:00\, WED 11:40 - 13:30\, 14:1
 5 - 15:30\, THU 14:30 - 17:30\, SAT 15:30 - 17:00\, SUN 13:30 - 15:00)\n2:
  Sound and experiments\nWindchime &amp\; Sound works: create individual wi
 nd chimes with branches and twigs (TUE 13:00 - 18:00\, FRI 11:00 - 16:00)
 \nGreen sounds &amp\; Audio play: Together we will create a sound picture\
 , which will be presented as an audio play installation on Saturday evenin
 g (THU 13:00 - 18:00)\n3: Stitching &amp\; Printing\nPlants and self-portr
 aits: drawing\, stitching\, printing onto fabric\, blankets and costumes (
 TUE 13:40 - 18:00\, FRI 11:40 - 16:00)\nPortraits &amp\; recipes: Collages
  of magazines and recipe books will be painted\, sewn or decorated (THU 13
 :40 - 17:00\, SUN 13:40 - 15:00)\n4: Postcards &amp\; poetry\nStories and 
 poetry to go: With pens\, paper\, and typewriters you can write poems\, pr
 ose\, postcards\, and short forms (TUE 13:40 - 18:00\, WED &amp\; FRI 11:4
 0 - 13:30\, 14:15 - 15:30\, THU 14:30 - 17:30\, SAT 15:30 - 17:00\, SUN 13
 :30 - 15:00)\n5: Collages &amp\; objects\nGrowing landscape &amp\; collect
 ive work: A joint installation is growing through the week with green obje
 cts and stories (TUE\, THU 13:00 - 18:00\, WED 11:00 - 16:00\, SAT 15:00 -
  17:00\, SUN 13:00 - 15:00)\nPostcards &amp\; special treasures: Create po
 stcards that will be integrated into the growing landscape or sent to your
  loved ones (FRI 12:00 - 16:00)\n6: Show and Exhibition\nGrowing landscape
  &amp\; art walk: the growing landscape is available to walk through and e
 xperience throughout the week (WED 13:00 - 16:00\, THU 13:00 - 18:00\, FRI
  11:00 - 16:00\, SAT 15:00 - 17:00\, SUN 13:00 - 15:00)\nStage and Pop-Up:
  performances\, readings and music will be played for relaxation (WED 13:3
 0 - 14:00\, 15:30 - 16:00\, SAT 18:30 - 19:30)\nGameshow: Everything is po
 ssible: sing-along songs\, costumes and the opportunity to win art created
  during the week (SAT 17:00 - 18:30)\nSongs &amp\; Cakes: At this event yo
 u can enjoy cake\, live music\, and relax in the weekend (SUN 15:00 - 18:0
 0)\n\n\n&nbsp\;\nFragen oder Ideen? Kontaktiere uns/ Questions or ideas? P
 lease contact.\nE-Mail: vorortkultur@kulturfragmente.org\nWhatApp/ Signal/
  Telegram: 01637960067 &nbsp\;\nBei Gruppen ab 6 Personen wird um Anmeldun
 g gebeten.\nFor groups of 6 or more people\, please register.\n&nbsp\;\nÖf
 fnungszeiten/ opening hours\nDi\, 22. April 13-18 UhrMi\, 23. April 11-16 
 UhrDo\, 24. April 13-18 UhrFr\, 25. April 11-16 UhrSa\, 26. April 15-20 Uh
 rSo\, 27. April 13-18 Uhr\n&nbsp\;\nGefördert von:\n &nbsp\;&nbsp\; &nbsp\
 ; &nbsp\; &nbsp\;&nbsp\; &nbsp\;&nbsp\;\n \n&nbsp\;\nIn Kooperation mit:\n
 &nbsp\;&nbsp\;&nbsp\;&nbsp\;&nbsp\;&nbsp\;&nbsp\; &nbsp\;&nbsp\;&nbsp\;&nb
 sp\;&nbsp\;&nbsp\;&nbsp\; &nbsp\;&nbsp\;&nbsp\;&nbsp\;&nbsp\;&nbsp\;&nbsp\
 ; \n\n    // Funktion zum Umschalten der angezeigten Inhalte\n    function
  showContent(language) {\n      // Alle Inhaltselemente ausblenden\n      
 var sections = document.querySelectorAll('.content-section')\;\n      sect
 ions.forEach(function(section) {\n        section.classList.remove('active
 ')\;\n      })\;\n\n      // Das ausgewählte Sprachelement anzeigen\n     
  var selectedSection = document.getElementById(language)\;\n      if (sele
 ctedSection) {\n        selectedSection.classList.add('active')\;\n      }
 \n    }\n
DTSTART:20250422T102500Z
DTEND:20250427T102500Z
GEO:00;0
LOCATION:Halle
ORGANIZER:
SEQUENCE:1
SUMMARY:The green area in Treibhaus
TRANSP:OPAQUE
URL:https://www.depotdortmund.de/526-der-gruene-bereich-im-treibhaus-the-gr
 een-area-in-treibhaus.html
END:VEVENT
END:VCALENDAR
