BEGIN:VCALENDAR
VERSION:2.0
PRODID:-//Depot Dortmund//NONSGML kigkonsult.se iCalcreator 2.30.10//
CALSCALE:GREGORIAN
METHOD:PUBLISH
UID:f84fe7c9-b4ab-4495-9095-745a1d970a49
X-WR-CALNAME:iCagenda
X-WR-CALDESC:Event Management Extension for Joomla!
X-WR-RELCALID:3E26604A-50F4-4449-8B3E-E4F4932D05B5
X-WR-TIMEZONE:Europe/Berlin
BEGIN:VTIMEZONE
TZID:Europe/Berlin
BEGIN:STANDARD
TZNAME:CET
DTSTART:20241027T030000
TZOFFSETFROM:+0200
TZOFFSETTO:+0100
RDATE:20251026T030000
END:STANDARD
BEGIN:DAYLIGHT
TZNAME:CEST
DTSTART:20240331T020000
TZOFFSETFROM:+0100
TZOFFSETTO:+0200
RDATE:20250330T020000
RDATE:20260329T020000
END:DAYLIGHT
END:VTIMEZONE
BEGIN:VEVENT
UID:71bc4241-ca6b-46b2-a850-3b8ff929d0a1
DTSTAMP:20260423T142112Z
CATEGORIES:Ausstellung
CLASS:PUBLIC
DESCRIPTION;ALTREP="CID:<FFFF__=0ABBE548DFE235B58f9e8a93d@coffeebean.com>":
 Einführende Worte: Katrin Pinetzki (Kulturjournalistin)\, Dr. Jens Stöcker
  (Kunsthistoriker)\nMit der Ausstellungsreihe TANDEM schafft der Kulturort
  Depot eine Bühne für die Zusammenarbeit von Künstler*innen\, die sich an 
 unterschiedlichen Punkten ihrer Karriere befinden und gemeinsam eine Präse
 ntation erarbeiten. Junge Studierende und Kreative am Beginn ihrer künstle
 rischen Laufbahn treffen auf Depotler*innen\, die sich bereits etabliert h
 aben. Die TANDEM-Teams laden dazu ein\, an ihrem kreativen und persönliche
 n Austausch teilzuhaben.\nAufgrund der Umbaumaßnahmen in der Galerie präse
 ntiert die Reihe TANDEM in der Mittelhalle nun gleich zwei gemischte Doppe
 l\, die sich zu einem gemeinsamen Projekt zusammengeschlossen haben: Daša 
 Geiger\, Christiane Heetmann\, Alexander Lackmann und Gine Selle arbeiten 
 in ihrer Ausstellung „Vom BeGreifen und Schreiten“ mit Fotografie\, Malere
 i\, Zeichnung und Licht.\nIn einer sich rasant verändernden digitalen Welt
  wagen die vier Künstler*innen einen entschleunigten Blick und eröffnen Fa
 cetten und Sichtweisen auf unser alltägliches BeGreifen und Schreiten: So 
 erkunden sie handwerkliche Tätigkeiten\, dokumentieren aussterbende Fertig
 keiten\, erzählen kleine Geschichten vom Handeln\, entwickeln Chimären\, z
 eigen aber auch Ein- und Abdrücke unseres Handelns im Alltag auf.\n&nbsp\;
 \nÜber die Künstler*innen\n&nbsp\;\nDaša Marie Geiger\, (*1989) ist eine i
 n Herne und Valencia lebende und arbeitende audiovisuelle Künstlerin und F
 otografin. Nach einem Bachelor in Kultur- und Medienpädagogik (2018) schlo
 ss sie 2024 ihren Master in Medienkunst und Gestaltung an der Bauhaus-Univ
 ersität Weimar ab. 2021 verbrachte sie ein Auslandssemester im Bereich Vis
 uelle Kunst und Multimedia an der Universitat Politècnica de València\, in
  dem sich ihr Schwerpunkt in der Portraitfotografie vertiefte. Seit 2020 i
 st sie als freischaffende Künstlerin tätig und hat mit Galerien und kultur
 ellen Einrichtungen in verschiedenen internationalen Kontexten zusammengea
 rbeitet.\nIhre Arbeiten untersuchen die Beziehungen zwischen Mensch und Um
 gebung\, wobei sie Fotografie und audiovisuelle Medien als Werkzeuge nutzt
 \, um Intimität und Distanz sichtbar zu machen. Ihre Werke wurden in Ausst
 ellungen in Brasilien\, Chile\, Deutschland und Spanien gezeigt und laden 
 dazu ein\, individuelle und kollektive Identitäten im Spannungsfeld von Ra
 um und Wahrnehmung neu zu hinterfragen.\n\n&nbsp\;\nChristiane Heetmann is
 t durch das Studium der Fächer Mathematik und Kunst nach Dortmund gekommen
 . 1996-99 war sie Lehrbeauftragte der TU Dortmund im Fachbereich Kunst. 19
 95 war sie an der Gründung des Depot e.V. beteiligt\, wechselte allerdings
  wohnortbedingt zwischendurch nach Schwerte und trieb die Entwicklung des 
 kab34 mit Ausstellungen\, Ladenlokal und diversen Veranstaltungen voran. N
 ach dessen Schließung kehrte sie ins Depot zurück. Christiane Heetmann ist
  Mitglied des BBK Ruhrgebiet und der Produzentengalerie 42 in Dortmund mit
  langjähriger Ausstellungstätigkeit im In- und Ausland. Sie nutzt multiple
  Medien und Materialien und arbeitet wiederkehrend mit Papier und Rost\, a
 uch in Lichtobjekten oder kinetischen Werken. Im Zentrum ihrer Arbeit steh
 t immer wieder der Mensch mit seinen Ausdrucksformen und den Spuren\, die 
 er hinterlässt.\n\n&nbsp\;\nAlexander Lackmann\, geboren 1994 in Gelsenkir
 chen und aufgewachsen in Gladbeck\, absolvierte zunächst eine Ausbildung b
 ei einer Tochterfirma der Volksbank. Von 2017 bis 2018 engagierte er sich 
 ehrenamtlich bei den Streetworkern in Gelsenkirchen\, bevor er an die Folk
 wang Universität der Künste in Essen wechselte. Dort erlangte er 2023 den 
 Bachelor of Arts im Studiengang Fotografie und studiert aktuell „Photograp
 hy Studies and Practice – Master of Arts“. Sein Schwerpunkt liegt auf der 
 künstlerisch-dokumentarischen Fotografie\, oftmals mit einem Fokus auf urb
 ane Phänomene.\nAusgewählte Ausstellungen umfassen CALL IT A BOOK (2021\, 
 KOP.12\, Essen)\, Pixelprojekt Ruhrgebiet – Neuaufnahme (2023 und 2024\, W
 issenschaftspark Gelsenkirchen) und Folkwang Finale (2023\, SANAA\, Zollve
 rein\, Essen). Anstehende Ausstellungen sind unter anderem das STOPOVER (2
 025\, SANAA\, Zollverein\, Essen) und die Internationale Photoszene (2025\
 , Köln).\n\n&nbsp\;\nGine Selle\, Bildende Künstlerin und Dipl. Designerin
 \, lebt und arbeitet im Bayerischen Wald (Frauenau) und in Dortmund. Seit 
 den 90er Jahren malt\, zeichnet\, druckt\, fotografiert\, collagiert sie\,
  baut Objekte\, inszeniert Outdoor- Installationen und Raumgestaltungen un
 d stellt regelmäßig im In- und Ausland aus. Ihre Arbeiten sind durch versc
 hiedenste Kontraste geprägt\, ihre Materialien vielfältig und ihre Technik
 en sind immer wieder neu. In den letzten drei Jahren wurde sie z.B. für da
 s internationale Kunstfestival ‚artspace‘ in Bremerhaven ausgewählt\, stel
 lte im Kulturverein Linz/Österreich und Kunstverein Wörth e.V.\, sowie im 
 LWL Klostermuseum Kloster Dalheim und im Glasmuseum Frauenau aus und wurde
  zur „Brücke e.V.‘ nach Kleinmachnow eingeladen.\n
DTSTART:20250207T180000Z
DTEND:20250207T180000Z
GEO:00;0
LOCATION:Halle
ORGANIZER:
SEQUENCE:1
SUMMARY:Vernissage: Vom BeGreifen und Schreiten
TRANSP:OPAQUE
URL:https://www.depotdortmund.de/519-tandem-vom-begreifen-und-schreiten-2/2
 025-02-07-19-00.html
END:VEVENT
END:VCALENDAR
