BEGIN:VCALENDAR
VERSION:2.0
PRODID:-//Depot Dortmund//NONSGML kigkonsult.se iCalcreator 2.30.10//
CALSCALE:GREGORIAN
METHOD:PUBLISH
UID:33f502a2-02c3-41ae-8f55-08e6e2d22d9c
X-WR-CALNAME:iCagenda
X-WR-CALDESC:Event Management Extension for Joomla!
X-WR-RELCALID:3E26604A-50F4-4449-8B3E-E4F4932D05B5
X-WR-TIMEZONE:Europe/Berlin
BEGIN:VTIMEZONE
TZID:Europe/Berlin
BEGIN:STANDARD
TZNAME:CET
DTSTART:20241027T030000
TZOFFSETFROM:+0200
TZOFFSETTO:+0100
RDATE:20251026T030000
END:STANDARD
BEGIN:DAYLIGHT
TZNAME:CEST
DTSTART:20240331T020000
TZOFFSETFROM:+0100
TZOFFSETTO:+0200
RDATE:20250330T020000
RDATE:20260329T020000
END:DAYLIGHT
END:VTIMEZONE
BEGIN:VEVENT
UID:86dbe3ae-4634-410c-82fa-c41a7396c206
DTSTAMP:20260423T124254Z
CATEGORIES:Ausstellung
CLASS:PUBLIC
DESCRIPTION;ALTREP="CID:<FFFF__=0ABBE548DFE235B58f9e8a93d@coffeebean.com>":
 Mit der Ausstellungsreihe TANDEM schafft der Kulturort Depot eine Bühne fü
 r die Zusammenarbeit von Künstler*innen\, die sich an unterschiedlichen Pu
 nkten ihrer Karriere befinden und gemeinsam eine Präsentation erarbeiten. 
 Junge Studierende und Kreative am Beginn ihrer künstlerischen Laufbahn tre
 ffen auf Depotler*innen\, die sich bereits etabliert haben. Die TANDEM-Tea
 ms laden dazu ein\, an ihrem kreativen und persönlichen Austausch teilzuha
 ben.\nAufgrund der Umbaumaßnahmen in der Galerie präsentiert die Reihe TAN
 DEM in der Mittelhalle nun gleich zwei gemischte Doppel\, die sich zu eine
 m gemeinsamen Projekt zusammengeschlossen haben: Daša Geiger\, Christiane 
 Heetmann\, Alexander Lackmann und Gine Selle arbeiten in ihrer Ausstellung
  „Vom BeGreifen und Schreiten“ mit Fotografie\, Malerei\, Zeichnung und Li
 cht.\nIn einer sich rasant verändernden digitalen Welt wagen die vier Küns
 tler*innen einen entschleunigten Blick und eröffnen Facetten und Sichtweis
 en auf unser alltägliches BeGreifen und Schreiten: So erkunden sie handwer
 kliche Tätigkeiten\, dokumentieren aussterbende Fertigkeiten\, erzählen kl
 eine Geschichten vom Handeln\, entwickeln Chimären\, zeigen aber auch Ein-
  und Abdrücke unseres Handelns im Alltag auf.\n&nbsp\;\nÜber die Künstler*
 innen\n&nbsp\;\nDaša Marie Geiger\, (*1989) ist eine in Herne und Valencia
  lebende und arbeitende audiovisuelle Künstlerin und Fotografin. Nach eine
 m Bachelor in Kultur- und Medienpädagogik (2018) schloss sie 2024 ihren Ma
 ster in Medienkunst und Gestaltung an der Bauhaus-Universität Weimar ab. 2
 021 verbrachte sie ein Auslandssemester im Bereich Visuelle Kunst und Mult
 imedia an der Universitat Politècnica de València\, in dem sich ihr Schwer
 punkt in der Portraitfotografie vertiefte. Seit 2020 ist sie als freischaf
 fende Künstlerin tätig und hat mit Galerien und kulturellen Einrichtungen 
 in verschiedenen internationalen Kontexten zusammengearbeitet.\nIhre Arbei
 ten untersuchen die Beziehungen zwischen Mensch und Umgebung\, wobei sie F
 otografie und audiovisuelle Medien als Werkzeuge nutzt\, um Intimität und 
 Distanz sichtbar zu machen. Ihre Werke wurden in Ausstellungen in Brasilie
 n\, Chile\, Deutschland und Spanien gezeigt und laden dazu ein\, individue
 lle und kollektive Identitäten im Spannungsfeld von Raum und Wahrnehmung n
 eu zu hinterfragen.\n\n&nbsp\;\nChristiane Heetmann ist durch das Studium 
 der Fächer Mathematik und Kunst nach Dortmund gekommen. 1996-99 war sie Le
 hrbeauftragte der TU Dortmund im Fachbereich Kunst. 1995 war sie an der Gr
 ündung des Depot e.V. beteiligt\, wechselte allerdings wohnortbedingt zwis
 chendurch nach Schwerte und trieb die Entwicklung des kab34 mit Ausstellun
 gen\, Ladenlokal und diversen Veranstaltungen voran. Nach dessen Schließun
 g kehrte sie ins Depot zurück. Christiane Heetmann ist Mitglied des BBK Ru
 hrgebiet und der Produzentengalerie 42 in Dortmund mit langjähriger Ausste
 llungstätigkeit im In- und Ausland. Sie nutzt multiple Medien und Material
 ien und arbeitet wiederkehrend mit Papier und Rost\, auch in Lichtobjekten
  oder kinetischen Werken. Im Zentrum ihrer Arbeit steht immer wieder der M
 ensch mit seinen Ausdrucksformen und den Spuren\, die er hinterlässt.\n\n&
 nbsp\;\nAlexander Lackmann\, geboren 1994 in Gelsenkirchen und aufgewachse
 n in Gladbeck\, absolvierte zunächst eine Ausbildung bei einer Tochterfirm
 a der Volksbank. Von 2017 bis 2018 engagierte er sich ehrenamtlich bei den
  Streetworkern in Gelsenkirchen\, bevor er an die Folkwang Universität der
  Künste in Essen wechselte. Dort erlangte er 2023 den Bachelor of Arts im 
 Studiengang Fotografie und studiert aktuell „Photography Studies and Pract
 ice – Master of Arts“. Sein Schwerpunkt liegt auf der künstlerisch-dokumen
 tarischen Fotografie\, oftmals mit einem Fokus auf urbane Phänomene.\nAusg
 ewählte Ausstellungen umfassen CALL IT A BOOK (2021\, KOP.12\, Essen)\, Pi
 xelprojekt Ruhrgebiet – Neuaufnahme (2023 und 2024\, Wissenschaftspark Gel
 senkirchen) und Folkwang Finale (2023\, SANAA\, Zollverein\, Essen). Anste
 hende Ausstellungen sind unter anderem das STOPOVER (2025\, SANAA\, Zollve
 rein\, Essen) und die Internationale Photoszene (2025\, Köln).\n\n&nbsp\;
 \nGine Selle\, Bildende Künstlerin und Dipl. Designerin\, lebt und arbeite
 t im Bayerischen Wald (Frauenau) und in Dortmund. Seit den 90er Jahren mal
 t\, zeichnet\, druckt\, fotografiert\, collagiert sie\, baut Objekte\, ins
 zeniert Outdoor- Installationen und Raumgestaltungen und stellt regelmäßig
  im In- und Ausland aus. Ihre Arbeiten sind durch verschiedenste Kontraste
  geprägt\, ihre Materialien vielfältig und ihre Techniken sind immer wiede
 r neu. In den letzten drei Jahren wurde sie z.B. für das internationale Ku
 nstfestival ‚artspace‘ in Bremerhaven ausgewählt\, stellte im Kulturverein
  Linz/Österreich und Kunstverein Wörth e.V.\, sowie im LWL Klostermuseum K
 loster Dalheim und im Glasmuseum Frauenau aus und wurde zur „Brücke e.V.‘ 
 nach Kleinmachnow eingeladen.\n
DTSTART:20250302T180100Z
DTEND:20250302T180100Z
GEO:00;0
LOCATION:Halle
ORGANIZER:
SEQUENCE:1
SUMMARY:TANDEM: Vom BeGreifen und Schreiten
TRANSP:OPAQUE
URL:https://www.depotdortmund.de/518-tandem-vom-begreifen-und-schreiten/202
 5-03-02-19-01.html
END:VEVENT
END:VCALENDAR
