BEGIN:VCALENDAR
VERSION:2.0
PRODID:-//Depot Dortmund//NONSGML kigkonsult.se iCalcreator 2.30.10//
CALSCALE:GREGORIAN
METHOD:PUBLISH
UID:75928392-22b4-44dc-9b85-b9469594e52e
X-WR-CALNAME:iCagenda
X-WR-CALDESC:Event Management Extension for Joomla!
X-WR-RELCALID:3E26604A-50F4-4449-8B3E-E4F4932D05B5
X-WR-TIMEZONE:Europe/Berlin
BEGIN:VTIMEZONE
TZID:Europe/Berlin
BEGIN:STANDARD
TZNAME:CET
DTSTART:20241027T030000
TZOFFSETFROM:+0200
TZOFFSETTO:+0100
RDATE:20251026T030000
END:STANDARD
BEGIN:DAYLIGHT
TZNAME:CEST
DTSTART:20240331T020000
TZOFFSETFROM:+0100
TZOFFSETTO:+0200
RDATE:20250330T020000
RDATE:20260329T020000
END:DAYLIGHT
END:VTIMEZONE
BEGIN:VEVENT
UID:d9c2e1dc-7a6c-450a-bc81-2af6f3816e37
DTSTAMP:20260423T152425Z
CATEGORIES:Märkte & Festivals
CLASS:PUBLIC
DESCRIPTION;ALTREP="CID:<FFFF__=0ABBE548DFE235B58f9e8a93d@coffeebean.com>":
 SAVE THE DATE: Der erste Nachtflohmarkt 2025 findet am 25.01. statt!\nDie 
 Nachtflohmarkt-Crew lädt im Januar zu einer winterlichen Runde Trödel\, Mu
 sik und Kulturprogramm. Wie immer warten in der Mittelhalle zahlreiche pri
 vate Stände mit Vintage-Schätzen und Dachbodenfunden. Dazu gibt es Livemus
 ik\, Getränke und kulinarische Kleinigkeiten\, die einen abendlichen Flohm
 arktbummel noch schöner machen.\n&nbsp\;\nAUF DER BÜHNE: &gt\;&gt\;TITUS W
 ALDENFELS&lt\;&lt\;\nFoto: W. Kienast\nTitus Waldenfels spielt Western Swi
 ng\, Blues &amp\; Songs aller Art mit Gitarre\, Geige\, Banjo\, Steel Guit
 ar und Foot Bass. Seit 25 Jahren ist der Müncher on the road\, hat mit Grö
 ßen wie Embryo\, Mal Waldron oder Eugene Chadbourne gearbeitet und Musik f
 ür Theaterproduktionen wie den ‚Komödienstadel‘ oder den ‚Varreckten Hof‘ 
 von Georg Ringsgwandl gemacht.\n&nbsp\;\nAN DEN PLATTENTELLERN: &gt\;&gt\;
 DJ MARTINI&lt\;&lt\;\n\nDer Dortmunder DJ liebt den Swing. In seinen Platt
 enkisten befinden sich Originale aus den 30er und 40er Jahren ebenso wie I
 nterpretationen aus dem Heute und Hier. Diese Musik kombiniert er mit eine
 r Prise Blues\, Soul und Rock‘n‘Roll. Wenn es groovt\, ist es gut.\n&nbsp\
 ;\nBitte beachten: Die Anmeldephase für einen Stand ist beendet.\nDa es si
 ch um eine Veranstaltung für privaten Trödel handelt\, müssen gewerbliche 
 Verkäufer*innen leider draußen bleiben. Telefonische Anmeldungen und Anfra
 gen für Stände per E-Mail können aus organisatorischen Gründen leider nich
 t berücksichtigt werden! Wir bitten daher von diesen Anfragen abzusehen un
 d sich - im Zeitraum der Anmeldephase - direkt über das Online-Formular zu
  bewerben. Um den Start der Anmeldephase nicht zu verpassen\, abonniert do
 ch am besten unseren Newsletter oder folgt uns auf Facebook und Instagram.
 \n&nbsp\;\nHinweis: Das Mitbringen von Hunden ist auf dem Nachtflohmarkt n
 icht erlaubt!\n&nbsp\;\nDer Nachtflohmarkt wird gesponsert von:\n
DTSTART:20250125T160000Z
DTEND:20250125T160000Z
GEO:00;0
LOCATION:Halle
ORGANIZER:
SEQUENCE:1
SUMMARY:Nachtflohmarkt
TRANSP:OPAQUE
URL:https://www.depotdortmund.de/512-nachtflohmarkt-12/2025-01-25-17-00.htm
 l
END:VEVENT
END:VCALENDAR
