BEGIN:VCALENDAR
VERSION:2.0
PRODID:-//Depot Dortmund//NONSGML kigkonsult.se iCalcreator 2.30.10//
CALSCALE:GREGORIAN
METHOD:PUBLISH
UID:4ef217bb-5bb5-4625-855f-30e406fef05a
X-WR-CALNAME:iCagenda
X-WR-CALDESC:Event Management Extension for Joomla!
X-WR-RELCALID:3E26604A-50F4-4449-8B3E-E4F4932D05B5
X-WR-TIMEZONE:Europe/Berlin
BEGIN:VTIMEZONE
TZID:Europe/Berlin
BEGIN:STANDARD
TZNAME:CET
DTSTART:20241027T030000
TZOFFSETFROM:+0200
TZOFFSETTO:+0100
RDATE:20251026T030000
END:STANDARD
BEGIN:DAYLIGHT
TZNAME:CEST
DTSTART:20240331T020000
TZOFFSETFROM:+0100
TZOFFSETTO:+0200
RDATE:20250330T020000
RDATE:20260329T020000
END:DAYLIGHT
END:VTIMEZONE
BEGIN:VEVENT
UID:5692309d-a918-41d8-9264-3882da1064b5
DTSTAMP:20260425T125042Z
CATEGORIES:Ausstellung
CLASS:PUBLIC
DESCRIPTION;ALTREP="CID:<FFFF__=0ABBE548DFE235B58f9e8a93d@coffeebean.com>":
 Der traditionsreiche Wettbewerb zeigt sich in neuem Format.\nEr bietet 36 
 Künstler*innen die Chance\, jeweils eine Ausstellungsfläche im Kulturort D
 epot Dortmund zu präsentieren. Aus den Teilnehmenden wählt eine Jury sechs
  Künstler*innen aus\, die sich an der Gestaltung der Grußkarten-Edition be
 teiligen dürfen.\nDiese enthält sechs Grußkarten\, die im Offsetdruck mit 
 Siebdruckveredelungen produziert und zusammen mit passenden Umschlägen in 
 einer edlen Kartonage verpackt werden. Dabei wird es wie bisher eine hands
 ignierte Auflage von 500 Stück für die Versendung durch den Oberbürgermeis
 ter der Stadt Dortmund geben. Gleichzeitig ist auch eine unsignierte Grußk
 arten-Edition für den Verkauf geplant.\nEine wunderbare Gelegenheit\, das 
 künstlerisches Genre der Grafik und die Arbeiten von lokalen Künstler*inne
 n näher kennenzulernen!
DTSTART:20241205T170100Z
DTEND:20241205T180000Z
GEO:00;0
LOCATION:Halle
ORGANIZER:
SEQUENCE:1
SUMMARY:GRAFIK AUS DORTMUND 2024
TRANSP:OPAQUE
URL:https://www.depotdortmund.de/509-grafik-aus-dortmund-4/2024-12-05-18-01
 .html
END:VEVENT
END:VCALENDAR
