BEGIN:VCALENDAR
VERSION:2.0
PRODID:-//Depot Dortmund//NONSGML kigkonsult.se iCalcreator 2.30.10//
CALSCALE:GREGORIAN
METHOD:PUBLISH
UID:36cea091-5d24-40b6-a79c-d1897b4fc4d9
X-WR-CALNAME:iCagenda
X-WR-CALDESC:Event Management Extension for Joomla!
X-WR-RELCALID:3E26604A-50F4-4449-8B3E-E4F4932D05B5
X-WR-TIMEZONE:Europe/Berlin
BEGIN:VTIMEZONE
TZID:Europe/Berlin
BEGIN:STANDARD
TZNAME:CET
DTSTART:20241027T030000
TZOFFSETFROM:+0200
TZOFFSETTO:+0100
RDATE:20251026T030000
END:STANDARD
BEGIN:DAYLIGHT
TZNAME:CEST
DTSTART:20240331T020000
TZOFFSETFROM:+0100
TZOFFSETTO:+0200
RDATE:20250330T020000
RDATE:20260329T020000
END:DAYLIGHT
END:VTIMEZONE
BEGIN:VEVENT
UID:abdf1bbc-cbfc-43be-9768-af7b12b9e8b6
DTSTAMP:20260423T152004Z
CATEGORIES:Sonstiges
CLASS:PUBLIC
DESCRIPTION;ALTREP="CID:<FFFF__=0ABBE548DFE235B58f9e8a93d@coffeebean.com>":
 Im Depot können sich kleine Geister und ihre großen Begleiter*innen wetter
 unabhängig auf ihre Streifzüge durch die Nachbarschaft vorbereiten und den
  Halloween-Abend in schauriger Atmosphäre einläuten.\nEin großes Zelt in d
 er Mittelhalle bietet nicht nur allerhang wundersame Wesen und Deko zum En
 tdecken\, sondern lädt auch dazu ein\, gemeinsam kreativ zu werden. Hier w
 erden Buttons und Anstecker gebastelt\, Stoffbeutel für die spätere „Süßes
 -sonst-gibt’s-Saures“-Runde bemalt und kleine Gruselgestalten aus Recyclin
 g-Material zum Leben erweckt.\nFür den Feinschliff am Kostüm können sich d
 ie kleinen Besucher*innen schminken lassen.\nUnd ob es in der alten Straße
 nbahnwerkstatt wirklich spukt? Das lässt sich am besten bei unserer Schatz
 suche herausfinden! Hier kann man schon die ersten Süßigkeiten für den sel
 bst gestalteten Stoffbeutel absahnen\, indem man den Geistern des Hauses e
 inen Teil des sagenumwobenen Depot-Schatzes abluchst!\n&nbsp\;\nDanach fol
 gt abendliches spooky Special: Der legendäre Tischtennisrundlauf UMDIE bei
  HALLOWEEN / SAURES.
DTSTART:20241031T150000Z
DTEND:20241031T150000Z
GEO:00;0
LOCATION:Halle
ORGANIZER:
SEQUENCE:1
SUMMARY:Halloween / SÜSSES
TRANSP:OPAQUE
URL:https://www.depotdortmund.de/506-halloween-suesses/2024-10-31-16-00.htm
 l
END:VEVENT
END:VCALENDAR
