BEGIN:VCALENDAR
VERSION:2.0
PRODID:-//Depot Dortmund//NONSGML kigkonsult.se iCalcreator 2.30.10//
CALSCALE:GREGORIAN
METHOD:PUBLISH
UID:1ae4c071-914f-4224-87ad-a995b635366a
X-WR-CALNAME:iCagenda
X-WR-CALDESC:Event Management Extension for Joomla!
X-WR-RELCALID:3E26604A-50F4-4449-8B3E-E4F4932D05B5
X-WR-TIMEZONE:Europe/Berlin
BEGIN:VTIMEZONE
TZID:Europe/Berlin
BEGIN:STANDARD
TZNAME:CET
DTSTART:20231029T030000
TZOFFSETFROM:+0200
TZOFFSETTO:+0100
RDATE:20241027T030000
RDATE:20251026T030000
END:STANDARD
BEGIN:DAYLIGHT
TZNAME:CEST
DTSTART:20240331T020000
TZOFFSETFROM:+0100
TZOFFSETTO:+0200
RDATE:20250330T020000
RDATE:20260329T020000
END:DAYLIGHT
END:VTIMEZONE
BEGIN:VEVENT
UID:f41bf36e-25c1-4b77-94d5-ff08b0c4e220
DTSTAMP:20260423T152538Z
CATEGORIES:Sonstiges
CLASS:PUBLIC
DESCRIPTION;ALTREP="CID:<FFFF__=0ABBE548DFE235B58f9e8a93d@coffeebean.com>":
 Zum sechsten Mal finden am 05./06. und 12./13. Oktober 2024 die stadtweite
 n Offenen Ateliers Dortmund statt. Alle zwei Jahre bieten Kunstschaffende 
 und Kreative im Rahmen dieser Veranstaltung einen Blick hinter die Kulisse
 n – in Arbeitsräume und Ateliers\, auf Werke und Arbeitsweisen.\nUm Intere
 ssierten die Gelegenheit zu bieten\, möglichst viele der zahlreichen Orte 
 in ganz Dortmund zu besichtigen\, finden die stadtweiten Offenen Ateliers 
 an zwei Wochenenden statt. Im Depot\, das westlich der B54 liegt\, öffnen 
 sich am 12. und 13.10. die Türen.&nbsp\;\nFolgende Depotler*innen freuen s
 ich auf Besuch im Atelier: Heide Kemper\, Michael Jaspert\, Bärbel Thier-J
 aspert\, Gine Selle\, Karoline Hoffmann-Pudelko\, Susanne Beringer\, Lutz 
 Kemper\, Heike Kollakowski\, Andreas Bischoff\, Monika Ihl und Ümran Kerma
 n.\n&nbsp\;\nTermine:\n12.10.2024 um 15:00 - 20:00 Uhr\n&amp\; 13.10.2024 
 um 11:00 - 18:00 Uhr\n&nbsp\;\nEintritt:\nfrei!
DTSTART:20241012T130000Z
DTEND:20241013T160000Z
GEO:00;0
LOCATION:Dortmund
ORGANIZER:
SEQUENCE:1
SUMMARY:Offene Ateliers Dortmund
TRANSP:OPAQUE
URL:https://www.depotdortmund.de/505-offene-ateliers-dortmund-2/2024-10-13-
 11-00.html
END:VEVENT
END:VCALENDAR
