BEGIN:VCALENDAR
VERSION:2.0
PRODID:-//Depot Dortmund//NONSGML kigkonsult.se iCalcreator 2.30.10//
CALSCALE:GREGORIAN
METHOD:PUBLISH
UID:edb5ce33-989f-44c5-87f7-23d3cbae1719
X-WR-CALNAME:iCagenda
X-WR-CALDESC:Event Management Extension for Joomla!
X-WR-RELCALID:3E26604A-50F4-4449-8B3E-E4F4932D05B5
X-WR-TIMEZONE:Europe/Berlin
BEGIN:VTIMEZONE
TZID:Europe/Berlin
BEGIN:STANDARD
TZNAME:CET
DTSTART:20231029T030000
TZOFFSETFROM:+0200
TZOFFSETTO:+0100
RDATE:20241027T030000
RDATE:20251026T030000
END:STANDARD
BEGIN:DAYLIGHT
TZNAME:CEST
DTSTART:20240331T020000
TZOFFSETFROM:+0100
TZOFFSETTO:+0200
RDATE:20250330T020000
END:DAYLIGHT
END:VTIMEZONE
BEGIN:VEVENT
UID:66e78ec8-5d7e-44d1-a4f1-465eb8031457
DTSTAMP:20260423T083256Z
CATEGORIES:Sonstiges
CLASS:PUBLIC
DESCRIPTION;ALTREP="CID:<FFFF__=0ABBE548DFE235B58f9e8a93d@coffeebean.com>":
 Soffi (sustainability office) – das neue mobile Nachhaltigkeitsbüro der FH
  Dortmund:Green Office\, Veranstaltungsort und Workshopfläche\; all das ve
 reint das neue mobile Nachhaltigkeitsbüro der FH Dortmund.Marie Gowert hat
  im Rahmen ihrer Bachelorarbeit den Bauwagen eigens gestaltet und ausgebau
 t\, um all den Anforderungen im Raum gerecht zu werden.Entstanden ist ein 
 mobiles und flexibles Möbelsystem\, welches nach Belieben anpassbar ist. S
 chaut vorbei und probiert es aus!\nMüll macht Möbel – Kreislaufwirtschaf
 t zum Anfassen am Beispiel von Altholz DISKUSSION/ ENTDECKENWelche Potenzi
 ale bietet die Kreislaufwirtschaft? Dieser Frage ist Karoline Marx von der
  FH Dortmund in ihrem Bachelorprojekt aus gestalterischer Perspektive nach
 gegangen. Entstanden ist ein Möbel aus Altholz\, das die Funktion einer A
 usstellungsfläche mit der Ästhetik eines Wohnmöbels verbindet. Ihr seid
  eingeladen\, euch mit den grundlegenden Begriffen der Kreislaufwirtschaft
  vertraut zu machen\, ihre Prinzipien am Möbelstück zu entdecken und alt
 ernative Perspektiven einzunehmen.\n&nbsp\;\nTREIBHAUS DEPOT\nVeranstaltet
  von:\n\nIn Kooperation mit:\n&nbsp\;&nbsp\; \n&nbsp\;&nbsp\;&nbsp\; \n&nb
 sp\;&nbsp\;&nbsp\;\nGefördert durch:\n &nbsp\; &nbsp\;&nbsp\; &nbsp\;&nbsp
 \;&nbsp\;\n&nbsp\;&nbsp\;&nbsp\;
DTSTART:20240622T120000Z
DTEND:20240622T120000Z
GEO:00;0
LOCATION:Depot
ORGANIZER:
SEQUENCE:1
SUMMARY:Müll macht Möbel – Kreislaufwirtschaft zum Anfassen am Beispiel v
 on Altholz
TRANSP:OPAQUE
URL:https://www.depotdortmund.de/500-mull-macht-mobel-kreislaufwirtschaft-z
 um-anfassen-am-beispiel-von-altholz/2024-06-22-14-00.html
END:VEVENT
END:VCALENDAR
