BEGIN:VCALENDAR
VERSION:2.0
PRODID:-//Depot Dortmund//NONSGML kigkonsult.se iCalcreator 2.30.10//
CALSCALE:GREGORIAN
METHOD:PUBLISH
UID:5a2c66a2-e6b3-437e-a794-257d9ed880f9
X-WR-CALNAME:iCagenda
X-WR-CALDESC:Event Management Extension for Joomla!
X-WR-RELCALID:3E26604A-50F4-4449-8B3E-E4F4932D05B5
X-WR-TIMEZONE:Europe/Berlin
BEGIN:VTIMEZONE
TZID:Europe/Berlin
BEGIN:STANDARD
TZNAME:CET
DTSTART:20231029T030000
TZOFFSETFROM:+0200
TZOFFSETTO:+0100
RDATE:20241027T030000
RDATE:20251026T030000
END:STANDARD
BEGIN:DAYLIGHT
TZNAME:CEST
DTSTART:20240331T020000
TZOFFSETFROM:+0100
TZOFFSETTO:+0200
RDATE:20250330T020000
END:DAYLIGHT
END:VTIMEZONE
BEGIN:VEVENT
UID:aea9b211-e8dd-471f-93b8-bc968e89f838
DTSTAMP:20260423T123653Z
CATEGORIES:Märkte & Festivals
CLASS:PUBLIC
DESCRIPTION;ALTREP="CID:<FFFF__=0ABBE548DFE235B58f9e8a93d@coffeebean.com>":
 Der Parzelle Verein für interdisziplinäre Kulturprojekte lädt auch 2024 wi
 eder zum visual sound outdoor festival! Hier gibt es Free Jazz\, Improvisi
 erte Musik und Experimentelles jenseits des musikalischen Mainstreams.\nDa
 s Festivalgelände wird zum Treffpunkt und Begegnungsort - sowohl für das P
 ublikum als auch die regionalen wie internationalen Künstler*innen und Ban
 dprojekte. Als besonderes Schmankerl finden sich letztere in sogenannten M
 AGIG ENSEMBLES neu zusammen und frönen der Magie der Improvisation und des
  Experiments.\nMit dabei sind unter anderem:\nHIBY Quartett - Hans Peter H
 iby\, Rieko Okuda\, Meinrad Kneer\, Willi Kellers\nJooklo XXL - Virginia G
 enta\, Michele Guglielmi\, Otto Willberg\, David Vanzan\, Andrea Davì\nLui
 s Vicente TRIO - Luis Vicente\, Goncalo Almeida\, Pedro Melo Alves\nQuarte
 tt - Camila Nebbia\, Barbara Togander\, Joanna Mattrey\, Andrea Parkins&nb
 sp\;\nSPINIFEX - Tobias Klein\, Bart Maris\, John Dikeman\, Jasper Stadhou
 ders\, Goncalo Almeida\, Philipp Moser\nM-OO - Oona Kastner\, Marvin Blamb
 erg\nFestivalmusiker*innen &amp\; &nbsp\;Gäste: \nSalome Amend\, Emily Wit
 tbrodt\, Gunda Gottschalk\, Vinicius Cajado\, Jonas Westergaard\, Joanna M
 attrey\, Barbara Togander\, Camilla Nebbia\, Andrea Parkins Luis Vicente\,
  Pedro Melo Alves\, Tobias Klein\, Philipp Moser\, John Dikeman\, Bart Mar
 is\, Jasper Stadthouders\n&nbsp\;\nAußerdem am Start: \nACH KUHZUNFT - LIV
 E DJ\nNOL beeldhouer - Skulpturen von Arno Kuppens &nbsp\;\nAlle Infos zum
  Programm und dem Ticketverkauf gibt es hier: https://www.parzelledortmund
 .de/das-festival-2024/
DTSTART:20240815T100000Z
DTEND:20240817T100100Z
GEO:00;0
LOCATION:Hinterhof
ORGANIZER:
SEQUENCE:1
SUMMARY:Visual sound outdoor festival 2024
TRANSP:OPAQUE
URL:https://www.depotdortmund.de/498-visual-sound-outdoor-festival-2024.htm
 l
END:VEVENT
END:VCALENDAR
