BEGIN:VCALENDAR
VERSION:2.0
PRODID:-//Depot Dortmund//NONSGML kigkonsult.se iCalcreator 2.30.10//
CALSCALE:GREGORIAN
METHOD:PUBLISH
UID:154bd387-8a09-4e7f-a14a-98b441eab5e3
X-WR-CALNAME:iCagenda
X-WR-CALDESC:Event Management Extension for Joomla!
X-WR-RELCALID:3E26604A-50F4-4449-8B3E-E4F4932D05B5
X-WR-TIMEZONE:Europe/Berlin
BEGIN:VTIMEZONE
TZID:Europe/Berlin
BEGIN:STANDARD
TZNAME:CET
DTSTART:20231029T030000
TZOFFSETFROM:+0200
TZOFFSETTO:+0100
RDATE:20241027T030000
RDATE:20251026T030000
END:STANDARD
BEGIN:DAYLIGHT
TZNAME:CEST
DTSTART:20240331T020000
TZOFFSETFROM:+0100
TZOFFSETTO:+0200
RDATE:20250330T020000
END:DAYLIGHT
END:VTIMEZONE
BEGIN:VEVENT
UID:98dac4a4-e92d-4d42-bd9a-e0545cb94c55
DTSTAMP:20260423T142539Z
CATEGORIES:Märkte & Festivals
CLASS:PUBLIC
DESCRIPTION;ALTREP="CID:<FFFF__=0ABBE548DFE235B58f9e8a93d@coffeebean.com>":
 Vom 5. bis 15. September findet wieder FAVORITEN statt. Das Festival der F
 reien Darstellenden Künste NRW geht in die zweite Ausgabe unter der künstl
 erischen Leitung von Anne Mahlow\, Sina-Marie Schneller und Margo Zālīte. 
 Mit dem Motto&nbsp\;(Un)Learning for possible futures. There can be no ret
 urn to normal because normal was the problem in the first place&nbsp\;regt
  das Festival zum gegenseitigen (Ver)Lernen und miteinander Wachsen an. Im
  Theater im Depot und an weiteren Orten präsentiert FAVORITEN ausgewählte 
 Performances\, Tanz- und Theaterstücke\, ein internationales Residenzprogr
 amm und verschiedene Diskursveranstaltungen.\nFAVORITEN wurde 1985 unter d
 em Namen „Theaterzwang“ gegründet und findet seitdem alle zwei Jahre in Do
 rtmund statt. Es blickt auf eine langjährige Geschichte der Freien Theater
 arbeit in NRW zurück.\nVeranstaltet wird FAVORITEN vom NRW Landesbüro Frei
 e Darstellende Künste e.V. und dem Kulturbüro der Stadt Dortmund.\nAlle In
 fos zu den Vorstellungen und dem Rahmenprogramm gibt es hier:\nfavoriten-f
 estival.de
DTSTART:20240905T070000Z
DTEND:20240915T215500Z
GEO:00;0
LOCATION:Halle
ORGANIZER:
SEQUENCE:1
SUMMARY:FAVORITEN Festival 2024
TRANSP:OPAQUE
URL:https://www.depotdortmund.de/497-favoriten-festival-2024.html
END:VEVENT
END:VCALENDAR
