BEGIN:VCALENDAR
VERSION:2.0
PRODID:-//Depot Dortmund//NONSGML kigkonsult.se iCalcreator 2.30.10//
CALSCALE:GREGORIAN
METHOD:PUBLISH
UID:478d6d70-8095-427a-a599-20873b93c1b8
X-WR-CALNAME:iCagenda
X-WR-CALDESC:Event Management Extension for Joomla!
X-WR-RELCALID:3E26604A-50F4-4449-8B3E-E4F4932D05B5
X-WR-TIMEZONE:Europe/Berlin
BEGIN:VTIMEZONE
TZID:Europe/Berlin
BEGIN:STANDARD
TZNAME:CET
DTSTART:20231029T030000
TZOFFSETFROM:+0200
TZOFFSETTO:+0100
RDATE:20241027T030000
RDATE:20251026T030000
END:STANDARD
BEGIN:DAYLIGHT
TZNAME:CEST
DTSTART:20240331T020000
TZOFFSETFROM:+0100
TZOFFSETTO:+0200
RDATE:20250330T020000
END:DAYLIGHT
END:VTIMEZONE
BEGIN:VEVENT
UID:da815858-fe03-498e-a516-eb3ac38a0444
DTSTAMP:20260421T085438Z
CATEGORIES:Märkte & Festivals
CLASS:PUBLIC
DESCRIPTION;ALTREP="CID:<FFFF__=0ABBE548DFE235B58f9e8a93d@coffeebean.com>":
 Einige der Depotler*innen beteiligen sich wieder an den Hofmärkten in der 
 Nordstadt und machen den Hinterhof des Depots zum Umschlagplatz für allerl
 ei Alltagströdel\, Kunst und Selbstgemachtes!\nNebenan im Depot-Gebäude kö
 nnen die Ausstellungen THE PAST IS THE KEY TO THE FUTURE und INDEX.KOLLEKT
 IV: VOLUME 1 kostenlos besucht werden.\n&nbsp\;
DTSTART:20240601T090000Z
DTEND:20240601T090000Z
GEO:00;0
LOCATION:Hinterhof & Halle
ORGANIZER:
SEQUENCE:1
SUMMARY:Hofmärkte Nordstadt
TRANSP:OPAQUE
URL:https://www.depotdortmund.de/495-hofmaerkte-nordstadt-2/2024-06-01-11-0
 0.html
END:VEVENT
END:VCALENDAR
