BEGIN:VCALENDAR
VERSION:2.0
PRODID:-//Depot Dortmund//NONSGML kigkonsult.se iCalcreator 2.30.10//
CALSCALE:GREGORIAN
METHOD:PUBLISH
UID:d545f7ea-5881-4766-8ef1-f542644a12b3
X-WR-CALNAME:iCagenda
X-WR-CALDESC:Event Management Extension for Joomla!
X-WR-RELCALID:3E26604A-50F4-4449-8B3E-E4F4932D05B5
X-WR-TIMEZONE:Europe/Berlin
BEGIN:VTIMEZONE
TZID:Europe/Berlin
BEGIN:STANDARD
TZNAME:CET
DTSTART:20231029T030000
TZOFFSETFROM:+0200
TZOFFSETTO:+0100
RDATE:20241027T030000
RDATE:20251026T030000
END:STANDARD
BEGIN:DAYLIGHT
TZNAME:CEST
DTSTART:20240331T020000
TZOFFSETFROM:+0100
TZOFFSETTO:+0200
RDATE:20250330T020000
END:DAYLIGHT
END:VTIMEZONE
BEGIN:VEVENT
UID:330a1780-ba0b-49cf-bfa8-e0477d428c17
DTSTAMP:20260423T094115Z
CATEGORIES:Sonstiges
CLASS:PUBLIC
DESCRIPTION;ALTREP="CID:<FFFF__=0ABBE548DFE235B58f9e8a93d@coffeebean.com>":
 Kaffee\, Kuchen\, Musik und kühle Drinks - ein perfekter Start in den Sonn
 tag und gemütlicher Ausklang von TREIBHAUS DEPOT! Die beliebte Akustik-Rei
 he aus dem Rekorder lädt zum Lauschen und Plauschen in die Mittelhalle.\nW
 ir freuen uns auf Musikerin Maryaka aus Köln: Gefühlvolle Texte treffen au
 f sphärisch-melancholisches Gitarrenspiel und eine warme Stimme\, die von 
 queeren Lovestorys\, gebrochenen Herzen und inneren Konflikten singt.\nFot
 o: Maryaka\n&nbsp\;\n&nbsp\;\nTREIBHAUS DEPOT\nVeranstaltet von:\n\n&nbsp\
 ;\nIn Kooperation mit:\n&nbsp\;&nbsp\; \n&nbsp\;&nbsp\;&nbsp\; \n&nbsp\;&n
 bsp\;&nbsp\;\n&nbsp\;\nGefördert durch:\n &nbsp\; &nbsp\;&nbsp\; &nbsp\;&n
 bsp\;&nbsp\;\n&nbsp\;&nbsp\;&nbsp\;
DTSTART:20240630T120000Z
DTEND:20240630T120000Z
GEO:00;0
LOCATION:Halle
ORGANIZER:
SEQUENCE:1
SUMMARY:Songs & Cakes
TRANSP:OPAQUE
URL:https://www.depotdortmund.de/491-songs-cakes/2024-06-30-14-00.html
END:VEVENT
END:VCALENDAR
