BEGIN:VCALENDAR
VERSION:2.0
PRODID:-//Depot Dortmund//NONSGML kigkonsult.se iCalcreator 2.30.10//
CALSCALE:GREGORIAN
METHOD:PUBLISH
UID:7f6fe576-77f8-4774-8469-568b9ec37be0
X-WR-CALNAME:iCagenda
X-WR-CALDESC:Event Management Extension for Joomla!
X-WR-RELCALID:3E26604A-50F4-4449-8B3E-E4F4932D05B5
X-WR-TIMEZONE:Europe/Berlin
BEGIN:VTIMEZONE
TZID:Europe/Berlin
BEGIN:STANDARD
TZNAME:CET
DTSTART:20231029T030000
TZOFFSETFROM:+0200
TZOFFSETTO:+0100
RDATE:20241027T030000
RDATE:20251026T030000
END:STANDARD
BEGIN:DAYLIGHT
TZNAME:CEST
DTSTART:20240331T020000
TZOFFSETFROM:+0100
TZOFFSETTO:+0200
RDATE:20250330T020000
END:DAYLIGHT
END:VTIMEZONE
BEGIN:VEVENT
UID:5a3eeb6f-15e3-4b3d-858b-72ab62a1356f
DTSTAMP:20260421T132224Z
CATEGORIES:Vortrag
CLASS:PUBLIC
DESCRIPTION;ALTREP="CID:<FFFF__=0ABBE548DFE235B58f9e8a93d@coffeebean.com>":
 Paläoklimatologie: Ein kompliziertes Wort\, hinter dem sich eine spannende
  Disziplin der Klimaforschung verbirgt. Zusammen mit Meereswissenschaftler
  Dr. Tim Kalvelage und Fotograf Jan Richard Heinicke begeben wir uns auf S
 purensuche. Welche Klimaarchive ermöglichen einen Blick in die Vergangenhe
 it und was können wir daraus über die gegenwärtigen und zukünftigen Klimae
 ntwicklungen lernen? Bei der Sonntagsmatinee mit Kaffee und Snacks treffen
  Forschung und Dokumentarfotografie in der Ausstellung „The Past is the Ke
 y to the Future“ aufeinander.\n&nbsp\;\nTREIBHAUS DEPOT\nVeranstaltet von:
 \n\n&nbsp\;\nIn Kooperation mit:\n &nbsp\;&nbsp\; \n&nbsp\;&nbsp\;&nbsp\; 
 \n&nbsp\;&nbsp\;&nbsp\;\n&nbsp\;\nGefördert durch:\n &nbsp\; &nbsp\;&nbsp\
 ; &nbsp\;&nbsp\;&nbsp\;\n&nbsp\;&nbsp\;&nbsp\;
DTSTART:20240616T090000Z
DTEND:20240616T090000Z
GEO:00;0
LOCATION:Halle
ORGANIZER:
SEQUENCE:1
SUMMARY:Spuren der Vergangenheit: Paläoklimatologie und ihre Bedeutung für 
 die Zukunft
TRANSP:OPAQUE
URL:https://www.depotdortmund.de/485-spuren-der-vergangenheit-palaeoklimato
 logie-und-ihre-bedeutung-fuer-die-zukunft/2024-06-16-11-00.html
END:VEVENT
END:VCALENDAR
