BEGIN:VCALENDAR
VERSION:2.0
PRODID:-//Depot Dortmund//NONSGML kigkonsult.se iCalcreator 2.30.10//
CALSCALE:GREGORIAN
METHOD:PUBLISH
UID:f3cf8e0e-fc93-4eff-a608-0735af6d3f39
X-WR-CALNAME:iCagenda
X-WR-CALDESC:Event Management Extension for Joomla!
X-WR-RELCALID:3E26604A-50F4-4449-8B3E-E4F4932D05B5
X-WR-TIMEZONE:Europe/Berlin
BEGIN:VTIMEZONE
TZID:Europe/Berlin
BEGIN:STANDARD
TZNAME:CET
DTSTART:20231029T030000
TZOFFSETFROM:+0200
TZOFFSETTO:+0100
RDATE:20241027T030000
RDATE:20251026T030000
END:STANDARD
BEGIN:DAYLIGHT
TZNAME:CEST
DTSTART:20240331T020000
TZOFFSETFROM:+0100
TZOFFSETTO:+0200
RDATE:20250330T020000
END:DAYLIGHT
END:VTIMEZONE
BEGIN:VEVENT
UID:debed2ae-ad5e-43fd-b45a-27d7934fff95
DTSTAMP:20260421T131844Z
CATEGORIES:Vortrag
CLASS:PUBLIC
DESCRIPTION;ALTREP="CID:<FFFF__=0ABBE548DFE235B58f9e8a93d@coffeebean.com>":
 Sonntagsmatinee mit Kaffee und Snacks: Dr. Maria Hörhold\, Glaziologin am 
 Alfred-Wegener-Institut (AWI) in Bremerhaven\, gibt einen Einblick in die 
 Polarforschung und erklärt\, wie Eisbohrkerne als Klimaarchive Aufschluss 
 über die klimatische Vergangenheit geben können. Fotograf Jan Richard Hein
 icke führt im Anschluss durch die Ausstellung „The Past is the Key to the 
 Future“\, in der er die Arbeit der Forscher*innen im aktuellen Klimadiskur
 s verortet. &nbsp\;\n&nbsp\;\nTREIBHAUS DEPOT\nVeranstaltet von:\n\n&nbsp\
 ;\nIn Kooperation mit:\n &nbsp\;&nbsp\; \n&nbsp\;&nbsp\;&nbsp\; \n&nbsp\;&
 nbsp\;&nbsp\;\n&nbsp\;\nGefördert durch:\n &nbsp\; &nbsp\;&nbsp\; &nbsp\;&
 nbsp\;&nbsp\;\n&nbsp\;&nbsp\;&nbsp\;
DTSTART:20240609T090000Z
DTEND:20240609T090000Z
GEO:00;0
LOCATION:Halle
ORGANIZER:
SEQUENCE:1
SUMMARY:Schnee von gestern - Was wir aus Eisbohrkernen lernen können
TRANSP:OPAQUE
URL:https://www.depotdortmund.de/483-schnee-von-gestern-was-wir-aus-eisbohr
 kernen-lernen-koennen/2024-06-09-11-00.html
END:VEVENT
END:VCALENDAR
