BEGIN:VCALENDAR
VERSION:2.0
PRODID:-//Depot Dortmund//NONSGML kigkonsult.se iCalcreator 2.30.10//
CALSCALE:GREGORIAN
METHOD:PUBLISH
UID:6d3729bf-6fa7-42f1-9188-fe83c230a126
X-WR-CALNAME:iCagenda
X-WR-CALDESC:Event Management Extension for Joomla!
X-WR-RELCALID:3E26604A-50F4-4449-8B3E-E4F4932D05B5
X-WR-TIMEZONE:Europe/Berlin
BEGIN:VTIMEZONE
TZID:Europe/Berlin
BEGIN:STANDARD
TZNAME:CET
DTSTART:20231029T030000
TZOFFSETFROM:+0200
TZOFFSETTO:+0100
RDATE:20241027T030000
RDATE:20251026T030000
END:STANDARD
BEGIN:DAYLIGHT
TZNAME:CEST
DTSTART:20240331T020000
TZOFFSETFROM:+0100
TZOFFSETTO:+0200
RDATE:20250330T020000
END:DAYLIGHT
END:VTIMEZONE
BEGIN:VEVENT
UID:a903b613-29bf-4d90-96c3-328610960bf5
DTSTAMP:20260423T081901Z
CATEGORIES:Vortrag
CLASS:PUBLIC
DESCRIPTION;ALTREP="CID:<FFFF__=0ABBE548DFE235B58f9e8a93d@coffeebean.com>":
 Was versteht man eigentlich unter Nachhaltigkeit? Wo kommt der Begriff her
 \, wie wird darüber diskutiert und warum diskutieren wir eigentlich darübe
 r? Mit Sebastian Kreimer von der Fachhochschule Dortmund werfen wir einen 
 Blick in die Geschichte der Nachhaltigkeit\, die uns von Rom nach Dubai fü
 hrt und das nicht ganz CO2 frei.\nIm Anschluss an die Veranstaltung kann i
 m TREIBHAUS bei kühlen Getränken genetzwerkt werden.\n&nbsp\;\nTREIBHAUS D
 EPOT\nVeranstaltet von:\n\n&nbsp\;\nIn Kooperation mit:\n &nbsp\;&nbsp\; 
 \n&nbsp\;&nbsp\;&nbsp\; \n&nbsp\;&nbsp\;&nbsp\;\n&nbsp\;\nGefördert durch:
 \n &nbsp\; &nbsp\;&nbsp\; &nbsp\;&nbsp\;&nbsp\;\n&nbsp\;&nbsp\;&nbsp\;
DTSTART:20240607T120000Z
DTEND:20240607T120000Z
GEO:00;0
LOCATION:Halle
ORGANIZER:
SEQUENCE:1
SUMMARY:Grundlagen der Nachhaltigkeit – Geschichte\, Begriffe und Diskurs
TRANSP:OPAQUE
URL:https://www.depotdortmund.de/481-grundlagen-der-nachhaltigkeit-geschich
 te-begriffe-und-diskurs/2024-06-07-14-00.html
END:VEVENT
END:VCALENDAR
