BEGIN:VCALENDAR
VERSION:2.0
PRODID:-//Depot Dortmund//NONSGML kigkonsult.se iCalcreator 2.30.10//
CALSCALE:GREGORIAN
METHOD:PUBLISH
UID:3fda72b8-4a1f-4993-8393-a52f2e077a50
X-WR-CALNAME:iCagenda
X-WR-CALDESC:Event Management Extension for Joomla!
X-WR-RELCALID:3E26604A-50F4-4449-8B3E-E4F4932D05B5
X-WR-TIMEZONE:Europe/Berlin
BEGIN:VTIMEZONE
TZID:Europe/Berlin
BEGIN:STANDARD
TZNAME:CET
DTSTART:20231029T030000
TZOFFSETFROM:+0200
TZOFFSETTO:+0100
RDATE:20241027T030000
END:STANDARD
BEGIN:DAYLIGHT
TZNAME:CEST
DTSTART:20230326T020000
TZOFFSETFROM:+0100
TZOFFSETTO:+0200
RDATE:20240331T020000
RDATE:20250330T020000
END:DAYLIGHT
END:VTIMEZONE
BEGIN:VEVENT
UID:fadcf39a-08b5-457e-954d-5b493a8adada
DTSTAMP:20260423T111203Z
CATEGORIES:Ausstellung
CLASS:PUBLIC
DESCRIPTION;ALTREP="CID:<FFFF__=0ABBE548DFE235B58f9e8a93d@coffeebean.com>":
 Daniel Pawlak-Gast vom NABU Dortmund zeigt\, wie man Microgreens für zu Ha
 use herstellt und lädt zum Mitmachen ein. Fortlaufende Präsentation - es i
 st keine Anmeldung erforderlich und der Eintritt ist frei!\nDer Microgreen
 s-Nachmittag findet im Rahmen der Ausstellung TINY LANDSCAPES statt.\n&nbs
 p\;\nTermin:SO 21.01.2024\nUhrzeit:16:00 Uhr\nOrt:Galerie im Depot\nEintri
 tt:frei!
DTSTART:20240121T150000Z
DTEND:20240121T150000Z
GEO:00;0
LOCATION:Galerie im Depot
ORGANIZER:
SEQUENCE:1
SUMMARY:Microgreens
TRANSP:OPAQUE
URL:https://www.depotdortmund.de/464-microgreens/2024-01-21-16-00.html
END:VEVENT
END:VCALENDAR
