BEGIN:VCALENDAR
VERSION:2.0
PRODID:-//Depot Dortmund//NONSGML kigkonsult.se iCalcreator 2.30.10//
CALSCALE:GREGORIAN
METHOD:PUBLISH
UID:fce42682-322f-4938-9995-ca0bed8ed6cb
X-WR-CALNAME:iCagenda
X-WR-CALDESC:Event Management Extension for Joomla!
X-WR-RELCALID:3E26604A-50F4-4449-8B3E-E4F4932D05B5
X-WR-TIMEZONE:Europe/Berlin
BEGIN:VTIMEZONE
TZID:Europe/Berlin
BEGIN:STANDARD
TZNAME:CET
DTSTART:20231029T030000
TZOFFSETFROM:+0200
TZOFFSETTO:+0100
RDATE:20241027T030000
END:STANDARD
BEGIN:DAYLIGHT
TZNAME:CEST
DTSTART:20230326T020000
TZOFFSETFROM:+0100
TZOFFSETTO:+0200
RDATE:20240331T020000
RDATE:20250330T020000
END:DAYLIGHT
END:VTIMEZONE
BEGIN:VEVENT
UID:0592ce9e-e0cc-4e78-ba74-389966b91001
DTSTAMP:20260423T111032Z
CATEGORIES:Ausstellung
CLASS:PUBLIC
DESCRIPTION;ALTREP="CID:<FFFF__=0ABBE548DFE235B58f9e8a93d@coffeebean.com>":
 K4plus1 - das sind Gode Klingemann (Malerei\, Installation\, Digitale Medi
 en)\, Heike Kollakowski (Installation\, Grafik\, Zeichnung und Schriftkuns
 t) und Andreas Bischoff (Digitale Medien\, Sound\, Fotografie). Eine Grupp
 e von verbummelten Bohemiens\, die sich für das Projekt „Tiny Landscapes“ 
 zusammengetan haben.\n„Tiny Landscapes“ wird einen künstlerischen Blick au
 f den Klimawandel und seine konkreten Auswirkungen auf die uns im städtisc
 hen Umfeld umgebene Natur lenken. Die Ausstellung zeigt ineinandergreifend
 e Bilder\, Typografien\, Video-\, Sound- und Rauminstallationen\, die Zusa
 mmenhänge in der Natur erfahrbar machen. Die gemeinsame Installation wird 
 eine Atmosphäre schaffen\, die die Besucher*innen mitnimmt und eintauchen 
 lässt in eine Welt\, die ganz nah vor unserer Haustür stattfindet.\n&nbsp\
 ;\nAusstellungszeitraum:\nDO 18.01.2024 - SO 28.01.2024\nÖffnungszeiten:\n
 MO bis MI geschlossenDO &amp\; FR 17:00 – 20:00 UhrSA &amp\; SO 15:00 – 18
 :00 Uhr\nOrt:\nGalerie im Depot\nEintritt:\nfrei!
DTSTART:20240118T140000Z
DTEND:20240128T140000Z
GEO:00;0
LOCATION:Galerie im Depot
ORGANIZER:
SEQUENCE:1
SUMMARY:Tiny Landscapes
TRANSP:OPAQUE
URL:https://www.depotdortmund.de/457-tiny-landscapes.html
END:VEVENT
END:VCALENDAR
