BEGIN:VCALENDAR
VERSION:2.0
PRODID:-//Depot Dortmund//NONSGML kigkonsult.se iCalcreator 2.30.10//
CALSCALE:GREGORIAN
METHOD:PUBLISH
UID:bd3ff7fe-06a2-4b7e-b1b0-720a72b7619d
X-WR-CALNAME:iCagenda
X-WR-CALDESC:Event Management Extension for Joomla!
X-WR-RELCALID:3E26604A-50F4-4449-8B3E-E4F4932D05B5
X-WR-TIMEZONE:Europe/Berlin
BEGIN:VTIMEZONE
TZID:Europe/Berlin
BEGIN:STANDARD
TZNAME:CET
DTSTART:20231029T030000
TZOFFSETFROM:+0200
TZOFFSETTO:+0100
RDATE:20241027T030000
END:STANDARD
BEGIN:DAYLIGHT
TZNAME:CEST
DTSTART:20230326T020000
TZOFFSETFROM:+0100
TZOFFSETTO:+0200
RDATE:20240331T020000
RDATE:20250330T020000
END:DAYLIGHT
END:VTIMEZONE
BEGIN:VEVENT
UID:9cd6cad3-63aa-43c4-8e7b-895c4798b59a
DTSTAMP:20260425T115324Z
CATEGORIES:Theater\, Tanz & Bühne
CLASS:PUBLIC
DESCRIPTION;ALTREP="CID:<FFFF__=0ABBE548DFE235B58f9e8a93d@coffeebean.com>":
 DAS LETZTE MAL IN ORIGINAL-BESETZUNG MIT THOMAS KEMPER UND JÖRG HENTSCHEL!
 \nScrooge\, der verbissene alte Kaufmann\, quält rücksichtslos unglücklich
 e Schuldner\, demütigt seinen unterbezahlten Sekretär und begegnet seinen 
 Mitmenschen mit Verachtung. Selbst das heranrückende Weihnachtsfest ist fü
 r Scrooge nur überflüssig. Doch dann\, in der Weihnachtsnacht\, wird er vo
 n einigen Geistern heimgesucht...\nA Christmas Carol ist in vielen Variant
 en gespielt und verfilmt worden. In dieser Bühnenversion wird der Klassike
 r 'gegenwärtig' präsentiert\, mit unkonventionellen Einfällen und live geb
 ackenen Weihnachtsplätzchen. Ein winterwarmer\, froh-vergnüglicher Theater
 abend\, der zur Weihnachtszeit Theater und auch Publikum erwärmt\, denn üb
 er aller 'Modernität' bleibt die zeitlose literarische Qualität sowie die 
 immer wieder neu zu stellende Frage nach sozialer Verantwortung und den wa
 hren Werten einer Gesellschaft.\nTermine:\nFR 15.12.2023\, 20:00 Uhr Theat
 ersaalSA 16.12.2023\, 20:00 Uhr TheatersaalSO 17.12.2023\, 16:00 Uhr Theat
 ersaalMI 20.12.2023\, 20:00 Uhr TheatersaalDO 21.12.2023\, 20:00 Uhr Theat
 ersaalFR 22.12.2023\, 20:00 Uhr TeatersaalSA 23.12.2023\, 20:00 Uhr Theate
 rsaalDI 26.12.2023\, 16:00 Uhr Theatersaal&nbsp\;\nOrt:\nTheater im Depot
 \nEintritt:\nTickets regulär 15 €\, ermäßigt 10 €\, Kinder (bis 14 Jahre) 
 8 €\, Förderpreis 25 €\nTickets\nWeitere Informationen und Bilder\n&nbsp\;
 \n&nbsp\;
DTSTART:20231223T190000Z
DTEND:20231223T190000Z
GEO:00;0
LOCATION:Theatersaal
ORGANIZER;CN=:tickets@theaterimdepot.de
SEQUENCE:1
SUMMARY:A Christmas Carol
TRANSP:OPAQUE
URL:https://www.depotdortmund.de/455-a-christmas-carol-3/2023-12-23-20-00.h
 tml
END:VEVENT
END:VCALENDAR
