BEGIN:VCALENDAR
VERSION:2.0
PRODID:-//Depot Dortmund//NONSGML kigkonsult.se iCalcreator 2.30.10//
CALSCALE:GREGORIAN
METHOD:PUBLISH
UID:a937a4e2-4d04-41bb-ab30-cca53f1d3b34
X-WR-CALNAME:iCagenda
X-WR-CALDESC:Event Management Extension for Joomla!
X-WR-RELCALID:3E26604A-50F4-4449-8B3E-E4F4932D05B5
X-WR-TIMEZONE:Europe/Berlin
BEGIN:VTIMEZONE
TZID:Europe/Berlin
BEGIN:STANDARD
TZNAME:CET
DTSTART:20231029T030000
TZOFFSETFROM:+0200
TZOFFSETTO:+0100
RDATE:20241027T030000
END:STANDARD
BEGIN:DAYLIGHT
TZNAME:CEST
DTSTART:20230326T020000
TZOFFSETFROM:+0100
TZOFFSETTO:+0200
RDATE:20240331T020000
RDATE:20250330T020000
END:DAYLIGHT
END:VTIMEZONE
BEGIN:VEVENT
UID:fb5322de-7f98-4c80-b9d8-bf673ad2ece1
DTSTAMP:20260425T133358Z
CATEGORIES:Sonstiges
CLASS:PUBLIC
DESCRIPTION;ALTREP="CID:<FFFF__=0ABBE548DFE235B58f9e8a93d@coffeebean.com>":
 Ein bisschen chaotisch\, ziemlich gemütlich und vor allem bunt gemischt - 
 im Kultur Camp in der Galerie im Depot schlagen vom 02. bis zum 10. Dezemb
 er 2023 verschiedenste Gruppen\, Kurse und Workshops die Zelte auf.\n&nbsp
 \;\nSie alle versammeln sich rund um das Indoor-Lagerfeuer und haben eine 
 Idee gemeinsam: Den kleinen Raum in der ehemaligen Straßenbahnwerkstatt zu
  einem Treffpunkt für Künstler*innen\, Brettspielfans\, Menschen aus der N
 achbarschaft und nicht zuletzt auch die im Depotler*innen selbst zu machen
 .\nEs wir gezeichnet\, gespielt\, gequatscht und vorgelesen. Es entstehen 
 kleine Kunstwerke\, neue Freundschaften und duftende Kerzen. Das Kultur Ca
 mp bietet Platz für Austausch und Vernetzung\, für gesellige Nachmittage u
 nd lauschige Abende.\nEgal ob groß oder klein\, Profi oder Amateur*in\, Me
 nsch oder Honigbiene – im Kultur Camp kommen alle zusammen und lernen sowo
 hl einander als auch das Depot als Begegnungsort kennen.\n&nbsp\;\nKids Ca
 mp – jetzt sprechen wir!\nLesen\, basteln und quatschen am Indoor-Lagerfeu
 er: Die Kids aus dem Quartierstreff Concordia machen es sich mit Fräulein 
 Nina im Kultur Camp gemütlich. Egal welche Sprache\, wir verständigen uns 
 kreativ! Geschwister und Freund*innen sind herzlich miteingeladen\, wenn b
 unte Karten gebastelt werden und wir uns gegenseitig spannende Geschichten
  erzählen.\n&nbsp\;\nTermin: \nFR 08.12. 14:00 – 17:00\nOrt:\nGalerie im D
 epot\nEintritt:\nfrei!\n&nbsp\;\n&nbsp\;\nGefördert von:\n&nbsp\;\n&nbsp\;
 &nbsp\; &nbsp\;&nbsp\;&nbsp\;&nbsp\; &nbsp\; &nbsp\; &nbsp\; &nbsp\;&nbsp\
 ;\n&nbsp\;\nFoto: Sigmund auf Unsplash\n&nbsp\;
DTSTART:20231208T130000Z
DTEND:20231208T130000Z
GEO:00;0
LOCATION:
ORGANIZER:
SEQUENCE:1
SUMMARY:Kultur Camp - Kids
TRANSP:OPAQUE
URL:https://www.depotdortmund.de/452-kultur-camp-kids/2023-12-08-14-00.html
END:VEVENT
END:VCALENDAR
