BEGIN:VCALENDAR
VERSION:2.0
PRODID:-//Depot Dortmund//NONSGML kigkonsult.se iCalcreator 2.30.10//
CALSCALE:GREGORIAN
METHOD:PUBLISH
UID:682a70a6-33a9-49b8-b661-ccb259334604
X-WR-CALNAME:iCagenda
X-WR-CALDESC:Event Management Extension for Joomla!
X-WR-RELCALID:3E26604A-50F4-4449-8B3E-E4F4932D05B5
X-WR-TIMEZONE:Europe/Berlin
BEGIN:VTIMEZONE
TZID:Europe/Berlin
BEGIN:STANDARD
TZNAME:CET
DTSTART:20231029T030000
TZOFFSETFROM:+0200
TZOFFSETTO:+0100
RDATE:20241027T030000
END:STANDARD
BEGIN:DAYLIGHT
TZNAME:CEST
DTSTART:20230326T020000
TZOFFSETFROM:+0100
TZOFFSETTO:+0200
RDATE:20240331T020000
RDATE:20250330T020000
END:DAYLIGHT
END:VTIMEZONE
BEGIN:VEVENT
UID:b6a82694-c5c1-4559-9bd7-3118e267b46e
DTSTAMP:20260425T115611Z
CATEGORIES:Sonstiges
CLASS:PUBLIC
DESCRIPTION;ALTREP="CID:<FFFF__=0ABBE548DFE235B58f9e8a93d@coffeebean.com>":
 Ein bisschen chaotisch\, ziemlich gemütlich und vor allem bunt gemischt - 
 im Kultur Camp in der Galerie im Depot schlagen vom 02. bis zum 10. Dezemb
 er 2023 verschiedenste Gruppen\, Kurse und Workshops die Zelte auf.\n&nbsp
 \;\nSie alle versammeln sich rund um das Indoor-Lagerfeuer und haben eine 
 Idee gemeinsam: Den kleinen Raum in der ehemaligen Straßenbahnwerkstatt zu
  einem Treffpunkt für Künstler*innen\, Brettspielfans\, Menschen aus der N
 achbarschaft und nicht zuletzt auch die im Depotler*innen selbst zu machen
 .\nEs wir gezeichnet\, gespielt\, gequatscht und vorgelesen. Es entstehen 
 kleine Kunstwerke\, neue Freundschaften und duftende Kerzen. Das Kultur Ca
 mp bietet Platz für Austausch und Vernetzung\, für gesellige Nachmittage u
 nd lauschige Abende.\nEgal ob groß oder klein\, Profi oder Amateur*in\, Me
 nsch oder Honigbiene – im Kultur Camp kommen alle zusammen und lernen sowo
 hl einander als auch das Depot als Begegnungsort kennen.\n&nbsp\;\nUrban S
 ketching \nUrban Sketching lebt von der Spontanität und der Freude am geme
 insamen Zeichnen. Es werden Orte und Räume auf Papier gebracht\, Eindrücke
  kreativ verarbeitet und das Gesehene mit Stift und Farbe eingefangen.\nDi
 e Dortmunder Gruppe der Urban Sketchers macht an ihrem regelmäßigen Donner
 stagstermin einen spontanen Ausflug ins Depot und freut sich auf alle\, di
 e sich anschließen möchten. Es sind keinerlei Vorkenntnisse erforderlich u
 nd die Teilnahme ist kostenlos.\nWer seinen Stil und Lieblingsstift zum Sk
 izzenzeichnen noch nicht gefunden hat\, kann unbesorgt sein: Für Neulinge 
 steht eine kleine Auswahl an Finelinern\, Bleistiften und Aquarellfarben z
 u Verfügung. Depotlerin Heike Kollakowski und Urban Sketcher Guido Wessel 
 sind mit am Start.\n&nbsp\;\nTermin: \nDO 07.12. 18:00 Uhr\nOrt:\nGalerie 
 im Depot &amp\; Gesamthaus\nEintritt:\nfrei!\nDie Teilnahme ist kostenlos 
 und es ist keine Anmeldung erforderlich.\n&nbsp\;\n&nbsp\;\nGefördert von:
 \n&nbsp\;\n&nbsp\;&nbsp\; &nbsp\;&nbsp\;&nbsp\;&nbsp\; &nbsp\; &nbsp\; &nb
 sp\; &nbsp\;&nbsp\;\n&nbsp\;\nFoto: @felipepelaqium auf Unsplash\n&nbsp\;
DTSTART:20231207T170000Z
DTEND:20231207T170000Z
GEO:00;0
LOCATION:
ORGANIZER:
SEQUENCE:1
SUMMARY:Kultur Camp - Urban Sketching
TRANSP:OPAQUE
URL:https://www.depotdortmund.de/451-kultur-camp-urban-sketching/2023-12-07
 -18-00.html
END:VEVENT
END:VCALENDAR
