BEGIN:VCALENDAR
VERSION:2.0
PRODID:-//Depot Dortmund//NONSGML kigkonsult.se iCalcreator 2.30.10//
CALSCALE:GREGORIAN
METHOD:PUBLISH
UID:efedad7e-10bc-47f2-929a-3beeae34ec04
X-WR-CALNAME:iCagenda
X-WR-CALDESC:Event Management Extension for Joomla!
X-WR-RELCALID:3E26604A-50F4-4449-8B3E-E4F4932D05B5
X-WR-TIMEZONE:Europe/Berlin
BEGIN:VTIMEZONE
TZID:Europe/Berlin
BEGIN:STANDARD
TZNAME:CET
DTSTART:20231029T030000
TZOFFSETFROM:+0200
TZOFFSETTO:+0100
RDATE:20241027T030000
END:STANDARD
BEGIN:DAYLIGHT
TZNAME:CEST
DTSTART:20230326T020000
TZOFFSETFROM:+0100
TZOFFSETTO:+0200
RDATE:20240331T020000
RDATE:20250330T020000
END:DAYLIGHT
END:VTIMEZONE
BEGIN:VEVENT
UID:dafb9eb9-e544-471d-afeb-4b618b45d267
DTSTAMP:20260425T120623Z
CATEGORIES:Sonstiges
CLASS:PUBLIC
DESCRIPTION;ALTREP="CID:<FFFF__=0ABBE548DFE235B58f9e8a93d@coffeebean.com>":
 Ein bisschen chaotisch\, ziemlich gemütlich und vor allem bunt gemischt - 
 im Kultur Camp in der Galerie im Depot schlagen vom 02. bis zum 10. Dezemb
 er 2023 verschiedenste Gruppen\, Kurse und Workshops die Zelte auf.\n&nbsp
 \;\nSie alle versammeln sich rund um das Indoor-Lagerfeuer und haben eine 
 Idee gemeinsam: Den kleinen Raum in der ehemaligen Straßenbahnwerkstatt zu
  einem Treffpunkt für Künstler*innen\, Brettspielfans\, Menschen aus der N
 achbarschaft und nicht zuletzt auch die im Depotler*innen selbst zu machen
 .\nEs wir gezeichnet\, gespielt\, gequatscht und vorgelesen. Es entstehen 
 kleine Kunstwerke\, neue Freundschaften und duftende Kerzen. Das Kultur Ca
 mp bietet Platz für Austausch und Vernetzung\, für gesellige Nachmittage u
 nd lauschige Abende.\nEgal ob groß oder klein\, Profi oder Amateur*in\, Me
 nsch oder Honigbiene – im Kultur Camp kommen alle zusammen und lernen sowo
 hl einander als auch das Depot als Begegnungsort kennen.\n&nbsp\;\nWaben\,
  Wachs &amp\; Waffeln\nErster Advent mit Bienen\, Imker &amp\; Kerzenworks
 hop\nImmer der Nase nach: Am ersten Advent zieht der Duft von Bienenwachs 
 und frischen Waffeln durch die Galerie im Depot. Susanne Beringer – Künstl
 erin und Imkerin in Personalunion – bringt nicht nur kreative Ideen zum Ke
 rzengießen und -rollen mit ins Kultur Camp\, sondern hat auch noch jede Me
 nge Hintergrundinfos zum Thema Bienen und dem wundervollen Werkstoff Wachs
  mit im Gepäck.\nDazu gibt es leckere Waffeln und den ein oder anderen Pla
 usch am Lagerfeuer. Eine prima Gelegenheit in die Adventszeit zu starten u
 nd eigene Kerzen herzustellen. Der Workshop ist kostenlos\, die Materialie
 n werden gestellt. Kinder unter 12 Jahren kommen am besten in Begleitung e
 ines Erwachsenen.\n&nbsp\;\nTermin: \nSO 03.12. 12:00 – 16:00 Uhr\nOrt:\nG
 alerie im Depot\nEintritt:\nfrei!\nEs ist keine Anmeldung erforderlich und
  die Teilnahme ist kostenlos.\n&nbsp\;\n&nbsp\;\nGefördert von:\n&nbsp\;\n
 &nbsp\;&nbsp\; &nbsp\;&nbsp\;&nbsp\;&nbsp\; &nbsp\; &nbsp\; &nbsp\; &nbsp\
 ;&nbsp\;\n&nbsp\;\nFoto: Niklas Ohlrogge auf Unsplash\n&nbsp\;
DTSTART:20231203T110000Z
DTEND:20231203T110000Z
GEO:00;0
LOCATION:
ORGANIZER:
SEQUENCE:1
SUMMARY:Kultur Camp - Kerzen basteln
TRANSP:OPAQUE
URL:https://www.depotdortmund.de/450-kultur-camp-waben-wach-waffeln/2023-12
 -03-12-00.html
END:VEVENT
END:VCALENDAR
