BEGIN:VCALENDAR
VERSION:2.0
PRODID:-//Depot Dortmund//NONSGML kigkonsult.se iCalcreator 2.30.10//
CALSCALE:GREGORIAN
METHOD:PUBLISH
UID:1dba88c2-16ea-4266-91e4-8c9b20bfe3dc
X-WR-CALNAME:iCagenda
X-WR-CALDESC:Event Management Extension for Joomla!
X-WR-RELCALID:3E26604A-50F4-4449-8B3E-E4F4932D05B5
X-WR-TIMEZONE:Europe/Berlin
BEGIN:VTIMEZONE
TZID:Europe/Berlin
BEGIN:STANDARD
TZNAME:CET
DTSTART:20231029T030000
TZOFFSETFROM:+0200
TZOFFSETTO:+0100
RDATE:20241027T030000
END:STANDARD
BEGIN:DAYLIGHT
TZNAME:CEST
DTSTART:20230326T020000
TZOFFSETFROM:+0100
TZOFFSETTO:+0200
RDATE:20240331T020000
RDATE:20250330T020000
END:DAYLIGHT
END:VTIMEZONE
BEGIN:VEVENT
UID:5bb140e4-da46-4d1f-9e42-df3b29d083cd
DTSTAMP:20260425T120452Z
CATEGORIES:Sonstiges
CLASS:PUBLIC
DESCRIPTION;ALTREP="CID:<FFFF__=0ABBE548DFE235B58f9e8a93d@coffeebean.com>":
 Ein bisschen chaotisch\, ziemlich gemütlich und vor allem bunt gemischt - 
 im Kultur Camp in der Galerie im Depot schlagen vom 02. bis zum 10. Dezemb
 er 2023 verschiedenste Gruppen\, Kurse und Workshops die Zelte auf.\n&nbsp
 \;\nSie alle versammeln sich rund um das Indoor-Lagerfeuer und haben eine 
 Idee gemeinsam: Den kleinen Raum in der ehemaligen Straßenbahnwerkstatt zu
  einem Treffpunkt für Künstler*innen\, Brettspielfans\, Menschen aus der N
 achbarschaft und nicht zuletzt auch die im Depotler*innen selbst zu machen
 .\nEs wir gezeichnet\, gespielt\, gequatscht und vorgelesen. Es entstehen 
 kleine Kunstwerke\, neue Freundschaften und duftende Kerzen. Das Kultur Ca
 mp bietet Platz für Austausch und Vernetzung\, für gesellige Nachmittage u
 nd lauschige Abende.\nEgal ob groß oder klein\, Profi oder Amateur*in\, Me
 nsch oder Honigbiene – im Kultur Camp kommen alle zusammen und lernen sowo
 hl einander als auch das Depot als Begegnungsort kennen.\n&nbsp\;\nFotowor
 kshop\nWeg von Autofokus und automatischer Kameraeinstellung! Fotograf Jan
  Schmitz taucht mit allen Interessierten die die Dreifaltigkeit von Blende
 \, Belichtungszeit und ISO ein. Anhand praktischer Beispiele und alltagsta
 uglicher Tipps lernen die Teilnehmenden die Möglichkeiten ihrer Kamera ken
 nen. Die Lichtsetzung mit einfachen Mitteln\, das Spiel mit der Schärfe un
 d die Grundlagen\, um Personen und Objekte ins rechte Licht zu rücken - de
 r Workshop bietet viele Anknüpfungspunkte für alle\, die im (künstlerische
 n) Berufsalltag ebenso wie im Hobbybereich professionell mit der Kamera um
 gehen möchten. Denn gute Fotos werden immer gebraucht: Ob für das eigene P
 ortfolio\, die Webseite\, auf Instagram oder im Online-Shop.\nDie Teilnahm
 e ist kostenlos\, eine eigene Kamera sollte idealerweise mitgebracht werde
 n.\n&nbsp\;\nTermin: \nSA 02.12. 11:00 – 15:00 Uhr\nOrt:\nGalerie im Depot
 \nEintritt:\nfrei!\nBegrenzte Plätze\, Anmeldung per Mail an: pr@depotdort
 mund.de\n&nbsp\;\n&nbsp\;\nGefördert von:\n&nbsp\;\n&nbsp\;&nbsp\; &nbsp\;
 &nbsp\;&nbsp\;&nbsp\; &nbsp\; &nbsp\; &nbsp\; &nbsp\;&nbsp\;\n&nbsp\;\nFot
 o: Math auf Unsplash\n&nbsp\;
DTSTART:20231202T100000Z
DTEND:20231202T100000Z
GEO:00;0
LOCATION:
ORGANIZER:
SEQUENCE:1
SUMMARY:Kultur Camp - Fotoworkshop
TRANSP:OPAQUE
URL:https://www.depotdortmund.de/449-kultur-camp-fotoworkshop/2023-12-02-11
 -00.html
END:VEVENT
END:VCALENDAR
