BEGIN:VCALENDAR
VERSION:2.0
PRODID:-//Depot Dortmund//NONSGML kigkonsult.se iCalcreator 2.30.10//
CALSCALE:GREGORIAN
METHOD:PUBLISH
UID:230884a8-6240-4b78-aef3-be0dc505aa6c
X-WR-CALNAME:iCagenda
X-WR-CALDESC:Event Management Extension for Joomla!
X-WR-RELCALID:3E26604A-50F4-4449-8B3E-E4F4932D05B5
X-WR-TIMEZONE:Europe/Berlin
BEGIN:VTIMEZONE
TZID:Europe/Berlin
BEGIN:STANDARD
TZNAME:CET
DTSTART:20231029T030000
TZOFFSETFROM:+0200
TZOFFSETTO:+0100
RDATE:20241027T030000
END:STANDARD
BEGIN:DAYLIGHT
TZNAME:CEST
DTSTART:20230326T020000
TZOFFSETFROM:+0100
TZOFFSETTO:+0200
RDATE:20240331T020000
RDATE:20250330T020000
END:DAYLIGHT
END:VTIMEZONE
BEGIN:VEVENT
UID:a7fdfe66-dbca-47e9-b8db-64f8e0e8a2e3
DTSTAMP:20260425T115728Z
CATEGORIES:Sonstiges
CLASS:PUBLIC
DESCRIPTION;ALTREP="CID:<FFFF__=0ABBE548DFE235B58f9e8a93d@coffeebean.com>":
 Ein bisschen chaotisch\, ziemlich gemütlich und vor allem bunt gemischt - 
 im Kultur Camp in der Galerie im Depot schlagen vom 02. bis zum 10. Dezemb
 er 2023 verschiedenste Gruppen\, Kurse und Workshops die Zelte auf.\n&nbsp
 \;\nSie alle versammeln sich rund um das Indoor-Lagerfeuer und haben eine 
 Idee gemeinsam: Den kleinen Raum in der ehemaligen Straßenbahnwerkstatt zu
  einem Treffpunkt für Künstler*innen\, Brettspielfans\, Menschen aus der N
 achbarschaft und nicht zuletzt auch die im Depotler*innen selbst zu machen
 .\nEs wir gezeichnet\, gespielt\, gequatscht und vorgelesen. Es entstehen 
 kleine Kunstwerke\, neue Freundschaften und duftende Kerzen. Das Kultur Ca
 mp bietet Platz für Austausch und Vernetzung\, für gesellige Nachmittage u
 nd lauschige Abende.\nEgal ob groß oder klein\, Profi oder Amateur*in\, Me
 nsch oder Honigbiene – im Kultur Camp kommen alle zusammen und lernen sowo
 hl einander als auch das Depot als Begegnungsort kennen.\n&nbsp\;\nAktzeic
 hnen\nBegleitet von den Künstlerinnen Susanne Schütz und Heike Kollakowski
  gibt es an zwei Terminen die seltene Gelegenheit\, an einem kostenlosen W
 orkshop zum Thema Aktzeichnen teilzunehmen. Licht\, Kontraste\, Proportion
  – es stehen zwei Modelle zur Verfügung\, um mit verschiedenen Perspektive
 n und Stilen zu experimentieren.\nEine kleine Auswahl an Papier und Zeiche
 nutensilien steht zur Verfügung\, eigenes Material - wenn vorhanden - bitt
 e mitbringen.\nTermine: \nDI 05.12. 18:00 – 21:00 Uhr\nMI 06.12. 18:00 – 2
 1:00 Uhr\nOrt:\nGalerie im Depot\nEintritt:\nfrei!\nBegrenzte Plätze\, Anm
 eldung per Mail an: pr@depotdortmund.de\n&nbsp\;\n&nbsp\;\nGefördert von:
 \n&nbsp\;\n&nbsp\;&nbsp\; &nbsp\;&nbsp\;&nbsp\;&nbsp\; &nbsp\; &nbsp\; &nb
 sp\; &nbsp\;&nbsp\;\n&nbsp\;\nFoto: KOBU Agency auf Unsplash\n&nbsp\;
DTSTART:20231206T170000Z
DTEND:20231206T170000Z
GEO:00;0
LOCATION:
ORGANIZER:
SEQUENCE:1
SUMMARY:Kultur Camp - Aktzeichnen
TRANSP:OPAQUE
URL:https://www.depotdortmund.de/448-kultur-camp-aktzeichnen/2023-12-06-18-
 00.html
END:VEVENT
END:VCALENDAR
