BEGIN:VCALENDAR
VERSION:2.0
PRODID:-//Depot Dortmund//NONSGML kigkonsult.se iCalcreator 2.30.10//
CALSCALE:GREGORIAN
METHOD:PUBLISH
UID:442ed8d5-aa09-47a9-9300-8d84c2cc1267
X-WR-CALNAME:iCagenda
X-WR-CALDESC:Event Management Extension for Joomla!
X-WR-RELCALID:3E26604A-50F4-4449-8B3E-E4F4932D05B5
X-WR-TIMEZONE:Europe/Berlin
BEGIN:VTIMEZONE
TZID:Europe/Berlin
BEGIN:STANDARD
TZNAME:CET
DTSTART:20231029T030000
TZOFFSETFROM:+0200
TZOFFSETTO:+0100
RDATE:20241027T030000
END:STANDARD
BEGIN:DAYLIGHT
TZNAME:CEST
DTSTART:20230326T020000
TZOFFSETFROM:+0100
TZOFFSETTO:+0200
RDATE:20240331T020000
RDATE:20250330T020000
END:DAYLIGHT
END:VTIMEZONE
BEGIN:VEVENT
UID:2b9f8e84-888e-4aad-bf35-45a16b934679
DTSTAMP:20260425T114401Z
CATEGORIES:Sonstiges
CLASS:PUBLIC
DESCRIPTION;ALTREP="CID:<FFFF__=0ABBE548DFE235B58f9e8a93d@coffeebean.com>":
 Ein bisschen chaotisch\, ziemlich gemütlich und vor allem bunt gemischt - 
 im Kultur Camp in der Galerie im Depot schlagen vom 02. bis zum 10. Dezemb
 er 2023 verschiedenste Gruppen\, Kurse und Workshops die Zelte auf.\n&nbsp
 \;\nSie alle versammeln sich rund um das Indoor-Lagerfeuer und haben eine 
 Idee gemeinsam: Den kleinen Raum in der ehemaligen Straßenbahnwerkstatt zu
  einem Treffpunkt für Künstler*innen\, Brettspielfans\, Menschen aus der N
 achbarschaft und nicht zuletzt auch die im Depotler*innen selbst zu machen
 .\nEs wir gezeichnet\, gespielt\, gequatscht und vorgelesen. Es entstehen 
 kleine Kunstwerke\, neue Freundschaften und duftende Kerzen. Das Kultur Ca
 mp bietet Platz für Austausch und Vernetzung\, für gesellige Nachmittage u
 nd lauschige Abende.\nEgal ob groß oder klein\, Profi oder Amateur*in\, Me
 nsch oder Honigbiene – im Kultur Camp kommen alle zusammen und lernen sowo
 hl einander als auch das Depot als Begegnungsort kennen.\n&nbsp\;\nDas Pro
 gramm – wie bei jedem Zeltlager offen für Improvisation und kreative Wette
 rumschwünge:\n&nbsp\;\nFotoworkshop\nWeg von Autofokus und automatischer K
 ameraeinstellung! Fotograf Jan Schmitz taucht mit allen Interessierten die
  die Dreifaltigkeit von Blende\, Belichtungszeit und ISO ein. Anhand prakt
 ischer Beispiele und alltagstauglicher Tipps lernen die Teilnehmenden die 
 Möglichkeiten ihrer Kamera kennen. Die Lichtsetzung mit einfachen Mitteln\
 , das Spiel mit der Schärfe und die Grundlagen\, um Personen und Objekte i
 ns rechte Licht zu rücken - der Workshop bietet viele Anknüpfungspunkte fü
 r alle\, die im (künstlerischen) Berufsalltag ebenso wie im Hobbybereich p
 rofessionell mit der Kamera umgehen möchten. Denn gute Fotos werden immer 
 gebraucht: Ob für das eigene Portfolio\, die Webseite\, auf Instagram oder
  im Online-Shop.\nDie Teilnahme ist kostenlos\, eine eigene Kamera sollte 
 idealerweise mitgebracht werden.\nTermin: \nSA 02.12. 11:00 – 15:00 Uhr\nB
 egrenzte Plätze\, Anmeldung per Mail an: pr@depotdortmund.de\n&nbsp\;\n&nb
 sp\;\nWaben\, Wachs &amp\; Waffeln\nErster Advent mit Bienen\, Imker &amp\
 ; Kerzenworkshop\nImmer der Nase nach: Am ersten Advent zieht der Duft von
  Bienenwachs und frischen Waffeln durch die Galerie im Depot. Susanne Beri
 nger – Künstlerin und Imkerin in Personalunion – bringt nicht nur kreative
  Ideen zum Kerzengießen und -rollen mit ins Kultur Camp\, sondern hat auch
  noch jede Menge Hintergrundinfos zum Thema Bienen und dem wundervollen We
 rkstoff Wachs mit im Gepäck.\nDazu gibt es leckere Waffeln und den ein ode
 r anderen Plausch am Lagerfeuer. Eine prima Gelegenheit in die Adventszeit
  zu starten und eigene Kerzen herzustellen. Der Workshop ist kostenlos\, d
 ie Materialien werden gestellt. Kinder unter 12 Jahren kommen am besten in
  Begleitung eines Erwachsenen. Die Teilnahme ist kostenlos und es ist kein
 e Anmeldung erforderlich.\nTermin: \nSO 03.12. 12:00 – 16:00 Uhr\n&nbsp\;
 \n&nbsp\;\nAktzeichnen\nBegleitet von den Künstlerinnen Susanne Schütz und
  Heike Kollakowski gibt es an zwei Terminen die seltene Gelegenheit\, an e
 inem kostenlosen Workshop zum Thema Aktzeichnen teilzunehmen. Licht\, Kont
 raste\, Proportion – es stehen zwei Modelle zur Verfügung\, um mit verschi
 edenen Perspektiven und Stilen zu experimentieren.\nEine kleine Auswahl an
  Papier und Zeichenutensilien steht zur Verfügung\, eigenes Material - wen
 n vorhanden - bitte mitbringen. Die Teilnahme ist kostenlos.\nTermine: \nD
 I 05.12. 18:00 – 21:00 Uhr\nMI 06.12. 18:00 – 21:00 Uhr\nBegrenzte Plätze\
 , Anmeldung per Mail an: pr@depotdortmund.de\n&nbsp\;\n&nbsp\;\nUrban Sket
 ching \nUrban Sketching lebt von der Spontanität und der Freude am gemeins
 amen Zeichnen. Es werden Orte und Räume auf Papier gebracht\, Eindrücke kr
 eativ verarbeitet und das Gesehene mit Stift und Farbe eingefangen.\nDie D
 ortmunder Gruppe der Urban Sketchers macht an ihrem regelmäßigen Donnersta
 gstermin einen spontanen Ausflug ins Depot und freut sich auf alle\, die s
 ich anschließen möchten. Es sind keinerlei Vorkenntnisse erforderlich und 
 die Teilnahme ist kostenlos.\nWer seinen Stil und Lieblingsstift zum Skizz
 enzeichnen noch nicht gefunden hat\, kann unbesorgt sein: Für Neulinge ste
 ht eine kleine Auswahl an Finelinern\, Bleistiften und Aquarellfarben zu V
 erfügung. Depotlerin Heike Kollakowski und Urban Sketcher Guido Wessel sin
 d mit am Start.\nTermin: \nDO 07.12. 18:00 Uhr\n&nbsp\;\n&nbsp\;\nKids Cam
 p – jetzt sprechen wir!\nLesen\, basteln und quatschen am Indoor-Lagerfeue
 r: Die Kids aus dem Quartierstreff Concordia machen es sich mit Fräulein N
 ina im Kultur Camp gemütlich. Egal welche Sprache\, wir verständigen uns k
 reativ! Geschwister und Freund*innen sind herzlich miteingeladen\, wenn bu
 nte Karten gebastelt werden und wir uns gegenseitig spannende Geschichten 
 erzählen.\nTermin: \nFR 08.12. 14:00 – 17:00\n&nbsp\;\n&nbsp\;\nPlaytime m
 it der Brettspielunion\nBrettspielspaß – ein bezauberndes Wort und die Bre
 ttspielunion Dortmund verwandelt das Kultur Camp zum HotSpot für alle Spie
 lwütigen. Es stehen verschiedene Spiele zur Verfügung\, eigene dürfen natü
 rlich auch mitgebacht werden. Da im Camp nur eine bestimmte Anzahl an Tisc
 hen Platz findet\, gibt es zwei Slots\, für die man sich anmelden kann. Am
  Indoor-Lagerfeuer chillen\, ein Getränk zu sich nehmen oder einfach mal ü
 ber die Schultern der anderen Spieler*innen schauen ist natürlich jederzei
 t und auch ohne Anmeldung möglich. Depotlerin Susanne Schütz schmeißt sich
  mit ins Spielfigurengetümmel und ist Ansprechpartnerin vor Ort.\nTermin: 
 \nSA 09.12.\nSlot 1: 16:00 – 19:00 Uhr\nSlot 2: 19:00 – 24:00 Uhr\nBegrenz
 te Plätze\, Anmeldung für die einzelnen Slots per Mail an: pr@depotdortmun
 d.de\n&nbsp\;\n&nbsp\;\nKultur Camp @ OPEN HOUSE\nBeim OPEN HOUSE steppt i
 n der Immermannstraße 29 der Bär: In der ehemaligen Straßenbahnwerkstatt i
 st Tag der offenen Tür und es gibt jede Menge Programm mit Führungen und W
 orkshopangeboten. Wer eine kleine Pause vom trubeligen Geschehen braucht\,
  kann es sich im Kultur Camp in der Galerie gemütlich machen. Kreativ wird
  es mit Katharina Schulz: Aus einem Sammelsurium aus allerhand Materialien
  können Kinder crazy Krabbeltiere und Figuren basteln\, die das Camp bevöl
 kern.\nTermin: \nSo 10.12 14:00 – 18:00 Uhr\n&nbsp\;\nGefördert von:\n&nbs
 p\;\n&nbsp\;&nbsp\; &nbsp\;&nbsp\;&nbsp\;&nbsp\; &nbsp\; &nbsp\; &nbsp\; &
 nbsp\;&nbsp\;
DTSTART:20231205T170000Z
DTEND:20231205T170000Z
GEO:00;0
LOCATION:
ORGANIZER:
SEQUENCE:1
SUMMARY:Kultur Camp
TRANSP:OPAQUE
URL:https://www.depotdortmund.de/447-kultur-camp/2023-12-05-18-00.html
END:VEVENT
END:VCALENDAR
