BEGIN:VCALENDAR
VERSION:2.0
PRODID:-//Depot Dortmund//NONSGML kigkonsult.se iCalcreator 2.30.10//
CALSCALE:GREGORIAN
METHOD:PUBLISH
UID:8e782e5f-26c3-40a2-a0a7-63fd8ba44b8d
X-WR-CALNAME:iCagenda
X-WR-CALDESC:Event Management Extension for Joomla!
X-WR-RELCALID:3E26604A-50F4-4449-8B3E-E4F4932D05B5
X-WR-TIMEZONE:Europe/Berlin
BEGIN:VTIMEZONE
TZID:Europe/Berlin
BEGIN:STANDARD
TZNAME:CET
DTSTART:20231029T030000
TZOFFSETFROM:+0200
TZOFFSETTO:+0100
RDATE:20241027T030000
END:STANDARD
BEGIN:DAYLIGHT
TZNAME:CEST
DTSTART:20230326T020000
TZOFFSETFROM:+0100
TZOFFSETTO:+0200
RDATE:20240331T020000
RDATE:20250330T020000
END:DAYLIGHT
END:VTIMEZONE
BEGIN:VEVENT
UID:fc0a5743-eaf9-4f83-bc9d-485705089a8a
DTSTAMP:20260425T102150Z
CATEGORIES:Märkte & Festivals
CLASS:PUBLIC
DESCRIPTION;ALTREP="CID:<FFFF__=0ABBE548DFE235B58f9e8a93d@coffeebean.com>":
 Der zweite Nachtflohmarkt im neuen Jahr findet am 16.03.2024 statt!\nDie N
 achtflohmarkt-Crew lädt im März zu einer zweiten Runde Trödel\, Musik und 
 Kulturprogramm. Wie immer warten in der Mittelhalle zahlreiche private Stä
 nde mit Vintage-Schätzen und Dachbodenfunden. Dazu gibt es Livemusik\, Get
 ränke und kulinarische Kleinigkeiten\, die einen abendlichen Flohmarktbumm
 el noch schöner machen.\nAUF DER BÜHNE: &gt\;&gt\;JÖRG&lt\;&lt\;JÖRG ist e
 in musikalischer Allrounder der keine Schubladen bedient\, aber sein ganze
 s Herz dem musikalischen Grenzgängerdasein widmet. Bekannt durch 20 Jahre 
 Punk-Rock-Eskalation auf regionalen und überregionalen Bühnen\, greift er 
 nun die Akustikgitarre und nimmt euch mit auf eine Reise\, irgendwo zwisch
 en Neo Grunge\, Liedermacherkultur und Best of 90s Alternatives.\nAN DEN P
 LATTENTELLERN: &gt\;&gt\;MR. CUTTER&lt\;&lt\;Selector Mr. Cutter\, bekannt
 er DJ der Dortmunder Szene\, vewöhnt euch Nachteulen und Schnäpchenjagende
  mit Reggae\, Rocksteady\, Roots Reggae Sounds euren Nachtflohmarkt. Sodas
 s dieser auch in den Ohren ein schönes Erlebnis wird.\nAM FOODTRUCK: Pomme
 s für die herzhafte Grundlage.\nAM KAFFEESTAND: Kaffee - &amp\; Teespezial
 itäten\, die die Lebensgeister wecken sowie frische Crêpes vom Grünen Salo
 n\n Bitte beachten: Für einen Stand beim Nachtflohmarkt kann man sich nur 
 online über die entsprechende Anmeldemaske bewerben. Die Anmeldephase für 
 den Nachtflohmarkt am 16. März 2024 ist beeendet und es ist keine Anmeldun
 g mehr möglich!\nDa es sich um eine Veranstaltung für privaten Trödel hand
 elt\, müssen gewerbliche Verkäufer*innen leider draußen bleiben. Telefonis
 che Anmeldungen und Anfragen für Stände per E-Mail können aus organisatori
 schen Gründen leider nicht berücksichtigt werden! Wir bitten daher von die
 sen Anfragen abzusehen und sich - im Zeitraum der Anmeldephase - direkt üb
 er das Online-Formular zu bewerben. Um den Start der Anmeldephase nicht zu
  verpassen\, abonniert doch am besten unseren Newsletter oder folgt uns au
 f Facebook und Instagram.\n Hinweis: Das Mitbringen von Hunden ist auf dem
  Nachtflohmarkt nicht erlaubt!\n&nbsp\;\nDer Nachtflohmarkt wird gesponser
 t von:\n
DTSTART:20240316T160000Z
DTEND:20240316T160000Z
GEO:00;0
LOCATION:Halle
ORGANIZER:
SEQUENCE:1
SUMMARY:Nachtflohmarkt
TRANSP:OPAQUE
URL:https://www.depotdortmund.de/443-nachtflohmarkt-5/2024-03-16-17-00.html
END:VEVENT
END:VCALENDAR
