BEGIN:VCALENDAR
VERSION:2.0
PRODID:-//Depot Dortmund//NONSGML kigkonsult.se iCalcreator 2.30.10//
CALSCALE:GREGORIAN
METHOD:PUBLISH
UID:86b734ff-92bb-4d41-b2c7-d2415186b18d
X-WR-CALNAME:iCagenda
X-WR-CALDESC:Event Management Extension for Joomla!
X-WR-RELCALID:3E26604A-50F4-4449-8B3E-E4F4932D05B5
X-WR-TIMEZONE:Europe/Berlin
BEGIN:VTIMEZONE
TZID:Europe/Berlin
BEGIN:STANDARD
TZNAME:CET
DTSTART:20231029T030000
TZOFFSETFROM:+0200
TZOFFSETTO:+0100
RDATE:20241027T030000
END:STANDARD
BEGIN:DAYLIGHT
TZNAME:CEST
DTSTART:20230326T020000
TZOFFSETFROM:+0100
TZOFFSETTO:+0200
RDATE:20240331T020000
RDATE:20250330T020000
END:DAYLIGHT
END:VTIMEZONE
BEGIN:VEVENT
UID:eeb02fb7-7ae3-4bb9-8037-e37d0b47e692
DTSTAMP:20260423T111447Z
CATEGORIES:Märkte & Festivals
CLASS:PUBLIC
DESCRIPTION;ALTREP="CID:<FFFF__=0ABBE548DFE235B58f9e8a93d@coffeebean.com>":
 SAVE THE DATE: Der erste Nachtflohmarkt im neuen Jahr findet am 27.01.2024
  statt!\n&nbsp\;\nDie Nachtflohmarkt-Crew lädt im Januar zu einer winterli
 chen Runde Trödel\, Musik und Kulturprogramm. Wie immer warten in der Mitt
 elhalle zahlreiche private Stände mit Vintage-Schätzen und Dachbodenfunden
 . Dazu gibt es Livemusik\, Getränke und kulinarische Kleinigkeiten\, die e
 inen abendlichen Flohmarktbummel noch schöner machen.\n&nbsp\;\nAUF DER BÜ
 HNE UND AN DEN PLATTENTELLERN:&nbsp\;ME*HU – Delegation – MINIMAL: Die Mus
 ikexpert*innen von der HU sind ein vor 3 Jahren gegründetes Veranstaltungs
 - und DJ-Kollektiv. Sie haben eine Fable für Trallafitti mit Vinyl und Tas
 chenrechnergeräten. Für die Nacht im Depot bringen sie euch sphärische Liv
 e-Set-Momente und minimalistisch basslastigen Sound auf Schallplatte mit.&
 nbsp\;\n&nbsp\;\nAN DER THEKE: Frische Waffelvariationen für alle Zuckersc
 hnuten.\nAM FOODTRUCK: Pommes für die herzhafte Grundlage.\nAM KAFFEESTAND
 : Kaffee - &amp\; Teespezialitäten\, die die Lebensgeister wecken\n Bitte 
 beachten: Für einen Stand beim Nachtflohmarkt kann man sich nur online übe
 r die entsprechende Anmeldemaske bewerben.\nDie Bewerbungsphase für die St
 ände am 27.01.24 ist beendet und es können keine neuen Anmeldungen oder An
 fragen für die Warteliste mehr angenommen werden!\n&nbsp\;\nDa es sich um 
 eine Veranstaltung für privaten Trödel handelt\, müssen gewerbliche Verkäu
 fer*innen beim Nachtflohmakt leider draußen bleiben. Telefonische Anmeldun
 gen und Anfragen für Stände per E-Mail können aus organisatorischen Gründe
 n leider nicht berücksichtigt werden! Wir bitten daher von diesen Anfragen
  abzusehen und sich - im Zeitraum der Anmeldephase - direkt über das Onlin
 e-Formular zu bewerben. Um den Start der Anmeldephase nicht zu verpassen\,
  abonniert doch am besten unseren Newsletter oder folgt uns auf Facebook u
 nd Instagram.\n Hinweis: Das Mitbringen von Hunden ist auf dem Nachtflohma
 rkt nicht erlaubt!\n&nbsp\;\nNachtflohmarkt im Depot\nTermin:SA 27.01.2024
 \nÖffnungszeiten:17:00 bis 23:00 Uhr\nOrt:Halle im Depot\nEintritt:3 Euro 
 / bis 13 Jahre Eintritt frei!\n&nbsp\;  Gefördert von:\n&nbsp\;\n&nbsp\;&n
 bsp\;&nbsp\;&nbsp\;&nbsp\;&nbsp\;&nbsp\;&nbsp\;&nbsp\;
DTSTART:20240127T160000Z
DTEND:20240127T160000Z
GEO:00;0
LOCATION:Mittelhalle im Depot
ORGANIZER;CN=:depot@depotdortmund.de
SEQUENCE:1
SUMMARY:Nachtflohmarkt
TRANSP:OPAQUE
URL:https://www.depotdortmund.de/442-nachtflohmarkt/2024-01-27-17-00.html
END:VEVENT
END:VCALENDAR
