BEGIN:VCALENDAR
VERSION:2.0
PRODID:-//Depot Dortmund//NONSGML kigkonsult.se iCalcreator 2.30.10//
CALSCALE:GREGORIAN
METHOD:PUBLISH
UID:92dba4ea-4724-454d-a73d-093b82f1c539
X-WR-CALNAME:iCagenda
X-WR-CALDESC:Event Management Extension for Joomla!
X-WR-RELCALID:3E26604A-50F4-4449-8B3E-E4F4932D05B5
X-WR-TIMEZONE:Europe/Berlin
BEGIN:VTIMEZONE
TZID:Europe/Berlin
BEGIN:STANDARD
TZNAME:CET
DTSTART:20231029T030000
TZOFFSETFROM:+0200
TZOFFSETTO:+0100
RDATE:20241027T030000
END:STANDARD
BEGIN:DAYLIGHT
TZNAME:CEST
DTSTART:20230326T020000
TZOFFSETFROM:+0100
TZOFFSETTO:+0200
RDATE:20240331T020000
RDATE:20250330T020000
END:DAYLIGHT
END:VTIMEZONE
BEGIN:VEVENT
UID:1f250355-43fd-4963-b4a8-01f199e1a71e
DTSTAMP:20260425T114831Z
CATEGORIES:Ausstellung
CLASS:PUBLIC
DESCRIPTION;ALTREP="CID:<FFFF__=0ABBE548DFE235B58f9e8a93d@coffeebean.com>":
 Der seit dem Jahr 1977 bestehende Wettbewerb „Grafik aus Dortmund“ wird or
 ganisiert von der Sparkasse Dortmundund dem Kulturbüro Dortmund\, unterstü
 tzt vom Dortmunder Kunstverein.\nEr bietet 36 Künstler*innen die Chance\, 
 jeweils zwei Kunstwerke in einer Ausstellung im&nbsp\; Kulturort Depot Dor
 tmund zu präsentieren und zum Kauf anzubieten. Aus den Teilnehmenden wählt
  eine Jury sechs Künstler*innen aus\, die mit ihren beiden Werken als Sieb
 druckdeditionen die Monatsblätter des Grafikkalenders zieren.\nEine wunder
 bare Gelegenheit\, das künstlerisches Genre der Grafik und die Arbeiten vo
 n lokalen Künstler*innen näher kennenzulernen!\n&nbsp\;\nVernissage am 17.
  November 2023 um 18:00 Uhr\nBegrüßung und offizielle Übergabe des Grafikk
 alenders 2024 durch Thomas Westphal\, Oberbürgermeister der Stadt Dortmund
 \, und Sebastian Junker\, stellvertretendes Vorstandsmitglied der Sparkass
 e Dortmund.\n- Duo Matthias Dymke und Anwar Manuel Alam- Sektempfang\n&nbs
 p\;\nFinissage am 10. Dezember 2023 von 14:00 – 18:00 Uhr\n- Musik\, Punsc
 h und Waffeln zum zweiten Advent- Siebdruckwerkstatt für Groß und Klein- T
 ombola &amp\; Verkauf des Grafikkalenders 2024 (limitierte Auflage)- Verka
 uf zugunsten des „Malteser Herzensbus – aufsuchende Obdachlosenhilfe“- (Dr
 uck-)Workshops\, Führungen\, offene Ateliers und mehr\nAm 10.12.2023 finde
 t ebenfalls 'Open House - Der Tag der offenen Tür im Depot' statt\n&nbsp\;
 \nAusstellungszeitraum:\nFR 17.11.2023 - SO 10.12.2023\nÖffnungszeiten:\nM
 O bis MI geschlossenDO &amp\; FR 17:00 – 20:00 UhrSA &amp\; SO 16:00 – 19:
 00 Uhr\nOrt:\nMittelhalle im DepotEintritt:\nfrei!\n&nbsp\;\nTitelbild: Ro
 land Gorecki\n&nbsp\;\n\n&nbsp\;\n&nbsp\;\n&nbsp\;
DTSTART:20231201T160000Z
DTEND:20231201T160000Z
GEO:00;0
LOCATION:Mittelhalle im Depot
ORGANIZER;CN=:kultur@depotdortmund.de
SEQUENCE:1
SUMMARY:Grafik aus Dortmund 2023
TRANSP:OPAQUE
URL:https://www.depotdortmund.de/433-grafik-aus-dortmund-3/2023-12-01-17-00
 .html
END:VEVENT
END:VCALENDAR
