BEGIN:VCALENDAR
VERSION:2.0
PRODID:-//Depot Dortmund//NONSGML kigkonsult.se iCalcreator 2.30.10//
CALSCALE:GREGORIAN
METHOD:PUBLISH
UID:5e3228a2-028f-4f5c-a81c-035eee50a4df
X-WR-CALNAME:iCagenda
X-WR-CALDESC:Event Management Extension for Joomla!
X-WR-RELCALID:3E26604A-50F4-4449-8B3E-E4F4932D05B5
X-WR-TIMEZONE:Europe/Berlin
BEGIN:VTIMEZONE
TZID:Europe/Berlin
BEGIN:STANDARD
TZNAME:CET
DTSTART:20231029T030000
TZOFFSETFROM:+0200
TZOFFSETTO:+0100
RDATE:20241027T030000
END:STANDARD
BEGIN:DAYLIGHT
TZNAME:CEST
DTSTART:20230326T020000
TZOFFSETFROM:+0100
TZOFFSETTO:+0200
RDATE:20240331T020000
RDATE:20250330T020000
END:DAYLIGHT
END:VTIMEZONE
BEGIN:VEVENT
UID:bbfb8ffa-a9b7-4d1f-a77a-77a15d3a940d
DTSTAMP:20260425T114121Z
CATEGORIES:Märkte & Festivals
CLASS:PUBLIC
DESCRIPTION;ALTREP="CID:<FFFF__=0ABBE548DFE235B58f9e8a93d@coffeebean.com>":
 Die beliebte Reihe 'Kunst &amp\; Punsch' verwandelt die Galerie im Depot i
 n einen kleinen\, feinen Weihnachtsmarkt für Kunst. Die Künstler*innen des
  Hauses laden herzlich zum Stöbern und Entdecken ein. Gezeigt werden Bilde
 r im kleinen Format\, Zeichnungen\, Objekte\, Postkarten und vieles mehr. 
 Das alles zu fairen Preisen – hier findet sich bestimmt das ein oder ander
 e nicht alltägliche Weihnachtsgeschenk!\n&nbsp\;\nTeilnehmende Künstler*in
 nen:\nSusanne Beringer\, Christiane Heetmann\, Karoline Hoffmann-Pudelko\,
  Michael Jaspert\, Pia Orfanidis\, Gine Selle\, Susanne Schütz\, Bärbel Th
 ier-Jaspert und Barbara Wozniak sowie als Gastkünstlerinnen Eva Hammoudo \
 , Olga Krakovyak\, Susanne Grytzka und Viola Welker.\n&nbsp\;\nWie der Nam
 e schon verrät\, gibt es zum gemütlichen Plausch auch wieder heißen Punsch
  und Glühwein! Für musikalische Begleitung sorgt am Samstag und Sonntag di
 e Musikerin San Froyo mit ihrer Ukulele.\n&nbsp\;\nTermine &amp\; Öffnungs
 zeiten:\nFR 15.12.2023 von 17:00 bis 20:00 Uhr - Eintritt frei!\nSA 16.12.
  &amp\; SO 17.12.2023 von 12:00 bis 18:00 Uhr parallel zum Design Gipfel.
 \n&nbsp\;\nBitte beachten: Am Wochenende kann Kunst und Punsch nur in Komb
 ination mit dem Design Gipfel besucht werden! Eintritt: 5 €\, ermäßigt 3 €
 \, Kinder bis 14 Jahre frei\n&nbsp\;\nOrt:\nGalerie im Depot\n&nbsp\;\nGef
 ördert von:\n\n&nbsp\;
DTSTART:20231216T110000Z
DTEND:20231216T110000Z
GEO:00;0
LOCATION:Galerie im Depot
ORGANIZER;CN=:kultur@depotdortmund.de
SEQUENCE:1
SUMMARY:Kunst & Punsch
TRANSP:OPAQUE
URL:https://www.depotdortmund.de/427-kunst-punsch/2023-12-16-12-00.html
END:VEVENT
END:VCALENDAR
