BEGIN:VCALENDAR
VERSION:2.0
PRODID:-//Depot Dortmund//NONSGML kigkonsult.se iCalcreator 2.30.10//
CALSCALE:GREGORIAN
METHOD:PUBLISH
UID:374ebeae-d9e5-4d10-b11b-dc425a95c5ff
X-WR-CALNAME:iCagenda
X-WR-CALDESC:Event Management Extension for Joomla!
X-WR-RELCALID:3E26604A-50F4-4449-8B3E-E4F4932D05B5
X-WR-TIMEZONE:Europe/Berlin
BEGIN:VTIMEZONE
TZID:Europe/Berlin
BEGIN:STANDARD
TZNAME:CET
DTSTART:20231029T030000
TZOFFSETFROM:+0200
TZOFFSETTO:+0100
RDATE:20241027T030000
END:STANDARD
BEGIN:DAYLIGHT
TZNAME:CEST
DTSTART:20230326T020000
TZOFFSETFROM:+0100
TZOFFSETTO:+0200
RDATE:20240331T020000
RDATE:20250330T020000
END:DAYLIGHT
END:VTIMEZONE
BEGIN:VEVENT
UID:246e0087-922d-4636-98c7-0599f583f535
DTSTAMP:20260425T114353Z
CATEGORIES:Märkte & Festivals
CLASS:PUBLIC
DESCRIPTION;ALTREP="CID:<FFFF__=0ABBE548DFE235B58f9e8a93d@coffeebean.com>":
 Am 16.-17. Dezember verwandelt sich das Depot zum Design Gipfel in einen g
 anz besonderen Design-Weihnachtsmarkt. Rund 70 Designer*innen und kreative
  Köpfe sind am Start und bieten die verschiedensten Produkte an: Fashion u
 nd Streetware\, Schmuck für jeden Geschmack\, Taschen oder stylische Acces
 soires für den Winter. Aber auch Fotografien und Grafiken sowie Schönes fü
 r Daheim und Delikatessen warten auf Besucher*innen.  Viele Produkte sind 
 mit viel Liebe zum Detail von Hand gemacht oder nachhaltig produziert. Dam
 it ist der Design Gipfel die perfekte Gelegenheit\, um nachhaltig schöne P
 rodukte zu erstehen und damit noch lokale Kreative zu unterstützen.  Die K
 ünstler*innen aus dem Depot sind dieses Jahr mit Kunst &amp\; Punsch mit v
 on der Partie - der Besuch ist im Eintritt inklusive!\n&nbsp\;\n&nbsp\;\nT
 ermin:\nSA 16.12.2023 &amp\; SO 17.12.2023\nÖffnungszeiten:\njeweils von 1
 2:00 bis 18:00 Uhr\nEintritt:\n5 €\, ermäßigt 3 €\, Kinder bis 14 Jahre fr
 ei\; Tickets gibt es vor Ort an der Tageskasse\nOrt:\nHalle im Depot\n&nbs
 p\;\nBitte beachten: Hunde dürfen zum Design Gipfel nicht mitgebracht werd
 en!\n&nbsp\;\nTitelfoto: Julian Kuhnke
DTSTART:20231216T110000Z
DTEND:20231216T110000Z
GEO:00;0
LOCATION:Mittelhalle im Depot
ORGANIZER:
SEQUENCE:1
SUMMARY:Design Gipfel
TRANSP:OPAQUE
URL:https://www.depotdortmund.de/426-design-gipfel-5/2023-12-16-12-00.html
END:VEVENT
END:VCALENDAR
