BEGIN:VCALENDAR
VERSION:2.0
PRODID:-//Depot Dortmund//NONSGML kigkonsult.se iCalcreator 2.30.10//
CALSCALE:GREGORIAN
METHOD:PUBLISH
UID:e849f302-5fb6-4e38-bd4e-87d91860591c
X-WR-CALNAME:iCagenda
X-WR-CALDESC:Event Management Extension for Joomla!
X-WR-RELCALID:3E26604A-50F4-4449-8B3E-E4F4932D05B5
X-WR-TIMEZONE:Europe/Berlin
BEGIN:VTIMEZONE
TZID:Europe/Berlin
BEGIN:STANDARD
TZNAME:CET
DTSTART:20231029T030000
TZOFFSETFROM:+0200
TZOFFSETTO:+0100
RDATE:20241027T030000
END:STANDARD
BEGIN:DAYLIGHT
TZNAME:CEST
DTSTART:20230326T020000
TZOFFSETFROM:+0100
TZOFFSETTO:+0200
RDATE:20240331T020000
RDATE:20250330T020000
END:DAYLIGHT
END:VTIMEZONE
BEGIN:VEVENT
UID:9312625b-1e05-45a6-aa69-5af1f82b53a8
DTSTAMP:20260425T132808Z
CATEGORIES:Sonstiges
CLASS:PUBLIC
DESCRIPTION;ALTREP="CID:<FFFF__=0ABBE548DFE235B58f9e8a93d@coffeebean.com>":
 Ein großes Haus\, viel zu entdecken: Das Depot lädt herzlich dazu ein\, de
 n Kulturort in der ehemaligen Straßenbahnwerkstatt kennenzulernen. Egal ob
  Kinder\, Kunstschaffende oder Nachbarschaft – alle sind willkommen. Einfa
 ch vorbeischauen\, stöbern und mitmachen!\n&nbsp\;\nFührungen – Treffpunkt
  Foyer Mittelhalle\n&nbsp\;\n&nbsp\;\n15:00 &amp\; 16:00 Uhr - Ab durchs H
 aus:\nHier gibt es Einblicke in das gesamte Gebäude\, die ansässigen Insti
 tutionen und das Arbeiten der Künstler:innen vor Ort.\n&nbsp\;\n&nbsp\;\n1
 6:30 &amp\; 17:00 Uhr - Hinein in die Vergangenheit:\nWir steigen in den s
 onst unzugänglichen Luftschutzkeller und seine Geschichte ein.\n&nbsp\;\n&
 nbsp\;\n14:15 / 15:15 / 16:15 Uhr - Erkunden und drucken:\nWelche Formen u
 nd Details verbergen sich im Haus und wie kann man sie auf Papier bringen?
 \n&nbsp\;\nWorkshops\, Upcycling &amp\; offene Räume\nVon 14:00 bis 18:00 
 Uhr lautet das Motto jede Menge kreatives Miteinander. Die Türen stehen of
 fen\, es sind keine Vorkenntnisse erforderlich und es ist für jedes Alter 
 etwas dabei!\n&nbsp\;\n\nDruckwerkstatt\nIm Fotostudio dreht sich beim Ope
 n House alles rund um das Thema Druck. Es können verschiedene Drucktechnik
 en wie z.B. Linoldruck und Risographie ausprobiert werden. Mit am Start si
 nd Felix Peters und das Unterdruck Kollektiv. Wer zuvor bei der Kreativfüh
 rung 'Erkunden und drucken' mitgemacht hat\, bekommt hier die Gelegenheit\
 , seine Entdeckungen auf Papier zu bringen.\n&nbsp\;\n&nbsp\;\nKultur Camp
  in der Galerie\nGemütlich abhängen am Indoor-Lagerfeuer oder crazy Krabbe
 ltiere und Kreaturen aus verschiedensten Materialien basteln - in der Gale
 rie im Depot wartet ausgelassene Camp-Atmosphäre.\n&nbsp\;\n&nbsp\;\nButto
 ns &amp\; Geschnipsel\nMit alten Zeitschriften\, Prospekten\, Landkarten\,
  Stempeln\, Pailletten\, Glitzer und viel Spaß wird im Atelier von Pia Orf
 anidis geschnipselt\, collagiert und zu guter Letzt alles in Form von Butt
 ons Anstecker gepresst. Es sind alle Materialien vorhanden\, eigene Motive
  (auf Papier) können auf Wunsch mitgebracht werden.&nbsp\;\n&nbsp\;\n&nbsp
 \;\nKartenmanufaktur\nBärbel Thier-Jaspert und Michael Jaspert gestalten i
 n ihrem Atelier mit den Besucher*innen Karten und Lesezeichen\, die mit Pr
 ägedrucken und Stempeln eine individuelle Note erhalten.\n&nbsp\;\n&nbsp\;
 \nWeihnachtliches Basteln\nMit fleißiger Unterstützung von PIDOS Kinderclu
 b und der DEW21 entstehen aus alten Buchseiten Weihnachtsengel und Weihnac
 htssterne für die festliche Dekoration zu Hause.\n&nbsp\;\n&nbsp\;\nDress 
 up – Verkleidungen aus Licht und Schatten\nIn der Parzelle im Depot wird m
 it der Lust an der Verkleidung gespielt. Die interaktive Schattenperforman
 ce und Ausstellung 'Dress Up' lädt dazu ein\, in verschiedene Rollen zu sc
 hlüpfen und Outfits aus Licht und Schatten zu entwerfen und auszuprobieren
 .\n&nbsp\;\n&nbsp\;\nItalienisches Weihnachtsfeeling\nDer Italienverein lä
 dt zum gemütlichen Beisammensein und veranstaltet eine typisch italienisch
 e Tombola\, die ähnlich dem bei uns bekannten Spiel Bingo ist.\n&nbsp\;\n&
 nbsp\;\nFinissage Grafik aus Dortmund\nIn der Mittelhalle wartet die Ausst
 ellung 'Grafik aus Dortmund' mit Arbeiten von lokalen Künstler*innen und e
 inem bunten Programm zur Finissage.\n&nbsp\;\n&nbsp\;\nKurzfilmprogramm - 
 14:00 bis 16:30 Uhr\nFilmfans sind beim Open House im sweetSixteen Kino be
 stens aufgehoben. Gezeigt wird eine bunte Mischung aus der kinoeigenen Sch
 atzkiste voller Kurzfilme.\n&nbsp\;\n&nbsp\;\nGlasschmelzofen in Aktion - 
 17:15 Uhr\nHeide Kemper gibt in ihrem Atelier Einblick in den heißen Glass
 chmelzofen und vermittelt Hintergrundwissen zum Verfahren der Glasverschme
 lzung. Dauer 15 Minuten / Treffpunkt: Atelier\n&nbsp\;\n&nbsp\;\nHeiße Waf
 feln\, Punsch\, Snacks und Getränke - beim Open House ist für Verpflegung 
 bestens gesorgt!&nbsp\;&nbsp\;&nbsp\;&nbsp\;&nbsp\;&nbsp\;&nbsp\;&nbsp\;&n
 bsp\;&nbsp\;&nbsp\;&nbsp\;&nbsp\;&nbsp\;&nbsp\;&nbsp\;&nbsp\;&nbsp\;&nbsp\
 ;&nbsp\;&nbsp\;&nbsp\;&nbsp\;&nbsp\;&nbsp\;&nbsp\;&nbsp\;&nbsp\;&nbsp\;&nb
 sp\;&nbsp\;&nbsp\;&nbsp\;&nbsp\;&nbsp\;&nbsp\;&nbsp\;&nbsp\;&nbsp\;&nbsp\;
 &nbsp\;&nbsp\;&nbsp\;&nbsp\;&nbsp\;&nbsp\;&nbsp\;&nbsp\;&nbsp\;&nbsp\;&nbs
 p\;&nbsp\;&nbsp\;&nbsp\;&nbsp\;&nbsp\;&nbsp\;&nbsp\;&nbsp\;&nbsp\;&nbsp\;&
 nbsp\;&nbsp\;&nbsp\;&nbsp\;&nbsp\;&nbsp\;&nbsp\;&nbsp\;&nbsp\;&nbsp\;&nbsp
 \;&nbsp\;&nbsp\;&nbsp\;&nbsp\;&nbsp\;&nbsp\;&nbsp\;&nbsp\;&nbsp\;&nbsp\;&n
 bsp\;&nbsp\;&nbsp\;&nbsp\;&nbsp\;&nbsp\;&nbsp\;&nbsp\;&nbsp\;&nbsp\;&nbsp\
 ;&nbsp\;&nbsp\;&nbsp\;&nbsp\;&nbsp\;&nbsp\;&nbsp\;&nbsp\;&nbsp\;&nbsp\;\n&
 nbsp\;\n&nbsp\;\nOPEN HOUSE IM DEPOT\nTermin:\nSO 10.12.2023\nÖffnungszeit
 :\n14:00 - 18:00\nOrt:\nGesamtes Haus\nEintritt:\nFrei!\n&nbsp\;\nFotos:&n
 bsp\;\nLeopold Achilles\, Depot e.V\, Angelika Hoffmann\, Roland Gorecki\,
  Daniel Sadrowski\, Pia Orfanidis\, Bärbel Thier-Jaspert\, Jasmin SchSchei
 ker\, Mick Haupt\, Sabina Sturzu.\n&nbsp\;\nGefördert von:\n&nbsp\;\n&nbsp
 \;&nbsp\; &nbsp\;&nbsp\;&nbsp\;&nbsp\; &nbsp\; &nbsp\; &nbsp\; &nbsp\; \n&
 nbsp\;&nbsp\;&nbsp\;&nbsp\;&nbsp\;&nbsp\;&nbsp\;&nbsp\;\n&nbsp\;&nbsp\;&nb
 sp\;&nbsp\;&nbsp\;&nbsp\;&nbsp\;&nbsp\; &nbsp\; &nbsp\;&nbsp\;\n&nbsp\;&nb
 sp\;&nbsp\;&nbsp\;&nbsp\;&nbsp\;\n&nbsp\;\n&nbsp\;
DTSTART:20231210T130000Z
DTEND:20231210T170000Z
GEO:00;0
LOCATION:Depot Dortmund
ORGANIZER;CN=:kultur@depotdortmund.de
SEQUENCE:1
SUMMARY:OPEN HOUSE
TRANSP:OPAQUE
URL:https://www.depotdortmund.de/420-open-house-2.html
END:VEVENT
END:VCALENDAR
