BEGIN:VCALENDAR
VERSION:2.0
PRODID:-//Depot Dortmund//NONSGML kigkonsult.se iCalcreator 2.30.10//
CALSCALE:GREGORIAN
METHOD:PUBLISH
UID:20b9c905-8a09-4352-b080-92c0de1925e6
X-WR-CALNAME:iCagenda
X-WR-CALDESC:Event Management Extension for Joomla!
X-WR-RELCALID:3E26604A-50F4-4449-8B3E-E4F4932D05B5
X-WR-TIMEZONE:Europe/Berlin
BEGIN:VTIMEZONE
TZID:Europe/Berlin
BEGIN:STANDARD
TZNAME:CET
DTSTART:20211031T030000
TZOFFSETFROM:+0200
TZOFFSETTO:+0100
RDATE:20221030T030000
END:STANDARD
BEGIN:DAYLIGHT
TZNAME:CEST
DTSTART:20210328T020000
TZOFFSETFROM:+0100
TZOFFSETTO:+0200
RDATE:20220327T020000
RDATE:20230326T020000
END:DAYLIGHT
END:VTIMEZONE
BEGIN:VEVENT
UID:38741142-2819-454f-bfb2-07a609cbd38e
DTSTAMP:20260421T163149Z
CATEGORIES:Theater\, Tanz & Bühne
CLASS:PUBLIC
DESCRIPTION;ALTREP="CID:<FFFF__=0ABBE548DFE235B58f9e8a93d@coffeebean.com>":
 \n\nLiebes Publikum\,\n\n\nleider müssen wir die Veranstaltung der Tanzwer
 kstatt 'Von hier aus betrachtet' am 26. und 27.03. krankheitsbedingt absag
 en. Bereits gekaufte Karten werden erstattet.\n\n.........................
 ..........................................................................
 ..........................................................................
 ..........................................................................
 ............\nVon hier aus betrachtet\nEin Tanztheaterprojekt der Tanzwerk
 statt KOBIseminare\n&nbsp\;\n„Und was seht ihr jetzt?'„Nix''Vielleicht ist
  es ein bisschen heller.'„Stimmt. So ein bisschen heller ist es schon.'\nW
 as gestern war\, sind heute Erinnerungen\, die sich in Einzelteilen zu ein
 em Leben zusammenfügen\, das aus der Gegenwart in die Vergangenheit schiel
 t und auf die Zukunft wartet. Mit Tanz und Theater machen 13 Frauen der Ta
 nzwerkstatt eine Bestandaufnahmen ihrer Erinnerungen und blicken in die Zu
 kunft. Dabei sortieren ordentlich durch und mit Humor\, Sinn und Sinnlichk
 eit bewahren sie auf\, lassen los und schaffen freie Sicht auf das\, was k
 ommen wird.\n&nbsp\;\nEine Kooperation mit KOBIseminare: Tanzwerkstatt\nKo
 nzept und Choreografie: Birgit Götz\nLicht: Vincent Westerweller\n&nbsp\;
 \nTermin:&nbsp\;26.03.2022&nbsp\; 20:00 UhrOrt: Theater im DepotTickets:&n
 bsp\;Von hier aus betrachtet Tickets\, Sa\, 26.03.2022 um 20:00 Uhr | Even
 tbrite\n&nbsp\;\n&nbsp\;\n\nUm in der aktuellen Situation gewährleisten zu
  können\, dass Sie sicher ins Theater gehen können und zudem der Einlass u
 nkompliziert abläuft\, bitten wir darum\, die folgenden Punkte zu berücksi
 chtigen:\n- Der Einlass erfolgt voraussichtlich nach der 2G-Regelung. Weis
 en Sie bitte nach\, dass Sie geimpft oder genesen sind.- Wir bitten Sie au
 ch am Sitzplatz eine Maske zu tragen.- Die Hygieneregelung kann kurzfristi
 g je nach aktuellen Vorgaben angepasst werden.\n-Personen\, die sich nicht
  gegen Covid-19 impfen lassen können\, erhalten mit einem entsprechenden N
 achweis ebenfalls Zugang zu unseren Veranstaltungen. Notwendig ist für die
 se Personengruppe ein tagesaktueller negativer Schnelltest. Bitte bringen 
 Sie die entsprechenden Nachweise zur Veranstaltung mit.\n- Wir bitten Sie 
 eine halbe Stunde vor Beginn der Veranstaltung vor Ort zu sein.\n- Tickets
  können ausschließlich über die Online-Plattform Eventbrite erworben werde
 n.\n- Tickets können nicht telefonisch oder per Mail reserviert werden.\n-
  Sollten Sie bei der Bestellung von Tickets Schwierigkeiten haben\, wenden
  Sie sich bitte an:&nbsp\;tickets@theaterimdepot.de\n- Sollten Sie aufgrun
 d einer Seh-\, Geh-\, oder Hör-Beeinträchtigung einen Platz nah an der Büh
 ne benötigen\, melden Sie sich bitte unter: 0231 982120\n\n
DTSTART:20220326T190000Z
DTEND:20220326T190000Z
GEO:00;0
LOCATION:Theater im Depot
ORGANIZER:
SEQUENCE:1
SUMMARY:Tanzwerkstatt: Von hier aus betrachtet
TRANSP:OPAQUE
URL:https://www.depotdortmund.de/254-tanzwerkstatt-von-hier-aus-betrachtet.
 html
END:VEVENT
END:VCALENDAR
