BEGIN:VCALENDAR
VERSION:2.0
PRODID:-//Depot Dortmund//NONSGML kigkonsult.se iCalcreator 2.30.10//
CALSCALE:GREGORIAN
METHOD:PUBLISH
UID:96ccaaf8-9621-4a65-a5bf-5607a2a023d0
X-WR-CALNAME:iCagenda
X-WR-CALDESC:Event Management Extension for Joomla!
X-WR-RELCALID:3E26604A-50F4-4449-8B3E-E4F4932D05B5
X-WR-TIMEZONE:Europe/Berlin
BEGIN:VTIMEZONE
TZID:Europe/Berlin
BEGIN:STANDARD
TZNAME:CET
DTSTART:20211031T030000
TZOFFSETFROM:+0200
TZOFFSETTO:+0100
RDATE:20221030T030000
END:STANDARD
BEGIN:DAYLIGHT
TZNAME:CEST
DTSTART:20210328T020000
TZOFFSETFROM:+0100
TZOFFSETTO:+0200
RDATE:20220327T020000
RDATE:20230326T020000
END:DAYLIGHT
END:VTIMEZONE
BEGIN:VEVENT
UID:5406a2b5-e791-42f5-83b5-e46d35a14922
DTSTAMP:20260421T162902Z
CATEGORIES:Theater\, Tanz & Bühne
CLASS:PUBLIC
DESCRIPTION;ALTREP="CID:<FFFF__=0ABBE548DFE235B58f9e8a93d@coffeebean.com>":
 Scrooge\, der verbissene alte Kaufmann\, quält rücksichtslos unglückliche 
 Schuldner\, demütigt seinen unterbezahlten Sekretär und begegnet seinen Mi
 tmenschen mit Verachtung. Selbst das heranrückende Weihnachtsfest ist für 
 Scrooge nur überflüssig. Doch dann\, in der Weihnachtsnacht\, wird er von 
 einigen Geistern heimgesucht...\nA Christmas Carol ist in vielen Varianten
  gespielt und verfilmt worden. In dieser Bühnenversion wird der Klassiker 
 »gegenwärtig« präsentiert\, mit unkonventionellen Einfällen und live gebac
 kenen-Weihnachtsplätzchen. Ein winterwarmer\, froh-vergnüglicher Theaterab
 end\, der zur Weihnachtszeit Theater und auch Publikum erwärmt\, denn über
  aller »Modernität« bleibt die zeitlose literarische Qualität sowie die im
 mer wieder neu zu stellende Frage nach sozialer Verantwortung und den wahr
 en Werten einer Gesellschaft.\nMit:&nbsp\;Cordula Hein\, Jörg Hentschel\, 
 Thomas Kemper und Sandra WickenburgRegie: Thos&nbsp\;Renneberg\n&nbsp\;\nT
 ermin: 09.12.2021 20:00 UhrOrt: Theater im DepotTickets:&nbsp\;A Christmas
  Carol - Nach Charles Dickens Tickets\, Do\, 09.12.2021 um 20:00 Uhr | Eve
 ntbrite\n\nregulär: 15 €/ ermäßigt*: 8 €\n*gilt für: Schüler:innen\, Studi
 erende\, Bundesfreiwillige\, Kinder/Jugendliche bis 18 Jahre\, Azubis\, Re
 ntner:innen\, Inhaber:innen des Dortmund-Pass\, Inhaber:innen der RUHR.TOP
 CARD\n&nbsp\;\nUm in der aktuellen Situation gewährleisten zu können\, das
 s Sie sicher ins Theater gehen können und zudem der Einlass unkompliziert 
 abläuft\, bitten wir darum\, die folgenden Punkte zu berücksichtigen:\n- D
 er Einlass erfolgt nach der 2G-Regelung. Weisen Sie bitte nach\, dass Sie 
 geimpft oder genesen sind.- Wir bitten Sie auch am Sitzplatz eine Maske zu
  tragen.\n-Personen\, die sich nicht gegen Covid-19 impfen lassen können\,
  erhalten mit einem entsprechenden Nachweis ebenfalls Zugang zu unseren Ve
 ranstaltungen. Notwendig ist für diese Personengruppe ebenso wie für Perso
 nen unter 18 Jahren ein tagesaktueller negativer Schnelltest. Bitte bringe
 n Sie die entsprechenden Nachweise zur Veranstaltung mit.\n- Wir bitten Si
 e eine halbe Stunde vor Beginn der Veranstaltung vor Ort zu sein.\n- Ticke
 ts können ausschließlich über die Online-Plattform Eventbrite oder an der 
 Abendkasse erworben werden.\n- Tickets können nicht telefonisch oder per M
 ail reserviert werden.\n- Sollten Sie bei der Bestellung von Tickets Schwi
 erigkeiten haben\, wenden Sie sich bitte an:&nbsp\;tickets@theaterimdepot.
 de\n- Sollten Sie aufgrund einer Seh-\, Geh-\, oder Hör-Beeinträchtigung e
 inen Platz nah an der Bühne benötigen\, melden Sie sich bitte unter: 0231 
 982120\n
DTSTART:20211209T190000Z
DTEND:20211209T190000Z
GEO:00;0
LOCATION:Theater im Depot
ORGANIZER:
SEQUENCE:1
SUMMARY:A Christmas Carol
TRANSP:OPAQUE
URL:https://www.depotdortmund.de/223-a-christmas-carol.html
END:VEVENT
END:VCALENDAR
