BEGIN:VCALENDAR
VERSION:2.0
PRODID:-//Depot Dortmund//NONSGML kigkonsult.se iCalcreator 2.30.10//
CALSCALE:GREGORIAN
METHOD:PUBLISH
UID:0facc935-289c-45b8-817e-82d866fab434
X-WR-CALNAME:iCagenda
X-WR-CALDESC:Event Management Extension for Joomla!
X-WR-RELCALID:3E26604A-50F4-4449-8B3E-E4F4932D05B5
X-WR-TIMEZONE:Europe/Berlin
BEGIN:VTIMEZONE
TZID:Europe/Berlin
BEGIN:STANDARD
TZNAME:CET
DTSTART:20211031T030000
TZOFFSETFROM:+0200
TZOFFSETTO:+0100
RDATE:20221030T030000
END:STANDARD
BEGIN:DAYLIGHT
TZNAME:CEST
DTSTART:20210328T020000
TZOFFSETFROM:+0100
TZOFFSETTO:+0200
RDATE:20220327T020000
RDATE:20230326T020000
END:DAYLIGHT
END:VTIMEZONE
BEGIN:VEVENT
UID:cd61c396-f514-4aab-bbf4-c14052360493
DTSTAMP:20260419T222459Z
CATEGORIES:Theater\, Tanz & Bühne
CLASS:PUBLIC
DESCRIPTION;ALTREP="CID:<FFFF__=0ABBE548DFE235B58f9e8a93d@coffeebean.com>":
 Körperanarchie trifft auf Cello. Performance auf Live-Musik.Klingt wie ein
  Klopper. Isses auch. Scheitern ist fest im Möglichkeitsraum verankert.\n“
 Eine wütende Frau”&nbsp\;ist ein Stück für weiße alte Männer und solche\, 
 die es werden wollen. Für andere auch.\nEs geht um Stärke\, Unabhängigkeit
 \, Verletzbarkeit\, Superheldinnen\, Lebenshunger\, Freiheit\, Aufmerksamk
 eitsspannen\, Angst\, Wut und -jetzt kommt’s- auch noch intelligent ausfor
 mulierte Sätze. Drei Frauen als Sprachrohr für viele.\nIm Anschluss der Vo
 rstellungen laden die 3 Performerinnen zum Publikumsgespräch\, Austausch\,
  Verbinden und Diskutieren.\n&nbsp\;\nVON UND MIT:Schauspiel: Lisa Sophie 
 Kusz und Elisabeth PleßCello:&nbsp\;Elisabeth Coudoux\nKostüme und Fotos:&
 nbsp\;Viola Sophie SchuldnerVideo und Grafik:&nbsp\;Simon HowarZeichnung:&
 nbsp\;Dr. Sebastian DoheOutside-Eye:&nbsp\;Annika Weitershagen\nLichtdesig
 n:&nbsp\;Elisabeth Pleß&nbsp\;Lichttechnik:&nbsp\;Vincent Westerweller\n&n
 bsp\;\nTermin: 19.11.2021 20:00 UhrOrt:&nbsp\;Theater im DepotTickets:&nbs
 p\;Eine wütende Frau Tickets\, Fr\, 19.11.2021 um 20:00 Uhr | Eventbrite\n
 regulär: 15 €/ ermäßigt*: 8 €*gilt für: Schüler:innen\, Studierende\, Bund
 esfreiwillige\, Kinder/Jugendliche bis 18 Jahre\, Azubis\, Rentner:innen\,
  Inhaber:innen des Dortmund-Pass\, Inhaber:innen der RUHR.TOPCARD\n&nbsp\;
 \nUm in der aktuellen Situation gewährleisten zu können\, dass Sie sicher 
 ins Theater gehen können und zudem der Einlass unkompliziert abläuft\, bit
 ten wir darum\, die folgenden Punkte zu berücksichtigen:\n- Wir bestuhlen 
 wieder voll und bitten Sie daher auch am Sitzplatz eine Maske zu tragen.\n
 - Der Einlass erfolgt nach der 2G-Regelung. Weisen Sie bitte nach\, dass S
 ie geimpft oder genesen sind.\n-Personen\, die sich nicht gegen Covid-19 i
 mpfen lassen können\, erhalten mit einem entsprechenden Nachweis ebenfalls
  Zugang zu unseren Veranstaltungen. Notwendig ist für diese Personengruppe
  ebenso wie für Personen unter 18 Jahren ein tagesaktueller negativer Schn
 elltest. Bitte bringen Sie die entsprechenden Nachweise zur Veranstaltung 
 mit.\n- Wir bitten Sie eine halbe Stunde vor Beginn der Veranstaltung vor 
 Ort zu sein.\n- Tickets können ausschließlich über die Online-Plattform Ev
 entbrite erworben werden.\n- Tickets können nicht telefonisch oder per Mai
 l reserviert werden.\n-&nbsp\;An der Abendkasse können Restkarten nur kurz
  vor Beginn der Veranstaltung erworben werden.\n- Sollten Sie bei der Best
 ellung von Tickets Schwierigkeiten haben\, wenden Sie sich bitte an:&nbsp\
 ;tickets@theaterimdepot.de\n- Sollten Sie aufgrund einer Seh-\, Geh-\, ode
 r Hör-Beeinträchtigung einen Platz nah an der Bühne benötigen\, melden Sie
  sich bitte unter: 0231 982120
DTSTART:20211119T190000Z
DTEND:20211119T190000Z
GEO:00;0
LOCATION:Theater im Depot
ORGANIZER:
SEQUENCE:1
SUMMARY:Eine wütende Frau
TRANSP:OPAQUE
URL:https://www.depotdortmund.de/212-eine-wuetende-frau/2021-11-19-20-00.ht
 ml
END:VEVENT
END:VCALENDAR
